BEGIN:VCALENDAR
VERSION:2.0
PRODID:-//Our Savior&#039;s Lutheran Church - ECPv6.15.16//NONSGML v1.0//EN
CALSCALE:GREGORIAN
METHOD:PUBLISH
X-ORIGINAL-URL:https://superioroslc.com
X-WR-CALDESC:Events for Our Savior&#039;s Lutheran Church
REFRESH-INTERVAL;VALUE=DURATION:PT1H
X-Robots-Tag:noindex
X-PUBLISHED-TTL:PT1H
BEGIN:VTIMEZONE
TZID:America/Chicago
BEGIN:DAYLIGHT
TZOFFSETFROM:-0600
TZOFFSETTO:-0500
TZNAME:CDT
DTSTART:20240310T080000
END:DAYLIGHT
BEGIN:STANDARD
TZOFFSETFROM:-0500
TZOFFSETTO:-0600
TZNAME:CST
DTSTART:20241103T070000
END:STANDARD
BEGIN:DAYLIGHT
TZOFFSETFROM:-0600
TZOFFSETTO:-0500
TZNAME:CDT
DTSTART:20250309T080000
END:DAYLIGHT
BEGIN:STANDARD
TZOFFSETFROM:-0500
TZOFFSETTO:-0600
TZNAME:CST
DTSTART:20251102T070000
END:STANDARD
BEGIN:DAYLIGHT
TZOFFSETFROM:-0600
TZOFFSETTO:-0500
TZNAME:CDT
DTSTART:20260308T080000
END:DAYLIGHT
BEGIN:STANDARD
TZOFFSETFROM:-0500
TZOFFSETTO:-0600
TZNAME:CST
DTSTART:20261101T070000
END:STANDARD
END:VTIMEZONE
BEGIN:VEVENT
DTSTART;TZID=America/Chicago:20251026T093000
DTEND;TZID=America/Chicago:20251026T103000
DTSTAMP:20260424T125101
CREATED:20251001T180553Z
LAST-MODIFIED:20251001T180553Z
UID:7300-1761471000-1761474600@superioroslc.com
SUMMARY:Worship service
DESCRIPTION:
URL:https://superioroslc.com/event/worship-service-274/
CATEGORIES:Worship
END:VEVENT
BEGIN:VEVENT
DTSTART;TZID=America/Chicago:20251022T090000
DTEND;TZID=America/Chicago:20251022T100000
DTSTAMP:20260424T125101
CREATED:20251001T180225Z
LAST-MODIFIED:20251001T180225Z
UID:7290-1761123600-1761127200@superioroslc.com
SUMMARY:New Perspective service
DESCRIPTION:
URL:https://superioroslc.com/event/new-perspective-service-141/
CATEGORIES:Worship
END:VEVENT
BEGIN:VEVENT
DTSTART;TZID=America/Chicago:20251019T093000
DTEND;TZID=America/Chicago:20251019T103000
DTSTAMP:20260424T125101
CREATED:20251001T175558Z
LAST-MODIFIED:20251001T175558Z
UID:7280-1760866200-1760869800@superioroslc.com
SUMMARY:Worship service
DESCRIPTION:
URL:https://superioroslc.com/event/worship-service-273/
CATEGORIES:Worship
END:VEVENT
BEGIN:VEVENT
DTSTART;TZID=America/Chicago:20251015T090000
DTEND;TZID=America/Chicago:20251015T100000
DTSTAMP:20260424T125101
CREATED:20251001T175326Z
LAST-MODIFIED:20251001T175326Z
UID:7272-1760518800-1760522400@superioroslc.com
SUMMARY:New Perspective service
DESCRIPTION:
URL:https://superioroslc.com/event/new-perspective-service-140/
CATEGORIES:Worship
END:VEVENT
BEGIN:VEVENT
DTSTART;TZID=America/Chicago:20251012T093000
DTEND;TZID=America/Chicago:20251012T103000
DTSTAMP:20260424T125101
CREATED:20251001T174903Z
LAST-MODIFIED:20251001T174903Z
UID:7260-1760261400-1760265000@superioroslc.com
SUMMARY:Worship service (New Member inductions)
DESCRIPTION:
URL:https://superioroslc.com/event/worship-service-new-member-inductions/
CATEGORIES:Worship
END:VEVENT
BEGIN:VEVENT
DTSTART;TZID=America/Chicago:20251008T090000
DTEND;TZID=America/Chicago:20251008T100000
DTSTAMP:20260424T125101
CREATED:20251001T174455Z
LAST-MODIFIED:20251001T174455Z
UID:7250-1759914000-1759917600@superioroslc.com
SUMMARY:New Perspective service
DESCRIPTION:
URL:https://superioroslc.com/event/new-perspective-service-139/
CATEGORIES:Worship
END:VEVENT
BEGIN:VEVENT
DTSTART;TZID=America/Chicago:20251005T093000
DTEND;TZID=America/Chicago:20251005T103000
DTSTAMP:20260424T125101
CREATED:20251001T174217Z
LAST-MODIFIED:20251001T174217Z
UID:7242-1759656600-1759660200@superioroslc.com
SUMMARY:Worship service
DESCRIPTION:
URL:https://superioroslc.com/event/worship-service-272/
CATEGORIES:Worship
END:VEVENT
BEGIN:VEVENT
DTSTART;TZID=America/Chicago:20251001T090000
DTEND;TZID=America/Chicago:20251001T100000
DTSTAMP:20260424T125101
CREATED:20251001T173737Z
LAST-MODIFIED:20251001T173737Z
UID:7228-1759309200-1759312800@superioroslc.com
SUMMARY:New Perspective service
DESCRIPTION:
URL:https://superioroslc.com/event/new-perspective-service-138/
CATEGORIES:Worship
END:VEVENT
BEGIN:VEVENT
DTSTART;TZID=America/Chicago:20250928T093000
DTEND;TZID=America/Chicago:20250928T103000
DTSTAMP:20260424T125101
CREATED:20250901T162432Z
LAST-MODIFIED:20250902T162540Z
UID:7204-1759051800-1759055400@superioroslc.com
SUMMARY:Worship service
DESCRIPTION:
URL:https://superioroslc.com/event/worship-service-271/
CATEGORIES:Worship
END:VEVENT
BEGIN:VEVENT
DTSTART;TZID=America/Chicago:20250924T133000
DTEND;TZID=America/Chicago:20250924T143000
DTSTAMP:20260424T125101
CREATED:20250901T162300Z
LAST-MODIFIED:20250902T162341Z
UID:7200-1758720600-1758724200@superioroslc.com
SUMMARY:Harmony House service
DESCRIPTION:
URL:https://superioroslc.com/event/harmony-house-service-26/
CATEGORIES:Worship
END:VEVENT
BEGIN:VEVENT
DTSTART;TZID=America/Chicago:20250924T090000
DTEND;TZID=America/Chicago:20250924T100000
DTSTAMP:20260424T125101
CREATED:20250901T162118Z
LAST-MODIFIED:20250902T162205Z
UID:7196-1758704400-1758708000@superioroslc.com
SUMMARY:New Perspective service
DESCRIPTION:
URL:https://superioroslc.com/event/new-perspective-service-137/
CATEGORIES:Worship
END:VEVENT
BEGIN:VEVENT
DTSTART;TZID=America/Chicago:20250921T100000
DTEND;TZID=America/Chicago:20250921T110000
DTSTAMP:20260424T125101
CREATED:20250901T161719Z
LAST-MODIFIED:20250902T161807Z
UID:7190-1758448800-1758452400@superioroslc.com
SUMMARY:Worship service-Breaking Chains
DESCRIPTION:
URL:https://superioroslc.com/event/worship-service-breaking-chains/
CATEGORIES:Worship
END:VEVENT
BEGIN:VEVENT
DTSTART;TZID=America/Chicago:20250917T090000
DTEND;TZID=America/Chicago:20250917T100000
DTSTAMP:20260424T125101
CREATED:20250901T161404Z
LAST-MODIFIED:20250902T161445Z
UID:7182-1758099600-1758103200@superioroslc.com
SUMMARY:New Perspective service
DESCRIPTION:
URL:https://superioroslc.com/event/new-perspective-service-136/
CATEGORIES:Worship
END:VEVENT
BEGIN:VEVENT
DTSTART;TZID=America/Chicago:20250914T093000
DTEND;TZID=America/Chicago:20250914T103000
DTSTAMP:20260424T125101
CREATED:20250901T161010Z
LAST-MODIFIED:20250902T161048Z
UID:7174-1757842200-1757845800@superioroslc.com
SUMMARY:Worship service
DESCRIPTION:
URL:https://superioroslc.com/event/worship-service-270/
CATEGORIES:Worship
END:VEVENT
BEGIN:VEVENT
DTSTART;TZID=America/Chicago:20250910T090000
DTEND;TZID=America/Chicago:20250910T100000
DTSTAMP:20260424T125101
CREATED:20250901T160647Z
LAST-MODIFIED:20250902T160727Z
UID:7166-1757494800-1757498400@superioroslc.com
SUMMARY:New Perspective service
DESCRIPTION:
URL:https://superioroslc.com/event/new-perspective-service-135/
CATEGORIES:Worship
END:VEVENT
BEGIN:VEVENT
DTSTART;TZID=America/Chicago:20250907T093000
DTEND;TZID=America/Chicago:20250907T103000
DTSTAMP:20260424T125101
CREATED:20250901T160242Z
LAST-MODIFIED:20250902T160321Z
UID:7156-1757237400-1757241000@superioroslc.com
SUMMARY:Worship service
DESCRIPTION:
URL:https://superioroslc.com/event/worship-service-269/
CATEGORIES:Worship
END:VEVENT
BEGIN:VEVENT
DTSTART;TZID=America/Chicago:20250903T090000
DTEND;TZID=America/Chicago:20250903T100000
DTSTAMP:20260424T125101
CREATED:20250901T155932Z
LAST-MODIFIED:20250902T160009Z
UID:7148-1756890000-1756893600@superioroslc.com
SUMMARY:New Perspective service
DESCRIPTION:
URL:https://superioroslc.com/event/new-perspective-service-134/
CATEGORIES:Worship
END:VEVENT
BEGIN:VEVENT
DTSTART;TZID=America/Chicago:20250831T093000
DTEND;TZID=America/Chicago:20250831T103000
DTSTAMP:20260424T125101
CREATED:20250802T034156Z
LAST-MODIFIED:20250802T034156Z
UID:7126-1756632600-1756636200@superioroslc.com
SUMMARY:Worship service
DESCRIPTION:
URL:https://superioroslc.com/event/worship-service-268/
CATEGORIES:Worship
END:VEVENT
BEGIN:VEVENT
DTSTART;TZID=America/Chicago:20250827T133000
DTEND;TZID=America/Chicago:20250827T143000
DTSTAMP:20260424T125101
CREATED:20250802T034055Z
LAST-MODIFIED:20250802T034055Z
UID:7122-1756301400-1756305000@superioroslc.com
SUMMARY:Harmony House service
DESCRIPTION:
URL:https://superioroslc.com/event/harmony-house-service-25/
CATEGORIES:Worship
END:VEVENT
BEGIN:VEVENT
DTSTART;TZID=America/Chicago:20250827T090000
DTEND;TZID=America/Chicago:20250827T100000
DTSTAMP:20260424T125101
CREATED:20250802T033944Z
LAST-MODIFIED:20250802T033944Z
UID:7118-1756285200-1756288800@superioroslc.com
SUMMARY:New Perspective service
DESCRIPTION:
URL:https://superioroslc.com/event/new-perspective-service-133/
CATEGORIES:Worship
END:VEVENT
BEGIN:VEVENT
DTSTART;TZID=America/Chicago:20250824T093000
DTEND;TZID=America/Chicago:20250824T103000
DTSTAMP:20260424T125101
CREATED:20250802T033839Z
LAST-MODIFIED:20250802T033839Z
UID:7114-1756027800-1756031400@superioroslc.com
SUMMARY:Worship service
DESCRIPTION:
URL:https://superioroslc.com/event/worship-service-267/
CATEGORIES:Worship
END:VEVENT
BEGIN:VEVENT
DTSTART;TZID=America/Chicago:20250820T090000
DTEND;TZID=America/Chicago:20250820T100000
DTSTAMP:20260424T125101
CREATED:20250802T033726Z
LAST-MODIFIED:20250802T033726Z
UID:7110-1755680400-1755684000@superioroslc.com
SUMMARY:New Perspective service
DESCRIPTION:
URL:https://superioroslc.com/event/new-perspective-service-132/
CATEGORIES:Worship
END:VEVENT
BEGIN:VEVENT
DTSTART;TZID=America/Chicago:20250817T100000
DTEND;TZID=America/Chicago:20250817T110000
DTSTAMP:20260424T125101
CREATED:20250802T033522Z
LAST-MODIFIED:20250802T033522Z
UID:7104-1755424800-1755428400@superioroslc.com
SUMMARY:Worship service (Billings Park)
DESCRIPTION:
URL:https://superioroslc.com/event/worship-service-billings-park/
CATEGORIES:Worship
END:VEVENT
BEGIN:VEVENT
DTSTART;TZID=America/Chicago:20250813T090000
DTEND;TZID=America/Chicago:20250813T100000
DTSTAMP:20260424T125101
CREATED:20250802T033355Z
LAST-MODIFIED:20250802T033412Z
UID:7100-1755075600-1755079200@superioroslc.com
SUMMARY:New Perspective service
DESCRIPTION:
URL:https://superioroslc.com/event/new-perspective-service-131/
CATEGORIES:Worship
END:VEVENT
BEGIN:VEVENT
DTSTART;TZID=America/Chicago:20250810T093000
DTEND;TZID=America/Chicago:20250810T103000
DTSTAMP:20260424T125101
CREATED:20250802T032925Z
LAST-MODIFIED:20250802T032925Z
UID:7088-1754818200-1754821800@superioroslc.com
SUMMARY:Worship service
DESCRIPTION:
URL:https://superioroslc.com/event/worship-service-266/
CATEGORIES:Worship
END:VEVENT
BEGIN:VEVENT
DTSTART;TZID=America/Chicago:20250806T090000
DTEND;TZID=America/Chicago:20250806T100000
DTSTAMP:20260424T125101
CREATED:20250802T032714Z
LAST-MODIFIED:20250802T032714Z
UID:7082-1754470800-1754474400@superioroslc.com
SUMMARY:New Perspective service
DESCRIPTION:
URL:https://superioroslc.com/event/new-perspective-service-130/
CATEGORIES:Worship
END:VEVENT
BEGIN:VEVENT
DTSTART;TZID=America/Chicago:20250803T093000
DTEND;TZID=America/Chicago:20250803T103000
DTSTAMP:20260424T125101
CREATED:20250802T032403Z
LAST-MODIFIED:20250802T032403Z
UID:7076-1754213400-1754217000@superioroslc.com
SUMMARY:Worship service
DESCRIPTION:
URL:https://superioroslc.com/event/worship-service-265/
CATEGORIES:Worship
END:VEVENT
BEGIN:VEVENT
DTSTART;TZID=America/Chicago:20250730T133000
DTEND;TZID=America/Chicago:20250730T143000
DTSTAMP:20260424T125101
CREATED:20250701T201231Z
LAST-MODIFIED:20250703T201302Z
UID:7040-1753882200-1753885800@superioroslc.com
SUMMARY:Harmony House
DESCRIPTION:
URL:https://superioroslc.com/event/harmony-house-24/
CATEGORIES:Worship
END:VEVENT
BEGIN:VEVENT
DTSTART;TZID=America/Chicago:20250730T090000
DTEND;TZID=America/Chicago:20250730T100000
DTSTAMP:20260424T125101
CREATED:20250701T201111Z
LAST-MODIFIED:20250703T201143Z
UID:7036-1753866000-1753869600@superioroslc.com
SUMMARY:New Perspective service
DESCRIPTION:
URL:https://superioroslc.com/event/new-perspective-service-129/
CATEGORIES:Worship
END:VEVENT
BEGIN:VEVENT
DTSTART;TZID=America/Chicago:20250727T093000
DTEND;TZID=America/Chicago:20250727T103000
DTSTAMP:20260424T125101
CREATED:20250701T200958Z
LAST-MODIFIED:20250703T201029Z
UID:7032-1753608600-1753612200@superioroslc.com
SUMMARY:Worship service
DESCRIPTION:
URL:https://superioroslc.com/event/worship-service-264/
CATEGORIES:Worship
END:VEVENT
END:VCALENDAR