BEGIN:VCALENDAR
VERSION:2.0
PRODID:-//Our Savior&#039;s Lutheran Church - ECPv6.15.16//NONSGML v1.0//EN
CALSCALE:GREGORIAN
METHOD:PUBLISH
X-ORIGINAL-URL:https://superioroslc.com
X-WR-CALDESC:Events for Our Savior&#039;s Lutheran Church
REFRESH-INTERVAL;VALUE=DURATION:PT1H
X-Robots-Tag:noindex
X-PUBLISHED-TTL:PT1H
BEGIN:VTIMEZONE
TZID:America/Chicago
BEGIN:DAYLIGHT
TZOFFSETFROM:-0600
TZOFFSETTO:-0500
TZNAME:CDT
DTSTART:20240310T080000
END:DAYLIGHT
BEGIN:STANDARD
TZOFFSETFROM:-0500
TZOFFSETTO:-0600
TZNAME:CST
DTSTART:20241103T070000
END:STANDARD
BEGIN:DAYLIGHT
TZOFFSETFROM:-0600
TZOFFSETTO:-0500
TZNAME:CDT
DTSTART:20250309T080000
END:DAYLIGHT
BEGIN:STANDARD
TZOFFSETFROM:-0500
TZOFFSETTO:-0600
TZNAME:CST
DTSTART:20251102T070000
END:STANDARD
BEGIN:DAYLIGHT
TZOFFSETFROM:-0600
TZOFFSETTO:-0500
TZNAME:CDT
DTSTART:20260308T080000
END:DAYLIGHT
BEGIN:STANDARD
TZOFFSETFROM:-0500
TZOFFSETTO:-0600
TZNAME:CST
DTSTART:20261101T070000
END:STANDARD
BEGIN:DAYLIGHT
TZOFFSETFROM:-0600
TZOFFSETTO:-0500
TZNAME:CDT
DTSTART:20270314T080000
END:DAYLIGHT
BEGIN:STANDARD
TZOFFSETFROM:-0500
TZOFFSETTO:-0600
TZNAME:CST
DTSTART:20271107T070000
END:STANDARD
END:VTIMEZONE
BEGIN:VEVENT
DTSTART;TZID=America/Chicago:20260218T090000
DTEND;TZID=America/Chicago:20260218T100000
DTSTAMP:20260416T144117
CREATED:20260201T182248Z
LAST-MODIFIED:20260204T182334Z
UID:7753-1771405200-1771408800@superioroslc.com
SUMMARY:New Perspective service
DESCRIPTION:
URL:https://superioroslc.com/event/new-perspective-service-156/
CATEGORIES:Worship
END:VEVENT
BEGIN:VEVENT
DTSTART;TZID=America/Chicago:20260215T100000
DTEND;TZID=America/Chicago:20260215T110000
DTSTAMP:20260416T144117
CREATED:20260201T181601Z
LAST-MODIFIED:20260204T181651Z
UID:7741-1771149600-1771153200@superioroslc.com
SUMMARY:Joint service @ Pilgrim
DESCRIPTION:
URL:https://superioroslc.com/event/joint-service-pilgrim-2/
CATEGORIES:Worship
END:VEVENT
BEGIN:VEVENT
DTSTART;TZID=America/Chicago:20260211T090000
DTEND;TZID=America/Chicago:20260211T100000
DTSTAMP:20260416T144117
CREATED:20260201T181149Z
LAST-MODIFIED:20260204T181233Z
UID:7731-1770800400-1770804000@superioroslc.com
SUMMARY:New Perspective service
DESCRIPTION:
URL:https://superioroslc.com/event/new-perspective-service-155/
CATEGORIES:Worship
END:VEVENT
BEGIN:VEVENT
DTSTART;TZID=America/Chicago:20260208T093000
DTEND;TZID=America/Chicago:20260208T103000
DTSTAMP:20260416T144117
CREATED:20260201T180627Z
LAST-MODIFIED:20260204T180659Z
UID:7717-1770543000-1770546600@superioroslc.com
SUMMARY:Worship service
DESCRIPTION:
URL:https://superioroslc.com/event/worship-service-288/
CATEGORIES:Worship
END:VEVENT
BEGIN:VEVENT
DTSTART;TZID=America/Chicago:20260204T090000
DTEND;TZID=America/Chicago:20260204T100000
DTSTAMP:20260416T144117
CREATED:20260201T180227Z
LAST-MODIFIED:20260204T180306Z
UID:7707-1770195600-1770199200@superioroslc.com
SUMMARY:New Perspective service
DESCRIPTION:
URL:https://superioroslc.com/event/new-perspective-service-154/
CATEGORIES:Worship
END:VEVENT
BEGIN:VEVENT
DTSTART;TZID=America/Chicago:20260201T093000
DTEND;TZID=America/Chicago:20260201T103000
DTSTAMP:20260416T144117
CREATED:20260201T175933Z
LAST-MODIFIED:20260204T180016Z
UID:7699-1769938200-1769941800@superioroslc.com
SUMMARY:Worship service
DESCRIPTION:
URL:https://superioroslc.com/event/worship-service-287/
CATEGORIES:Worship
END:VEVENT
BEGIN:VEVENT
DTSTART;TZID=America/Chicago:20260128T133000
DTEND;TZID=America/Chicago:20260128T143000
DTSTAMP:20260416T144117
CREATED:20260101T204214Z
LAST-MODIFIED:20260106T204257Z
UID:7664-1769607000-1769610600@superioroslc.com
SUMMARY:Harmony House
DESCRIPTION:
URL:https://superioroslc.com/event/harmony-house-27/
CATEGORIES:Worship
END:VEVENT
BEGIN:VEVENT
DTSTART;TZID=America/Chicago:20260128T090000
DTEND;TZID=America/Chicago:20260128T100000
DTSTAMP:20260416T144117
CREATED:20260101T204058Z
LAST-MODIFIED:20260106T204132Z
UID:7660-1769590800-1769594400@superioroslc.com
SUMMARY:New Perspective service
DESCRIPTION:
URL:https://superioroslc.com/event/new-perspective-service-153/
CATEGORIES:Worship
END:VEVENT
BEGIN:VEVENT
DTSTART;TZID=America/Chicago:20260125T093000
DTEND;TZID=America/Chicago:20260125T103000
DTSTAMP:20260416T144117
CREATED:20260101T203633Z
LAST-MODIFIED:20260106T203723Z
UID:7650-1769333400-1769337000@superioroslc.com
SUMMARY:Worship service
DESCRIPTION:
URL:https://superioroslc.com/event/worship-service-286/
CATEGORIES:Worship
END:VEVENT
BEGIN:VEVENT
DTSTART;TZID=America/Chicago:20260121T090000
DTEND;TZID=America/Chicago:20260121T100000
DTSTAMP:20260416T144117
CREATED:20260101T203258Z
LAST-MODIFIED:20260106T203349Z
UID:7642-1768986000-1768989600@superioroslc.com
SUMMARY:New Perspective service
DESCRIPTION:
URL:https://superioroslc.com/event/new-perspective-service-152/
CATEGORIES:Worship
END:VEVENT
BEGIN:VEVENT
DTSTART;TZID=America/Chicago:20260118T093000
DTEND;TZID=America/Chicago:20260118T103000
DTSTAMP:20260416T144117
CREATED:20260101T202800Z
LAST-MODIFIED:20260106T202838Z
UID:7631-1768728600-1768732200@superioroslc.com
SUMMARY:Worship service
DESCRIPTION:
URL:https://superioroslc.com/event/worship-service-285/
CATEGORIES:Worship
END:VEVENT
BEGIN:VEVENT
DTSTART;TZID=America/Chicago:20260114T090000
DTEND;TZID=America/Chicago:20260114T100000
DTSTAMP:20260416T144117
CREATED:20260101T202341Z
LAST-MODIFIED:20260106T202425Z
UID:7623-1768381200-1768384800@superioroslc.com
SUMMARY:New Perspective service
DESCRIPTION:
URL:https://superioroslc.com/event/new-perspective-service-151/
CATEGORIES:Worship
END:VEVENT
BEGIN:VEVENT
DTSTART;TZID=America/Chicago:20260111T093000
DTEND;TZID=America/Chicago:20260111T103000
DTSTAMP:20260416T144117
CREATED:20260101T201654Z
LAST-MODIFIED:20260106T201734Z
UID:7607-1768123800-1768127400@superioroslc.com
SUMMARY:Worship service
DESCRIPTION:
URL:https://superioroslc.com/event/worship-service-284/
CATEGORIES:Worship
END:VEVENT
BEGIN:VEVENT
DTSTART;TZID=America/Chicago:20260107T090000
DTEND;TZID=America/Chicago:20260107T100000
DTSTAMP:20260416T144117
CREATED:20260101T201314Z
LAST-MODIFIED:20260106T201350Z
UID:7597-1767776400-1767780000@superioroslc.com
SUMMARY:New Perspective service
DESCRIPTION:
URL:https://superioroslc.com/event/new-perspective-service-150/
CATEGORIES:Worship
END:VEVENT
BEGIN:VEVENT
DTSTART;TZID=America/Chicago:20260104T093000
DTEND;TZID=America/Chicago:20260104T103000
DTSTAMP:20260416T144117
CREATED:20260101T201019Z
LAST-MODIFIED:20260106T201102Z
UID:7589-1767519000-1767522600@superioroslc.com
SUMMARY:Worship service
DESCRIPTION:
URL:https://superioroslc.com/event/worship-service-283/
CATEGORIES:Worship
END:VEVENT
BEGIN:VEVENT
DTSTART;TZID=America/Chicago:20251228T093000
DTEND;TZID=America/Chicago:20251228T103000
DTSTAMP:20260416T144117
CREATED:20251201T191525Z
LAST-MODIFIED:20251203T191559Z
UID:7538-1766914200-1766917800@superioroslc.com
SUMMARY:Worship service
DESCRIPTION:
URL:https://superioroslc.com/event/worship-service-282/
CATEGORIES:Worship
END:VEVENT
BEGIN:VEVENT
DTSTART;TZID=America/Chicago:20251221T093000
DTEND;TZID=America/Chicago:20251221T103000
DTSTAMP:20260416T144117
CREATED:20251201T191058Z
LAST-MODIFIED:20251203T191133Z
UID:7524-1766309400-1766313000@superioroslc.com
SUMMARY:Worship service
DESCRIPTION:
URL:https://superioroslc.com/event/worship-service-281/
CATEGORIES:Worship
END:VEVENT
BEGIN:VEVENT
DTSTART;TZID=America/Chicago:20251217T090000
DTEND;TZID=America/Chicago:20251217T100000
DTSTAMP:20260416T144117
CREATED:20251201T190823Z
LAST-MODIFIED:20251203T190856Z
UID:7516-1765962000-1765965600@superioroslc.com
SUMMARY:New Perspective service
DESCRIPTION:
URL:https://superioroslc.com/event/new-perspective-service-149/
CATEGORIES:Worship
END:VEVENT
BEGIN:VEVENT
DTSTART;TZID=America/Chicago:20251214T093000
DTEND;TZID=America/Chicago:20251214T103000
DTSTAMP:20260416T144117
CREATED:20251201T190310Z
LAST-MODIFIED:20251203T190356Z
UID:7502-1765704600-1765708200@superioroslc.com
SUMMARY:Christmas program/service
DESCRIPTION:
URL:https://superioroslc.com/event/christmas-program-service/
CATEGORIES:Worship
END:VEVENT
BEGIN:VEVENT
DTSTART;TZID=America/Chicago:20251210T090000
DTEND;TZID=America/Chicago:20251210T100000
DTSTAMP:20260416T144117
CREATED:20251201T190014Z
LAST-MODIFIED:20251203T190052Z
UID:7494-1765357200-1765360800@superioroslc.com
SUMMARY:New Perspective service
DESCRIPTION:
URL:https://superioroslc.com/event/new-perspective-service-148/
CATEGORIES:Worship
END:VEVENT
BEGIN:VEVENT
DTSTART;TZID=America/Chicago:20251207T093000
DTEND;TZID=America/Chicago:20251207T103000
DTSTAMP:20260416T144117
CREATED:20251201T185541Z
LAST-MODIFIED:20251203T185613Z
UID:7482-1765099800-1765103400@superioroslc.com
SUMMARY:Worship service
DESCRIPTION:
URL:https://superioroslc.com/event/worship-service-280/
CATEGORIES:Worship
END:VEVENT
BEGIN:VEVENT
DTSTART;TZID=America/Chicago:20251203T090000
DTEND;TZID=America/Chicago:20251203T100000
DTSTAMP:20260416T144117
CREATED:20251201T185113Z
LAST-MODIFIED:20251203T185149Z
UID:7470-1764752400-1764756000@superioroslc.com
SUMMARY:New Perspective service
DESCRIPTION:
URL:https://superioroslc.com/event/new-perspective-service-147/
CATEGORIES:Worship
END:VEVENT
BEGIN:VEVENT
DTSTART;TZID=America/Chicago:20251130T093000
DTEND;TZID=America/Chicago:20251130T103000
DTSTAMP:20260416T144117
CREATED:20251102T024933Z
LAST-MODIFIED:20251108T035007Z
UID:7438-1764495000-1764498600@superioroslc.com
SUMMARY:Worship service
DESCRIPTION:
URL:https://superioroslc.com/event/worship-service-279/
CATEGORIES:Worship
END:VEVENT
BEGIN:VEVENT
DTSTART;TZID=America/Chicago:20251126T133000
DTEND;TZID=America/Chicago:20251126T143000
DTSTAMP:20260416T144117
CREATED:20251102T024649Z
LAST-MODIFIED:20251108T034728Z
UID:7430-1764163800-1764167400@superioroslc.com
SUMMARY:Harmony House
DESCRIPTION:
URL:https://superioroslc.com/event/harmony-house-26/
CATEGORIES:Worship
END:VEVENT
BEGIN:VEVENT
DTSTART;TZID=America/Chicago:20251126T090000
DTEND;TZID=America/Chicago:20251126T100000
DTSTAMP:20260416T144117
CREATED:20251102T024516Z
LAST-MODIFIED:20251108T034600Z
UID:7426-1764147600-1764151200@superioroslc.com
SUMMARY:New Perspective service
DESCRIPTION:
URL:https://superioroslc.com/event/new-perspective-service-146/
CATEGORIES:Worship
END:VEVENT
BEGIN:VEVENT
DTSTART;TZID=America/Chicago:20251123T093000
DTEND;TZID=America/Chicago:20251123T103000
DTSTAMP:20260416T144117
CREATED:20251102T024236Z
LAST-MODIFIED:20251108T034308Z
UID:7418-1763890200-1763893800@superioroslc.com
SUMMARY:Worship service
DESCRIPTION:
URL:https://superioroslc.com/event/worship-service-278/
CATEGORIES:Worship
END:VEVENT
BEGIN:VEVENT
DTSTART;TZID=America/Chicago:20251119T090000
DTEND;TZID=America/Chicago:20251119T100000
DTSTAMP:20260416T144117
CREATED:20251102T023940Z
LAST-MODIFIED:20251108T034021Z
UID:7410-1763542800-1763546400@superioroslc.com
SUMMARY:New Perspective service
DESCRIPTION:
URL:https://superioroslc.com/event/new-perspective-service-145/
CATEGORIES:Worship
END:VEVENT
BEGIN:VEVENT
DTSTART;TZID=America/Chicago:20251116T093000
DTEND;TZID=America/Chicago:20251116T103000
DTSTAMP:20260416T144117
CREATED:20251102T023502Z
LAST-MODIFIED:20251108T033540Z
UID:7396-1763285400-1763289000@superioroslc.com
SUMMARY:Worship service
DESCRIPTION:
URL:https://superioroslc.com/event/worship-service-277/
CATEGORIES:Worship
END:VEVENT
BEGIN:VEVENT
DTSTART;TZID=America/Chicago:20251112T090000
DTEND;TZID=America/Chicago:20251112T100000
DTSTAMP:20260416T144117
CREATED:20251102T022931Z
LAST-MODIFIED:20251108T033008Z
UID:7382-1762938000-1762941600@superioroslc.com
SUMMARY:New Perspective service
DESCRIPTION:
URL:https://superioroslc.com/event/new-perspective-service-144/
CATEGORIES:Worship
END:VEVENT
BEGIN:VEVENT
DTSTART;TZID=America/Chicago:20251109T093000
DTEND;TZID=America/Chicago:20251109T103000
DTSTAMP:20260416T144117
CREATED:20251102T022554Z
LAST-MODIFIED:20251108T032630Z
UID:7372-1762680600-1762684200@superioroslc.com
SUMMARY:Worship service
DESCRIPTION:
URL:https://superioroslc.com/event/worship-service-276/
CATEGORIES:Worship
END:VEVENT
END:VCALENDAR