BEGIN:VCALENDAR
VERSION:2.0
PRODID:-//Our Savior&#039;s Lutheran Church - ECPv6.15.16//NONSGML v1.0//EN
CALSCALE:GREGORIAN
METHOD:PUBLISH
X-ORIGINAL-URL:https://superioroslc.com
X-WR-CALDESC:Events for Our Savior&#039;s Lutheran Church
REFRESH-INTERVAL;VALUE=DURATION:PT1H
X-Robots-Tag:noindex
X-PUBLISHED-TTL:PT1H
BEGIN:VTIMEZONE
TZID:America/Chicago
BEGIN:DAYLIGHT
TZOFFSETFROM:-0600
TZOFFSETTO:-0500
TZNAME:CDT
DTSTART:20240310T080000
END:DAYLIGHT
BEGIN:STANDARD
TZOFFSETFROM:-0500
TZOFFSETTO:-0600
TZNAME:CST
DTSTART:20241103T070000
END:STANDARD
BEGIN:DAYLIGHT
TZOFFSETFROM:-0600
TZOFFSETTO:-0500
TZNAME:CDT
DTSTART:20250309T080000
END:DAYLIGHT
BEGIN:STANDARD
TZOFFSETFROM:-0500
TZOFFSETTO:-0600
TZNAME:CST
DTSTART:20251102T070000
END:STANDARD
BEGIN:DAYLIGHT
TZOFFSETFROM:-0600
TZOFFSETTO:-0500
TZNAME:CDT
DTSTART:20260308T080000
END:DAYLIGHT
BEGIN:STANDARD
TZOFFSETFROM:-0500
TZOFFSETTO:-0600
TZNAME:CST
DTSTART:20261101T070000
END:STANDARD
END:VTIMEZONE
BEGIN:VEVENT
DTSTART;TZID=America/Chicago:20250514T090000
DTEND;TZID=America/Chicago:20250514T100000
DTSTAMP:20260425T081042
CREATED:20250501T164706Z
LAST-MODIFIED:20250501T164706Z
UID:6835-1747213200-1747216800@superioroslc.com
SUMMARY:New Perspective service
DESCRIPTION:
URL:https://superioroslc.com/event/new-perspective-service-120/
CATEGORIES:Worship
END:VEVENT
BEGIN:VEVENT
DTSTART;TZID=America/Chicago:20250511T093000
DTEND;TZID=America/Chicago:20250511T103000
DTSTAMP:20260425T081042
CREATED:20250501T163428Z
LAST-MODIFIED:20250501T163428Z
UID:6823-1746955800-1746959400@superioroslc.com
SUMMARY:Worship service (baptisms)
DESCRIPTION:
URL:https://superioroslc.com/event/worship-service-baptisms/
CATEGORIES:Worship
END:VEVENT
BEGIN:VEVENT
DTSTART;TZID=America/Chicago:20250507T090000
DTEND;TZID=America/Chicago:20250507T100000
DTSTAMP:20260425T081042
CREATED:20250501T162825Z
LAST-MODIFIED:20250501T162826Z
UID:6811-1746608400-1746612000@superioroslc.com
SUMMARY:New Perspective service
DESCRIPTION:
URL:https://superioroslc.com/event/new-perspective-service-119/
CATEGORIES:Worship
END:VEVENT
BEGIN:VEVENT
DTSTART;TZID=America/Chicago:20250504T093000
DTEND;TZID=America/Chicago:20250504T103000
DTSTAMP:20260425T081042
CREATED:20250501T162622Z
LAST-MODIFIED:20250501T162622Z
UID:6805-1746351000-1746354600@superioroslc.com
SUMMARY:Worship service
DESCRIPTION:
URL:https://superioroslc.com/event/worship-service-258/
CATEGORIES:Worship
END:VEVENT
BEGIN:VEVENT
DTSTART;TZID=America/Chicago:20250430T133000
DTEND;TZID=America/Chicago:20250430T143000
DTSTAMP:20260425T081042
CREATED:20250402T043240Z
LAST-MODIFIED:20250402T043240Z
UID:6770-1746019800-1746023400@superioroslc.com
SUMMARY:Harmony House
DESCRIPTION:
URL:https://superioroslc.com/event/harmony-house-18/
CATEGORIES:Worship
END:VEVENT
BEGIN:VEVENT
DTSTART;TZID=America/Chicago:20250430T090000
DTEND;TZID=America/Chicago:20250430T100000
DTSTAMP:20260425T081042
CREATED:20250402T043125Z
LAST-MODIFIED:20250402T043125Z
UID:6766-1746003600-1746007200@superioroslc.com
SUMMARY:New Perspective service
DESCRIPTION:
URL:https://superioroslc.com/event/new-perspective-service-118/
CATEGORIES:Worship
END:VEVENT
BEGIN:VEVENT
DTSTART;TZID=America/Chicago:20250427T093000
DTEND;TZID=America/Chicago:20250427T103000
DTSTAMP:20260425T081042
CREATED:20250402T042927Z
LAST-MODIFIED:20250402T042927Z
UID:6760-1745746200-1745749800@superioroslc.com
SUMMARY:Worship service
DESCRIPTION:
URL:https://superioroslc.com/event/worship-service-257/
CATEGORIES:Worship
END:VEVENT
BEGIN:VEVENT
DTSTART;TZID=America/Chicago:20250423T090000
DTEND;TZID=America/Chicago:20250423T100000
DTSTAMP:20260425T081042
CREATED:20250402T042617Z
LAST-MODIFIED:20250402T042617Z
UID:6750-1745398800-1745402400@superioroslc.com
SUMMARY:New Perspective service
DESCRIPTION:
URL:https://superioroslc.com/event/new-perspective-service-117/
CATEGORIES:Worship
END:VEVENT
BEGIN:VEVENT
DTSTART;TZID=America/Chicago:20250420T093000
DTEND;TZID=America/Chicago:20250420T103000
DTSTAMP:20260425T081042
CREATED:20250402T042458Z
LAST-MODIFIED:20250402T042458Z
UID:6746-1745141400-1745145000@superioroslc.com
SUMMARY:Worship service
DESCRIPTION:
URL:https://superioroslc.com/event/worship-service-256/
CATEGORIES:Worship
END:VEVENT
BEGIN:VEVENT
DTSTART;TZID=America/Chicago:20250419T183000
DTEND;TZID=America/Chicago:20250419T193000
DTSTAMP:20260425T081042
CREATED:20250402T042406Z
LAST-MODIFIED:20250402T042406Z
UID:6744-1745087400-1745091000@superioroslc.com
SUMMARY:Worship service
DESCRIPTION:
URL:https://superioroslc.com/event/worship-service-255/
CATEGORIES:Worship
END:VEVENT
BEGIN:VEVENT
DTSTART;TZID=America/Chicago:20250418T130000
DTEND;TZID=America/Chicago:20250418T140000
DTSTAMP:20260425T081042
CREATED:20250402T042318Z
LAST-MODIFIED:20250402T042318Z
UID:6742-1744981200-1744984800@superioroslc.com
SUMMARY:Worship service @ Concordia
DESCRIPTION:
URL:https://superioroslc.com/event/worship-service-concordia/
CATEGORIES:Worship
END:VEVENT
BEGIN:VEVENT
DTSTART;TZID=America/Chicago:20250417T183000
DTEND;TZID=America/Chicago:20250417T193000
DTSTAMP:20260425T081042
CREATED:20250402T042233Z
LAST-MODIFIED:20250402T042233Z
UID:6740-1744914600-1744918200@superioroslc.com
SUMMARY:Worship service
DESCRIPTION:
URL:https://superioroslc.com/event/worship-service-254/
CATEGORIES:Worship
END:VEVENT
BEGIN:VEVENT
DTSTART;TZID=America/Chicago:20250416T090000
DTEND;TZID=America/Chicago:20250416T100000
DTSTAMP:20260425T081042
CREATED:20250402T041938Z
LAST-MODIFIED:20250402T041938Z
UID:6732-1744794000-1744797600@superioroslc.com
SUMMARY:New Perspective service
DESCRIPTION:
URL:https://superioroslc.com/event/new-perspective-service-116/
CATEGORIES:Worship
END:VEVENT
BEGIN:VEVENT
DTSTART;TZID=America/Chicago:20250413T093000
DTEND;TZID=America/Chicago:20250413T103000
DTSTAMP:20260425T081042
CREATED:20250402T041653Z
LAST-MODIFIED:20250402T041653Z
UID:6724-1744536600-1744540200@superioroslc.com
SUMMARY:Worship service
DESCRIPTION:
URL:https://superioroslc.com/event/worship-service-253/
CATEGORIES:Worship
END:VEVENT
BEGIN:VEVENT
DTSTART;TZID=America/Chicago:20250413T093000
DTEND;TZID=America/Chicago:20250413T103000
DTSTAMP:20260425T081042
CREATED:20250402T041537Z
LAST-MODIFIED:20250402T041537Z
UID:6722-1744536600-1744540200@superioroslc.com
SUMMARY:Worship service
DESCRIPTION:
URL:https://superioroslc.com/event/worship-service-252/
CATEGORIES:Worship
END:VEVENT
BEGIN:VEVENT
DTSTART;TZID=America/Chicago:20250409T183000
DTEND;TZID=America/Chicago:20250409T190000
DTSTAMP:20260425T081042
CREATED:20250402T041241Z
LAST-MODIFIED:20250402T041241Z
UID:6715-1744223400-1744225200@superioroslc.com
SUMMARY:Worship service
DESCRIPTION:
URL:https://superioroslc.com/event/worship-service-251/
CATEGORIES:Worship
END:VEVENT
BEGIN:VEVENT
DTSTART;TZID=America/Chicago:20250409T090000
DTEND;TZID=America/Chicago:20250409T100000
DTSTAMP:20260425T081042
CREATED:20250402T040910Z
LAST-MODIFIED:20250402T040910Z
UID:6707-1744189200-1744192800@superioroslc.com
SUMMARY:New Perspective service
DESCRIPTION:
URL:https://superioroslc.com/event/new-perspective-service-115/
CATEGORIES:Worship
END:VEVENT
BEGIN:VEVENT
DTSTART;TZID=America/Chicago:20250406T093000
DTEND;TZID=America/Chicago:20250406T103000
DTSTAMP:20260425T081042
CREATED:20250402T040454Z
LAST-MODIFIED:20250402T040454Z
UID:6695-1743931800-1743935400@superioroslc.com
SUMMARY:Worship service
DESCRIPTION:
URL:https://superioroslc.com/event/worship-service-250/
CATEGORIES:Worship
END:VEVENT
BEGIN:VEVENT
DTSTART;TZID=America/Chicago:20250402T183000
DTEND;TZID=America/Chicago:20250402T190000
DTSTAMP:20260425T081042
CREATED:20250402T040206Z
LAST-MODIFIED:20250402T040206Z
UID:6688-1743618600-1743620400@superioroslc.com
SUMMARY:Worship service
DESCRIPTION:
URL:https://superioroslc.com/event/worship-service-249/
CATEGORIES:Worship
END:VEVENT
BEGIN:VEVENT
DTSTART;TZID=America/Chicago:20250402T090000
DTEND;TZID=America/Chicago:20250402T100000
DTSTAMP:20260425T081042
CREATED:20250402T035721Z
LAST-MODIFIED:20250402T035721Z
UID:6674-1743584400-1743588000@superioroslc.com
SUMMARY:New Perspective service
DESCRIPTION:
URL:https://superioroslc.com/event/new-perspective-service-114/
CATEGORIES:Worship
END:VEVENT
BEGIN:VEVENT
DTSTART;TZID=America/Chicago:20250330T093000
DTEND;TZID=America/Chicago:20250330T103000
DTSTAMP:20260425T081042
CREATED:20250301T203609Z
LAST-MODIFIED:20250307T203648Z
UID:6629-1743327000-1743330600@superioroslc.com
SUMMARY:Worship service
DESCRIPTION:
URL:https://superioroslc.com/event/worship-service-248/
CATEGORIES:Worship
END:VEVENT
BEGIN:VEVENT
DTSTART;TZID=America/Chicago:20250326T183000
DTEND;TZID=America/Chicago:20250326T193000
DTSTAMP:20260425T081042
CREATED:20250301T203441Z
LAST-MODIFIED:20250307T203518Z
UID:6625-1743013800-1743017400@superioroslc.com
SUMMARY:Worship service
DESCRIPTION:
URL:https://superioroslc.com/event/worship-service-247/
CATEGORIES:Worship
END:VEVENT
BEGIN:VEVENT
DTSTART;TZID=America/Chicago:20250326T133000
DTEND;TZID=America/Chicago:20250326T143000
DTSTAMP:20260425T081042
CREATED:20250301T203157Z
LAST-MODIFIED:20250307T203227Z
UID:6617-1742995800-1742999400@superioroslc.com
SUMMARY:Harmony House
DESCRIPTION:
URL:https://superioroslc.com/event/harmony-house-16/
CATEGORIES:Worship
END:VEVENT
BEGIN:VEVENT
DTSTART;TZID=America/Chicago:20250326T090000
DTEND;TZID=America/Chicago:20250326T100000
DTSTAMP:20260425T081042
CREATED:20250301T203034Z
LAST-MODIFIED:20250307T203112Z
UID:6613-1742979600-1742983200@superioroslc.com
SUMMARY:New Perspective service
DESCRIPTION:
URL:https://superioroslc.com/event/new-perspective-service-113/
CATEGORIES:Worship
END:VEVENT
BEGIN:VEVENT
DTSTART;TZID=America/Chicago:20250323T093000
DTEND;TZID=America/Chicago:20250323T103000
DTSTAMP:20260425T081042
CREATED:20250301T202816Z
LAST-MODIFIED:20250307T202905Z
UID:6607-1742722200-1742725800@superioroslc.com
SUMMARY:Worship service
DESCRIPTION:
URL:https://superioroslc.com/event/worship-service-246/
CATEGORIES:Worship
END:VEVENT
BEGIN:VEVENT
DTSTART;TZID=America/Chicago:20250319T183000
DTEND;TZID=America/Chicago:20250319T193000
DTSTAMP:20260425T081042
CREATED:20250301T202649Z
LAST-MODIFIED:20250307T202724Z
UID:6603-1742409000-1742412600@superioroslc.com
SUMMARY:Worship service
DESCRIPTION:
URL:https://superioroslc.com/event/worship-service-245/
CATEGORIES:Worship
END:VEVENT
BEGIN:VEVENT
DTSTART;TZID=America/Chicago:20250319T090000
DTEND;TZID=America/Chicago:20250319T100000
DTSTAMP:20260425T081042
CREATED:20250301T202226Z
LAST-MODIFIED:20250307T202305Z
UID:6593-1742374800-1742378400@superioroslc.com
SUMMARY:New Perspective service
DESCRIPTION:
URL:https://superioroslc.com/event/new-perspective-service-112/
CATEGORIES:Worship
END:VEVENT
BEGIN:VEVENT
DTSTART;TZID=America/Chicago:20250316T093000
DTEND;TZID=America/Chicago:20250316T103000
DTSTAMP:20260425T081042
CREATED:20250301T201919Z
LAST-MODIFIED:20250307T202005Z
UID:6585-1742117400-1742121000@superioroslc.com
SUMMARY:Worship service
DESCRIPTION:
URL:https://superioroslc.com/event/worship-service-244/
CATEGORIES:Worship
END:VEVENT
BEGIN:VEVENT
DTSTART;TZID=America/Chicago:20250312T183000
DTEND;TZID=America/Chicago:20250312T193000
DTSTAMP:20260425T081042
CREATED:20250301T201653Z
LAST-MODIFIED:20250307T201728Z
UID:6579-1741804200-1741807800@superioroslc.com
SUMMARY:Worship service
DESCRIPTION:
URL:https://superioroslc.com/event/worship-service-243/
CATEGORIES:Worship
END:VEVENT
BEGIN:VEVENT
DTSTART;TZID=America/Chicago:20250312T090000
DTEND;TZID=America/Chicago:20250312T100000
DTSTAMP:20260425T081042
CREATED:20250301T201346Z
LAST-MODIFIED:20250307T201424Z
UID:6571-1741770000-1741773600@superioroslc.com
SUMMARY:New Perspective service
DESCRIPTION:
URL:https://superioroslc.com/event/new-perspective-service-111/
CATEGORIES:Worship
END:VEVENT
END:VCALENDAR