BEGIN:VCALENDAR
VERSION:2.0
PRODID:-//Our Savior&#039;s Lutheran Church - ECPv6.15.16//NONSGML v1.0//EN
CALSCALE:GREGORIAN
METHOD:PUBLISH
X-ORIGINAL-URL:https://superioroslc.com
X-WR-CALDESC:Events for Our Savior&#039;s Lutheran Church
REFRESH-INTERVAL;VALUE=DURATION:PT1H
X-Robots-Tag:noindex
X-PUBLISHED-TTL:PT1H
BEGIN:VTIMEZONE
TZID:America/Chicago
BEGIN:DAYLIGHT
TZOFFSETFROM:-0600
TZOFFSETTO:-0500
TZNAME:CDT
DTSTART:20250309T080000
END:DAYLIGHT
BEGIN:STANDARD
TZOFFSETFROM:-0500
TZOFFSETTO:-0600
TZNAME:CST
DTSTART:20251102T070000
END:STANDARD
BEGIN:DAYLIGHT
TZOFFSETFROM:-0600
TZOFFSETTO:-0500
TZNAME:CDT
DTSTART:20260308T080000
END:DAYLIGHT
BEGIN:STANDARD
TZOFFSETFROM:-0500
TZOFFSETTO:-0600
TZNAME:CST
DTSTART:20261101T070000
END:STANDARD
BEGIN:DAYLIGHT
TZOFFSETFROM:-0600
TZOFFSETTO:-0500
TZNAME:CDT
DTSTART:20270314T080000
END:DAYLIGHT
BEGIN:STANDARD
TZOFFSETFROM:-0500
TZOFFSETTO:-0600
TZNAME:CST
DTSTART:20271107T070000
END:STANDARD
END:VTIMEZONE
BEGIN:VEVENT
DTSTART;TZID=America/Chicago:20260301T093000
DTEND;TZID=America/Chicago:20260301T103000
DTSTAMP:20260414T085500
CREATED:20260301T185144Z
LAST-MODIFIED:20260305T185323Z
UID:7897-1772357400-1772361000@superioroslc.com
SUMMARY:Worship service w/Jeff Skrenes
DESCRIPTION:
URL:https://superioroslc.com/event/worship-service-w-jeff-skrenes/
CATEGORIES:Worship
END:VEVENT
BEGIN:VEVENT
DTSTART;TZID=America/Chicago:20260304T090000
DTEND;TZID=America/Chicago:20260304T100000
DTSTAMP:20260414T085500
CREATED:20260301T185543Z
LAST-MODIFIED:20260305T185634Z
UID:7905-1772614800-1772618400@superioroslc.com
SUMMARY:New Perspective service
DESCRIPTION:
URL:https://superioroslc.com/event/new-perspective-service-158/
CATEGORIES:Worship
END:VEVENT
BEGIN:VEVENT
DTSTART;TZID=America/Chicago:20260304T183000
DTEND;TZID=America/Chicago:20260304T193000
DTSTAMP:20260414T085500
CREATED:20260301T190000Z
LAST-MODIFIED:20260305T190100Z
UID:7915-1772649000-1772652600@superioroslc.com
SUMMARY:Worship service
DESCRIPTION:
URL:https://superioroslc.com/event/worship-service-292/
CATEGORIES:Worship
END:VEVENT
BEGIN:VEVENT
DTSTART;TZID=America/Chicago:20260308T093000
DTEND;TZID=America/Chicago:20260308T103000
DTSTAMP:20260414T085500
CREATED:20260301T190221Z
LAST-MODIFIED:20260305T190351Z
UID:7919-1772962200-1772965800@superioroslc.com
SUMMARY:Worship service
DESCRIPTION:
URL:https://superioroslc.com/event/worship-service-293/
CATEGORIES:Worship
END:VEVENT
BEGIN:VEVENT
DTSTART;TZID=America/Chicago:20260311T090000
DTEND;TZID=America/Chicago:20260311T100000
DTSTAMP:20260414T085500
CREATED:20260301T190947Z
LAST-MODIFIED:20260305T191026Z
UID:7931-1773219600-1773223200@superioroslc.com
SUMMARY:New Perspective service
DESCRIPTION:
URL:https://superioroslc.com/event/new-perspective-service-159/
CATEGORIES:Worship
END:VEVENT
BEGIN:VEVENT
DTSTART;TZID=America/Chicago:20260311T183000
DTEND;TZID=America/Chicago:20260311T193000
DTSTAMP:20260414T085500
CREATED:20260301T191310Z
LAST-MODIFIED:20260305T191354Z
UID:7940-1773253800-1773257400@superioroslc.com
SUMMARY:Worship service
DESCRIPTION:
URL:https://superioroslc.com/event/worship-service-294/
CATEGORIES:Worship
END:VEVENT
BEGIN:VEVENT
DTSTART;TZID=America/Chicago:20260315T093000
DTEND;TZID=America/Chicago:20260315T103000
DTSTAMP:20260414T085500
CREATED:20260301T191622Z
LAST-MODIFIED:20260305T191703Z
UID:7945-1773567000-1773570600@superioroslc.com
SUMMARY:Worship service
DESCRIPTION:
URL:https://superioroslc.com/event/worship-service-295/
CATEGORIES:Worship
END:VEVENT
BEGIN:VEVENT
DTSTART;TZID=America/Chicago:20260318T090000
DTEND;TZID=America/Chicago:20260318T100000
DTSTAMP:20260414T085500
CREATED:20260301T192145Z
LAST-MODIFIED:20260305T192242Z
UID:7957-1773824400-1773828000@superioroslc.com
SUMMARY:New Perspective service
DESCRIPTION:
URL:https://superioroslc.com/event/new-perspective-service-160/
CATEGORIES:Worship
END:VEVENT
BEGIN:VEVENT
DTSTART;TZID=America/Chicago:20260322T093000
DTEND;TZID=America/Chicago:20260322T103000
DTSTAMP:20260414T085500
CREATED:20260301T194526Z
LAST-MODIFIED:20260305T194603Z
UID:7969-1774171800-1774175400@superioroslc.com
SUMMARY:Worship service
DESCRIPTION:
URL:https://superioroslc.com/event/worship-service-297/
CATEGORIES:Worship
END:VEVENT
BEGIN:VEVENT
DTSTART;TZID=America/Chicago:20260325T090000
DTEND;TZID=America/Chicago:20260325T100000
DTSTAMP:20260414T085500
CREATED:20260301T194830Z
LAST-MODIFIED:20260305T194908Z
UID:7977-1774429200-1774432800@superioroslc.com
SUMMARY:New Perspective service
DESCRIPTION:
URL:https://superioroslc.com/event/new-perspective-service-161/
CATEGORIES:Worship
END:VEVENT
BEGIN:VEVENT
DTSTART;TZID=America/Chicago:20260325T133000
DTEND;TZID=America/Chicago:20260325T143000
DTSTAMP:20260414T085500
CREATED:20260301T194954Z
LAST-MODIFIED:20260305T195039Z
UID:7981-1774445400-1774449000@superioroslc.com
SUMMARY:Harmony House
DESCRIPTION:
URL:https://superioroslc.com/event/harmony-house-31/
CATEGORIES:Worship
END:VEVENT
BEGIN:VEVENT
DTSTART;TZID=America/Chicago:20260329T093000
DTEND;TZID=America/Chicago:20260329T103000
DTSTAMP:20260414T085500
CREATED:20260301T195257Z
LAST-MODIFIED:20260305T195342Z
UID:7989-1774776600-1774780200@superioroslc.com
SUMMARY:Worship service
DESCRIPTION:
URL:https://superioroslc.com/event/worship-service-298/
CATEGORIES:Worship
END:VEVENT
END:VCALENDAR