BEGIN:VCALENDAR
VERSION:2.0
PRODID:-//Our Savior&#039;s Lutheran Church - ECPv6.15.16//NONSGML v1.0//EN
CALSCALE:GREGORIAN
METHOD:PUBLISH
X-ORIGINAL-URL:https://superioroslc.com
X-WR-CALDESC:Events for Our Savior&#039;s Lutheran Church
REFRESH-INTERVAL;VALUE=DURATION:PT1H
X-Robots-Tag:noindex
X-PUBLISHED-TTL:PT1H
BEGIN:VTIMEZONE
TZID:America/Chicago
BEGIN:DAYLIGHT
TZOFFSETFROM:-0600
TZOFFSETTO:-0500
TZNAME:CDT
DTSTART:20190310T080000
END:DAYLIGHT
BEGIN:STANDARD
TZOFFSETFROM:-0500
TZOFFSETTO:-0600
TZNAME:CST
DTSTART:20191103T070000
END:STANDARD
BEGIN:DAYLIGHT
TZOFFSETFROM:-0600
TZOFFSETTO:-0500
TZNAME:CDT
DTSTART:20200308T080000
END:DAYLIGHT
BEGIN:STANDARD
TZOFFSETFROM:-0500
TZOFFSETTO:-0600
TZNAME:CST
DTSTART:20201101T070000
END:STANDARD
BEGIN:DAYLIGHT
TZOFFSETFROM:-0600
TZOFFSETTO:-0500
TZNAME:CDT
DTSTART:20210314T080000
END:DAYLIGHT
BEGIN:STANDARD
TZOFFSETFROM:-0500
TZOFFSETTO:-0600
TZNAME:CST
DTSTART:20211107T070000
END:STANDARD
BEGIN:DAYLIGHT
TZOFFSETFROM:-0600
TZOFFSETTO:-0500
TZNAME:CDT
DTSTART:20220313T080000
END:DAYLIGHT
BEGIN:STANDARD
TZOFFSETFROM:-0500
TZOFFSETTO:-0600
TZNAME:CST
DTSTART:20221106T070000
END:STANDARD
END:VTIMEZONE
BEGIN:VEVENT
DTSTART;VALUE=DATE:20210805
DTEND;VALUE=DATE:20210811
DTSTAMP:20260423T194721
CREATED:20210801T185135Z
LAST-MODIFIED:20210802T185217Z
UID:1712-1628121600-1628639999@superioroslc.com
SUMMARY:Pastor vacation
DESCRIPTION:
URL:https://superioroslc.com/event/pastor-vacation/
CATEGORIES:Other
END:VEVENT
BEGIN:VEVENT
DTSTART;VALUE=DATE:20210805
DTEND;VALUE=DATE:20210806
DTSTAMP:20260423T194721
CREATED:20210801T185225Z
LAST-MODIFIED:20210802T185259Z
UID:1714-1628121600-1628207999@superioroslc.com
SUMMARY:NO movie!
DESCRIPTION:
URL:https://superioroslc.com/event/no-movie/
CATEGORIES:Other
END:VEVENT
BEGIN:VEVENT
DTSTART;TZID=America/Chicago:20210803T170000
DTEND;TZID=America/Chicago:20210803T190000
DTSTAMP:20260423T194721
CREATED:20210801T184947Z
LAST-MODIFIED:20210802T185043Z
UID:1708-1628010000-1628017200@superioroslc.com
SUMMARY:Ice Cream Social
DESCRIPTION:
URL:https://superioroslc.com/event/ice-cream-social/
CATEGORIES:Other
END:VEVENT
BEGIN:VEVENT
DTSTART;TZID=America/Chicago:20210729T180000
DTEND;TZID=America/Chicago:20210729T200000
DTSTAMP:20260423T194721
CREATED:20210701T173442Z
LAST-MODIFIED:20210708T140848Z
UID:1678-1627581600-1627588800@superioroslc.com
SUMMARY:Movie night
DESCRIPTION:
URL:https://superioroslc.com/event/movie-night-5/
CATEGORIES:Other
END:VEVENT
BEGIN:VEVENT
DTSTART;TZID=America/Chicago:20210722T180000
DTEND;TZID=America/Chicago:20210722T200000
DTSTAMP:20260423T194721
CREATED:20210701T173123Z
LAST-MODIFIED:20210707T173159Z
UID:1670-1626976800-1626984000@superioroslc.com
SUMMARY:Movie night
DESCRIPTION:
URL:https://superioroslc.com/event/movie-night-4/
CATEGORIES:Other
END:VEVENT
BEGIN:VEVENT
DTSTART;VALUE=DATE:20210717
DTEND;VALUE=DATE:20210718
DTSTAMP:20260423T194721
CREATED:20210701T172643Z
LAST-MODIFIED:20210707T172721Z
UID:1659-1626480000-1626566399@superioroslc.com
SUMMARY:Scrip cards orders due
DESCRIPTION:
URL:https://superioroslc.com/event/scrip-cards-orders-due/
CATEGORIES:Other
END:VEVENT
BEGIN:VEVENT
DTSTART;TZID=America/Chicago:20210715T180000
DTEND;TZID=America/Chicago:20210715T200000
DTSTAMP:20260423T194721
CREATED:20210701T172554Z
LAST-MODIFIED:20210707T172630Z
UID:1657-1626372000-1626379200@superioroslc.com
SUMMARY:Movie night
DESCRIPTION:
URL:https://superioroslc.com/event/movie-night-3/
CATEGORIES:Other
END:VEVENT
BEGIN:VEVENT
DTSTART;TZID=America/Chicago:20210708T180000
DTEND;TZID=America/Chicago:20210708T200000
DTSTAMP:20260423T194721
CREATED:20210701T172111Z
LAST-MODIFIED:20210707T172222Z
UID:1646-1625767200-1625774400@superioroslc.com
SUMMARY:Movie night
DESCRIPTION:
URL:https://superioroslc.com/event/movie-night/
CATEGORIES:Other
END:VEVENT
BEGIN:VEVENT
DTSTART;TZID=America/Chicago:20210701T180000
DTEND;TZID=America/Chicago:20210701T200000
DTSTAMP:20260423T194721
CREATED:20210701T171540Z
LAST-MODIFIED:20210707T171632Z
UID:1637-1625162400-1625169600@superioroslc.com
SUMMARY:NO movie night!
DESCRIPTION:
URL:https://superioroslc.com/event/no-movie-night/
CATEGORIES:Other
END:VEVENT
BEGIN:VEVENT
DTSTART;TZID=America/Chicago:20210624T180000
DTEND;TZID=America/Chicago:20210624T200000
DTSTAMP:20260423T194721
CREATED:20210601T173509Z
LAST-MODIFIED:20210602T173548Z
UID:1603-1624557600-1624564800@superioroslc.com
SUMMARY:Movie: "Dora and the Lost City of Gold"
DESCRIPTION:
URL:https://superioroslc.com/event/movie-dora-and-the-lost-city-of-gold/
CATEGORIES:Other
END:VEVENT
BEGIN:VEVENT
DTSTART;VALUE=DATE:20210619
DTEND;VALUE=DATE:20210620
DTSTAMP:20260423T194721
CREATED:20210601T172932Z
LAST-MODIFIED:20210602T173004Z
UID:1592-1624060800-1624147199@superioroslc.com
SUMMARY:Script orders due
DESCRIPTION:
URL:https://superioroslc.com/event/script-orders-due-4/
CATEGORIES:Other
END:VEVENT
BEGIN:VEVENT
DTSTART;TZID=America/Chicago:20210617T180000
DTEND;TZID=America/Chicago:20210617T200000
DTSTAMP:20260423T194721
CREATED:20210601T172840Z
LAST-MODIFIED:20210602T172920Z
UID:1590-1623952800-1623960000@superioroslc.com
SUMMARY:Movie night: "Call of the Wild"
DESCRIPTION:
URL:https://superioroslc.com/event/movie-night-call-of-the-wild/
CATEGORIES:Other
END:VEVENT
BEGIN:VEVENT
DTSTART;TZID=America/Chicago:20210610T180000
DTEND;TZID=America/Chicago:20210610T200000
DTSTAMP:20260423T194721
CREATED:20210601T172427Z
LAST-MODIFIED:20210602T172504Z
UID:1580-1623348000-1623355200@superioroslc.com
SUMMARY:Movie night: "Abominable"
DESCRIPTION:
URL:https://superioroslc.com/event/movie-night-abominable/
CATEGORIES:Other
END:VEVENT
BEGIN:VEVENT
DTSTART;TZID=America/Chicago:20210606T103000
DTEND;TZID=America/Chicago:20210606T110000
DTSTAMP:20260423T194721
CREATED:20210601T172057Z
LAST-MODIFIED:20210602T172138Z
UID:1571-1622975400-1622977200@superioroslc.com
SUMMARY:Annual meeting
DESCRIPTION:
URL:https://superioroslc.com/event/annual-meeting/
CATEGORIES:Other
END:VEVENT
BEGIN:VEVENT
DTSTART;TZID=America/Chicago:20210603T180000
DTEND;TZID=America/Chicago:20210603T200000
DTSTAMP:20260423T194721
CREATED:20210601T171852Z
LAST-MODIFIED:20210602T171953Z
UID:1567-1622743200-1622750400@superioroslc.com
SUMMARY:Movie night: "Croods: A New Age"
DESCRIPTION:
URL:https://superioroslc.com/event/movie-night-croods-a-new-age/
CATEGORIES:Other
END:VEVENT
BEGIN:VEVENT
DTSTART;TZID=America/Chicago:20210522T090000
DTEND;TZID=America/Chicago:20210522T160000
DTSTAMP:20260423T194721
CREATED:20210501T234122Z
LAST-MODIFIED:20210520T234248Z
UID:1548-1621674000-1621699200@superioroslc.com
SUMMARY:Rummage plant and sale
DESCRIPTION:
URL:https://superioroslc.com/event/rummage-plant-and-sale/
CATEGORIES:Other
END:VEVENT
BEGIN:VEVENT
DTSTART;VALUE=DATE:20210515
DTEND;VALUE=DATE:20210516
DTSTAMP:20260423T194721
CREATED:20210501T233608Z
LAST-MODIFIED:20210520T233647Z
UID:1536-1621036800-1621123199@superioroslc.com
SUMMARY:Script orders due
DESCRIPTION:
URL:https://superioroslc.com/event/script-orders-due-3/
CATEGORIES:Other
END:VEVENT
BEGIN:VEVENT
DTSTART;TZID=America/Chicago:20210423T160000
DTEND;TZID=America/Chicago:20210424T160000
DTSTAMP:20260423T194721
CREATED:20210401T181959Z
LAST-MODIFIED:20210401T181959Z
UID:1446-1619193600-1619280000@superioroslc.com
SUMMARY:Confirmation retreat
DESCRIPTION:
URL:https://superioroslc.com/event/confirmation-retreat/
CATEGORIES:Other
END:VEVENT
BEGIN:VEVENT
DTSTART;VALUE=DATE:20210417
DTEND;VALUE=DATE:20210418
DTSTAMP:20260423T194721
CREATED:20210401T180942Z
LAST-MODIFIED:20210401T180942Z
UID:1432-1618617600-1618703999@superioroslc.com
SUMMARY:Script orders due
DESCRIPTION:
URL:https://superioroslc.com/event/script-orders-due-2/
CATEGORIES:Other
END:VEVENT
BEGIN:VEVENT
DTSTART;TZID=America/Chicago:20210328T103000
DTEND;TZID=America/Chicago:20210328T113000
DTSTAMP:20260423T194721
CREATED:20210301T223029Z
LAST-MODIFIED:20210302T223059Z
UID:1367-1616927400-1616931000@superioroslc.com
SUMMARY:Coffee hour
DESCRIPTION:
URL:https://superioroslc.com/event/coffee-hour-3/
CATEGORIES:Other
END:VEVENT
BEGIN:VEVENT
DTSTART;TZID=America/Chicago:20210321T103000
DTEND;TZID=America/Chicago:20210321T113000
DTSTAMP:20260423T194721
CREATED:20210301T222946Z
LAST-MODIFIED:20210302T223019Z
UID:1365-1616322600-1616326200@superioroslc.com
SUMMARY:Coffee hour
DESCRIPTION:
URL:https://superioroslc.com/event/coffee-hour-2/
CATEGORIES:Other
END:VEVENT
BEGIN:VEVENT
DTSTART;TZID=America/Chicago:20210314T103000
DTEND;TZID=America/Chicago:20210314T113000
DTSTAMP:20260423T194721
CREATED:20210301T221208Z
LAST-MODIFIED:20210302T221304Z
UID:1326-1615717800-1615721400@superioroslc.com
SUMMARY:Coffee hour
DESCRIPTION:
URL:https://superioroslc.com/event/coffee-hour/
CATEGORIES:Other
END:VEVENT
BEGIN:VEVENT
DTSTART;VALUE=DATE:20210314
DTEND;VALUE=DATE:20210315
DTSTAMP:20260423T194721
CREATED:20210301T220922Z
LAST-MODIFIED:20210302T221032Z
UID:1320-1615680000-1615766399@superioroslc.com
SUMMARY:Daylight Savings Time-turn clocks forward
DESCRIPTION:
URL:https://superioroslc.com/event/daylight-savings-time-turn-clocks-forward/
CATEGORIES:Other
END:VEVENT
BEGIN:VEVENT
DTSTART;TZID=America/Chicago:20200913T130000
DTEND;TZID=America/Chicago:20200913T143000
DTSTAMP:20260423T194721
CREATED:20200901T194853Z
LAST-MODIFIED:20200916T194955Z
UID:818-1600002000-1600007400@superioroslc.com
SUMMARY:Service project (Wisconsin Point)
DESCRIPTION:
URL:https://superioroslc.com/event/service-project-wisconsin-point/
CATEGORIES:Other
END:VEVENT
END:VCALENDAR