BEGIN:VCALENDAR
VERSION:2.0
PRODID:-//Our Savior&#039;s Lutheran Church - ECPv6.15.16//NONSGML v1.0//EN
CALSCALE:GREGORIAN
METHOD:PUBLISH
X-WR-CALNAME:Our Savior&#039;s Lutheran Church
X-ORIGINAL-URL:https://superioroslc.com
X-WR-CALDESC:Events for Our Savior&#039;s Lutheran Church
REFRESH-INTERVAL;VALUE=DURATION:PT1H
X-Robots-Tag:noindex
X-PUBLISHED-TTL:PT1H
BEGIN:VTIMEZONE
TZID:America/Chicago
BEGIN:DAYLIGHT
TZOFFSETFROM:-0600
TZOFFSETTO:-0500
TZNAME:CDT
DTSTART:20200308T080000
END:DAYLIGHT
BEGIN:STANDARD
TZOFFSETFROM:-0500
TZOFFSETTO:-0600
TZNAME:CST
DTSTART:20201101T070000
END:STANDARD
BEGIN:DAYLIGHT
TZOFFSETFROM:-0600
TZOFFSETTO:-0500
TZNAME:CDT
DTSTART:20210314T080000
END:DAYLIGHT
BEGIN:STANDARD
TZOFFSETFROM:-0500
TZOFFSETTO:-0600
TZNAME:CST
DTSTART:20211107T070000
END:STANDARD
BEGIN:DAYLIGHT
TZOFFSETFROM:-0600
TZOFFSETTO:-0500
TZNAME:CDT
DTSTART:20220313T080000
END:DAYLIGHT
BEGIN:STANDARD
TZOFFSETFROM:-0500
TZOFFSETTO:-0600
TZNAME:CST
DTSTART:20221106T070000
END:STANDARD
BEGIN:DAYLIGHT
TZOFFSETFROM:-0600
TZOFFSETTO:-0500
TZNAME:CDT
DTSTART:20230312T080000
END:DAYLIGHT
BEGIN:STANDARD
TZOFFSETFROM:-0500
TZOFFSETTO:-0600
TZNAME:CST
DTSTART:20231105T070000
END:STANDARD
END:VTIMEZONE
BEGIN:VTIMEZONE
TZID:UTC
BEGIN:STANDARD
TZOFFSETFROM:+0000
TZOFFSETTO:+0000
TZNAME:UTC
DTSTART:20210101T000000
END:STANDARD
END:VTIMEZONE
BEGIN:VEVENT
DTSTART;TZID=America/Chicago:20210819T180000
DTEND;TZID=America/Chicago:20210819T200000
DTSTAMP:20260421T134147
CREATED:20210801T174830Z
LAST-MODIFIED:20210804T174906Z
UID:1759-1629396000-1629403200@superioroslc.com
SUMMARY:Movie night
DESCRIPTION:
URL:https://superioroslc.com/event/movie-night-8/
CATEGORIES:Other
END:VEVENT
BEGIN:VEVENT
DTSTART;VALUE=DATE:20210821
DTEND;VALUE=DATE:20210822
DTSTAMP:20260421T134147
CREATED:20210801T165849Z
LAST-MODIFIED:20210804T165926Z
UID:1739-1629504000-1629590399@superioroslc.com
SUMMARY:Script orders due
DESCRIPTION:
URL:https://superioroslc.com/event/script-orders-due-5/
CATEGORIES:Other
END:VEVENT
BEGIN:VEVENT
DTSTART;TZID=America/Chicago:20210826T180000
DTEND;TZID=America/Chicago:20210826T200000
DTSTAMP:20260421T134147
CREATED:20210801T170318Z
LAST-MODIFIED:20210804T170356Z
UID:1750-1630000800-1630008000@superioroslc.com
SUMMARY:Movie night
DESCRIPTION:
URL:https://superioroslc.com/event/movie-night-7/
CATEGORIES:Other
END:VEVENT
BEGIN:VEVENT
DTSTART;TZID=America/Chicago:20210913T090000
DTEND;TZID=America/Chicago:20210913T120000
DTSTAMP:20260421T134147
CREATED:20210901T155129Z
LAST-MODIFIED:20210902T155209Z
UID:1817-1631523600-1631534400@superioroslc.com
SUMMARY:Quilting
DESCRIPTION:
URL:https://superioroslc.com/event/quilting-3/
CATEGORIES:Other
END:VEVENT
BEGIN:VEVENT
DTSTART;VALUE=DATE:20210918
DTEND;VALUE=DATE:20210919
DTSTAMP:20260421T134147
CREATED:20210901T155621Z
LAST-MODIFIED:20210902T155700Z
UID:1829-1631923200-1632009599@superioroslc.com
SUMMARY:Script orders due
DESCRIPTION:
URL:https://superioroslc.com/event/script-orders-due-6/
CATEGORIES:Other
END:VEVENT
BEGIN:VEVENT
DTSTART;TZID=America/Chicago:20210926T190000
DTEND;TZID=America/Chicago:20210928T190000
DTSTAMP:20260421T134147
CREATED:20210901T160432Z
LAST-MODIFIED:20210902T160530Z
UID:1847-1632682800-1632855600@superioroslc.com
SUMMARY:Pastor fall retreat
DESCRIPTION:
URL:https://superioroslc.com/event/pastor-fall-retreat/
CATEGORIES:Other
END:VEVENT
BEGIN:VEVENT
DTSTART;TZID=America/Chicago:20210927T090000
DTEND;TZID=America/Chicago:20210927T120000
DTSTAMP:20260421T134147
CREATED:20210901T160538Z
LAST-MODIFIED:20210902T160617Z
UID:1849-1632733200-1632744000@superioroslc.com
SUMMARY:Quilting
DESCRIPTION:
URL:https://superioroslc.com/event/quilting-4/
CATEGORIES:Other
END:VEVENT
BEGIN:VEVENT
DTSTART;TZID=America/Chicago:20211010T140000
DTEND;TZID=America/Chicago:20211010T160000
DTSTAMP:20260421T134147
CREATED:20211002T032317Z
LAST-MODIFIED:20211002T032317Z
UID:1923-1633874400-1633881600@superioroslc.com
SUMMARY:Children's winter wear giveaway
DESCRIPTION:
URL:https://superioroslc.com/event/childrens-winter-wear-giveaway/
CATEGORIES:Other
END:VEVENT
BEGIN:VEVENT
DTSTART;VALUE=DATE:20211016
DTEND;VALUE=DATE:20211017
DTSTAMP:20260421T134147
CREATED:20211002T033108Z
LAST-MODIFIED:20211002T033108Z
UID:1942-1634342400-1634428799@superioroslc.com
SUMMARY:Script orders due
DESCRIPTION:
URL:https://superioroslc.com/event/script-orders-due-7/
CATEGORIES:Other
END:VEVENT
BEGIN:VEVENT
DTSTART;TZID=America/Chicago:20211025T090000
DTEND;TZID=America/Chicago:20211025T110000
DTSTAMP:20260421T134147
CREATED:20211002T034149Z
LAST-MODIFIED:20211002T034149Z
UID:1971-1635152400-1635159600@superioroslc.com
SUMMARY:Quilting
DESCRIPTION:
URL:https://superioroslc.com/event/quilting-6/
CATEGORIES:Other
END:VEVENT
BEGIN:VEVENT
DTSTART;TZID=America/Chicago:20211108T090000
DTEND;TZID=America/Chicago:20211108T120000
DTSTAMP:20260421T134147
CREATED:20211101T183249Z
LAST-MODIFIED:20211109T193326Z
UID:2034-1636362000-1636372800@superioroslc.com
SUMMARY:Quilting
DESCRIPTION:
URL:https://superioroslc.com/event/quilting-7/
CATEGORIES:Other
END:VEVENT
BEGIN:VEVENT
DTSTART;VALUE=DATE:20211120
DTEND;VALUE=DATE:20211121
DTSTAMP:20260421T134147
CREATED:20211101T184507Z
LAST-MODIFIED:20211109T194543Z
UID:2062-1637366400-1637452799@superioroslc.com
SUMMARY:Script card orders due
DESCRIPTION:
URL:https://superioroslc.com/event/script-card-orders-due/
CATEGORIES:Other
END:VEVENT
BEGIN:VEVENT
DTSTART;TZID=America/Chicago:20211122T090000
DTEND;TZID=America/Chicago:20211122T120000
DTSTAMP:20260421T134147
CREATED:20211101T184829Z
LAST-MODIFIED:20211109T194912Z
UID:2070-1637571600-1637582400@superioroslc.com
SUMMARY:Quilting
DESCRIPTION:
URL:https://superioroslc.com/event/quilting-8/
CATEGORIES:Other
END:VEVENT
BEGIN:VEVENT
DTSTART;VALUE=DATE:20220115
DTEND;VALUE=DATE:20220116
DTSTAMP:20260421T134147
CREATED:20220101T161747Z
LAST-MODIFIED:20220103T163851Z
UID:2270-1642204800-1642291199@superioroslc.com
SUMMARY:Deadline for Script orders
DESCRIPTION:
URL:https://superioroslc.com/event/deadline-for-script-orders/
CATEGORIES:Other
END:VEVENT
BEGIN:VEVENT
DTSTART;TZID=America/Chicago:20220130T103000
DTEND;TZID=America/Chicago:20220130T113000
DTSTAMP:20260421T134147
CREATED:20220101T163616Z
LAST-MODIFIED:20220103T163653Z
UID:2310-1643538600-1643542200@superioroslc.com
SUMMARY:Annual meeting
DESCRIPTION:
URL:https://superioroslc.com/event/annual-meeting-2/
CATEGORIES:Other
END:VEVENT
BEGIN:VEVENT
DTSTART;VALUE=DATE:20220214
DTEND;VALUE=DATE:20220215
DTSTAMP:20260421T134147
CREATED:20220202T023134Z
LAST-MODIFIED:20220202T023134Z
UID:2391-1644796800-1644883199@superioroslc.com
SUMMARY:Confirmation retreat
DESCRIPTION:
URL:https://superioroslc.com/event/confirmation-retreat-2/
CATEGORIES:Other
END:VEVENT
BEGIN:VEVENT
DTSTART;TZID=America/Chicago:20220214T090000
DTEND;TZID=America/Chicago:20220214T120000
DTSTAMP:20260421T134147
CREATED:20220202T023058Z
LAST-MODIFIED:20220202T023058Z
UID:2389-1644829200-1644840000@superioroslc.com
SUMMARY:Quilting
DESCRIPTION:
URL:https://superioroslc.com/event/quilting-12/
CATEGORIES:Other
END:VEVENT
BEGIN:VEVENT
DTSTART;VALUE=DATE:20220219
DTEND;VALUE=DATE:20220220
DTSTAMP:20260421T134147
CREATED:20220202T023554Z
LAST-MODIFIED:20220202T023554Z
UID:2403-1645228800-1645315199@superioroslc.com
SUMMARY:Script cards due
DESCRIPTION:
URL:https://superioroslc.com/event/script-cards-due/
CATEGORIES:Other
END:VEVENT
BEGIN:VEVENT
DTSTART;TZID=America/Chicago:20220228T090000
DTEND;TZID=America/Chicago:20220228T120000
DTSTAMP:20260421T134147
CREATED:20220202T024442Z
LAST-MODIFIED:20220202T024442Z
UID:2425-1646038800-1646049600@superioroslc.com
SUMMARY:Quilting
DESCRIPTION:
URL:https://superioroslc.com/event/quilting-13/
CATEGORIES:Other
END:VEVENT
BEGIN:VEVENT
DTSTART;TZID=America/Chicago:20220307T090000
DTEND;TZID=America/Chicago:20220307T110000
DTSTAMP:20260421T134147
CREATED:20220301T174354Z
LAST-MODIFIED:20220302T174453Z
UID:2489-1646643600-1646650800@superioroslc.com
SUMMARY:Quilting
DESCRIPTION:
URL:https://superioroslc.com/event/quilting-14/
CATEGORIES:Other
END:VEVENT
BEGIN:VEVENT
DTSTART;VALUE=DATE:20220310
DTEND;VALUE=DATE:20220318
DTSTAMP:20260421T134147
CREATED:20220301T175245Z
LAST-MODIFIED:20220302T175330Z
UID:2503-1646870400-1647561599@superioroslc.com
SUMMARY:Pastor vacation
DESCRIPTION:
URL:https://superioroslc.com/event/pastor-vacation-2/
CATEGORIES:Other
END:VEVENT
BEGIN:VEVENT
DTSTART;TZID=America/Chicago:20220321T090000
DTEND;TZID=America/Chicago:20220321T110000
DTSTAMP:20260421T134147
CREATED:20220301T180818Z
LAST-MODIFIED:20220302T180858Z
UID:2529-1647853200-1647860400@superioroslc.com
SUMMARY:Quilting
DESCRIPTION:
URL:https://superioroslc.com/event/quilting-15/
CATEGORIES:Other
END:VEVENT
BEGIN:VEVENT
DTSTART;TZID=America/Chicago:20220411T090000
DTEND;TZID=America/Chicago:20220411T120000
DTSTAMP:20260421T134147
CREATED:20220401T173243Z
LAST-MODIFIED:20220502T173333Z
UID:2660-1649667600-1649678400@superioroslc.com
SUMMARY:Quilters
DESCRIPTION:
URL:https://superioroslc.com/event/quilters-3/
CATEGORIES:Other
END:VEVENT
BEGIN:VEVENT
DTSTART;TZID=America/Chicago:20220428T180000
DTEND;TZID=America/Chicago:20220428T200000
DTSTAMP:20260421T134147
CREATED:20220401T180441Z
LAST-MODIFIED:20220502T180528Z
UID:2708-1651168800-1651176000@superioroslc.com
SUMMARY:Bingo @ Pilgrim Lutheran
DESCRIPTION:
URL:https://superioroslc.com/event/bingo-pilgrim-lutheran/
CATEGORIES:Other
END:VEVENT
BEGIN:VEVENT
DTSTART;TZID=America/Chicago:20220501T130000
DTEND;TZID=America/Chicago:20220501T150000
DTSTAMP:20260421T134147
CREATED:20220501T183321Z
LAST-MODIFIED:20220502T183356Z
UID:2736-1651410000-1651417200@superioroslc.com
SUMMARY:Painting class
DESCRIPTION:
URL:https://superioroslc.com/event/painting-class/
CATEGORIES:Other
END:VEVENT
BEGIN:VEVENT
DTSTART;TZID=America/Chicago:20220507T090000
DTEND;TZID=America/Chicago:20220507T160000
DTSTAMP:20260421T134147
CREATED:20220501T182831Z
LAST-MODIFIED:20220502T182916Z
UID:2727-1651914000-1651939200@superioroslc.com
SUMMARY:Rummage sale
DESCRIPTION:
URL:https://superioroslc.com/event/rummage-sale/
CATEGORIES:Other
END:VEVENT
BEGIN:VEVENT
DTSTART;TZID=America/Chicago:20220509T090000
DTEND;TZID=America/Chicago:20220509T110000
DTSTAMP:20260421T134147
CREATED:20220501T183405Z
LAST-MODIFIED:20220502T183445Z
UID:2738-1652086800-1652094000@superioroslc.com
SUMMARY:Quilting
DESCRIPTION:
URL:https://superioroslc.com/event/quilting-16/
CATEGORIES:Other
END:VEVENT
BEGIN:VEVENT
DTSTART;TZID=America/Chicago:20220523T090000
DTEND;TZID=America/Chicago:20220523T110000
DTSTAMP:20260421T134147
CREATED:20220501T184524Z
LAST-MODIFIED:20220502T184610Z
UID:2766-1653296400-1653303600@superioroslc.com
SUMMARY:Quilting
DESCRIPTION:
URL:https://superioroslc.com/event/quilting-17/
CATEGORIES:Other
END:VEVENT
BEGIN:VEVENT
DTSTART;VALUE=DATE:20220530
DTEND;VALUE=DATE:20220531
DTSTAMP:20260421T134147
CREATED:20220501T185110Z
LAST-MODIFIED:20220502T185137Z
UID:2778-1653868800-1653955199@superioroslc.com
SUMMARY:Office closed
DESCRIPTION:
URL:https://superioroslc.com/event/office-closed/
CATEGORIES:Other
END:VEVENT
BEGIN:VEVENT
DTSTART;TZID=UTC:20220601T133000
DTEND;TZID=UTC:20220601T143000
DTSTAMP:20260421T134147
CREATED:20220601T201158Z
LAST-MODIFIED:20220601T201158Z
UID:2808-1654090200-1654093800@superioroslc.com
SUMMARY:Harmony House
DESCRIPTION:
URL:https://superioroslc.com/event/harmony-house/
CATEGORIES:Other
END:VEVENT
END:VCALENDAR