BEGIN:VCALENDAR
VERSION:2.0
PRODID:-//Our Savior&#039;s Lutheran Church - ECPv6.15.16//NONSGML v1.0//EN
CALSCALE:GREGORIAN
METHOD:PUBLISH
X-WR-CALNAME:Our Savior&#039;s Lutheran Church
X-ORIGINAL-URL:https://superioroslc.com
X-WR-CALDESC:Events for Our Savior&#039;s Lutheran Church
REFRESH-INTERVAL;VALUE=DURATION:PT1H
X-Robots-Tag:noindex
X-PUBLISHED-TTL:PT1H
BEGIN:VTIMEZONE
TZID:America/Chicago
BEGIN:DAYLIGHT
TZOFFSETFROM:-0600
TZOFFSETTO:-0500
TZNAME:CDT
DTSTART:20190310T080000
END:DAYLIGHT
BEGIN:STANDARD
TZOFFSETFROM:-0500
TZOFFSETTO:-0600
TZNAME:CST
DTSTART:20191103T070000
END:STANDARD
BEGIN:DAYLIGHT
TZOFFSETFROM:-0600
TZOFFSETTO:-0500
TZNAME:CDT
DTSTART:20200308T080000
END:DAYLIGHT
BEGIN:STANDARD
TZOFFSETFROM:-0500
TZOFFSETTO:-0600
TZNAME:CST
DTSTART:20201101T070000
END:STANDARD
BEGIN:DAYLIGHT
TZOFFSETFROM:-0600
TZOFFSETTO:-0500
TZNAME:CDT
DTSTART:20210314T080000
END:DAYLIGHT
BEGIN:STANDARD
TZOFFSETFROM:-0500
TZOFFSETTO:-0600
TZNAME:CST
DTSTART:20211107T070000
END:STANDARD
BEGIN:DAYLIGHT
TZOFFSETFROM:-0600
TZOFFSETTO:-0500
TZNAME:CDT
DTSTART:20220313T080000
END:DAYLIGHT
BEGIN:STANDARD
TZOFFSETFROM:-0500
TZOFFSETTO:-0600
TZNAME:CST
DTSTART:20221106T070000
END:STANDARD
BEGIN:DAYLIGHT
TZOFFSETFROM:-0600
TZOFFSETTO:-0500
TZNAME:CDT
DTSTART:20230312T080000
END:DAYLIGHT
BEGIN:STANDARD
TZOFFSETFROM:-0500
TZOFFSETTO:-0600
TZNAME:CST
DTSTART:20231105T070000
END:STANDARD
BEGIN:DAYLIGHT
TZOFFSETFROM:-0600
TZOFFSETTO:-0500
TZNAME:CDT
DTSTART:20240310T080000
END:DAYLIGHT
BEGIN:STANDARD
TZOFFSETFROM:-0500
TZOFFSETTO:-0600
TZNAME:CST
DTSTART:20241103T070000
END:STANDARD
BEGIN:DAYLIGHT
TZOFFSETFROM:-0600
TZOFFSETTO:-0500
TZNAME:CDT
DTSTART:20250309T080000
END:DAYLIGHT
BEGIN:STANDARD
TZOFFSETFROM:-0500
TZOFFSETTO:-0600
TZNAME:CST
DTSTART:20251102T070000
END:STANDARD
BEGIN:DAYLIGHT
TZOFFSETFROM:-0600
TZOFFSETTO:-0500
TZNAME:CDT
DTSTART:20260308T080000
END:DAYLIGHT
BEGIN:STANDARD
TZOFFSETFROM:-0500
TZOFFSETTO:-0600
TZNAME:CST
DTSTART:20261101T070000
END:STANDARD
END:VTIMEZONE
BEGIN:VEVENT
DTSTART;TZID=America/Chicago:20250701T120000
DTEND;TZID=America/Chicago:20250701T130000
DTSTAMP:20260419T154231
CREATED:20250701T190025Z
LAST-MODIFIED:20250703T190122Z
UID:6966-1751371200-1751374800@superioroslc.com
SUMMARY:Ed Aamodt funeral
DESCRIPTION:
URL:https://superioroslc.com/event/ed-aamodt-funeral/
CATEGORIES:Funeral
END:VEVENT
BEGIN:VEVENT
DTSTART;TZID=America/Chicago:20250628T110000
DTEND;TZID=America/Chicago:20250628T120000
DTSTAMP:20260419T154231
CREATED:20250601T185823Z
LAST-MODIFIED:20250703T185918Z
UID:6962-1751108400-1751112000@superioroslc.com
SUMMARY:Lynne Hoff funeral
DESCRIPTION:
URL:https://superioroslc.com/event/lynne-hoff-funeral/
CATEGORIES:Funeral
END:VEVENT
BEGIN:VEVENT
DTSTART;TZID=America/Chicago:20231209T110000
DTEND;TZID=America/Chicago:20231209T120000
DTSTAMP:20260419T154231
CREATED:20231201T165801Z
LAST-MODIFIED:20231202T165841Z
UID:4827-1702119600-1702123200@superioroslc.com
SUMMARY:Judy Nelson funeral
DESCRIPTION:
URL:https://superioroslc.com/event/judy-nelson-funeral/
CATEGORIES:Funeral
END:VEVENT
BEGIN:VEVENT
DTSTART;TZID=America/Chicago:20231028T110000
DTEND;TZID=America/Chicago:20231028T120000
DTSTAMP:20260419T154231
CREATED:20231001T182000Z
LAST-MODIFIED:20231004T182040Z
UID:4635-1698490800-1698494400@superioroslc.com
SUMMARY:Carl Roberts funeral
DESCRIPTION:
URL:https://superioroslc.com/event/carl-roberts-funeral/
CATEGORIES:Funeral
END:VEVENT
BEGIN:VEVENT
DTSTART;TZID=America/Chicago:20231013T130000
DTEND;TZID=America/Chicago:20231013T140000
DTSTAMP:20260419T154231
CREATED:20231001T175352Z
LAST-MODIFIED:20231004T175446Z
UID:4582-1697202000-1697205600@superioroslc.com
SUMMARY:Virginia Trentnor funeral
DESCRIPTION:
URL:https://superioroslc.com/event/virginia-trentnor-funeral/
CATEGORIES:Funeral
END:VEVENT
BEGIN:VEVENT
DTSTART;VALUE=DATE:20230318
DTEND;VALUE=DATE:20230319
DTSTAMP:20260419T154231
CREATED:20230301T191546Z
LAST-MODIFIED:20230302T191629Z
UID:3789-1679097600-1679183999@superioroslc.com
SUMMARY:Bernice Hansen funeral
DESCRIPTION:
URL:https://superioroslc.com/event/bernice-hansen-funeral/
CATEGORIES:Funeral
END:VEVENT
BEGIN:VEVENT
DTSTART;TZID=America/Chicago:20210515T110000
DTEND;TZID=America/Chicago:20210515T120000
DTSTAMP:20260419T154231
CREATED:20210501T233512Z
LAST-MODIFIED:20210520T233554Z
UID:1534-1621076400-1621080000@superioroslc.com
SUMMARY:Scott Schachte funeral
DESCRIPTION:
URL:https://superioroslc.com/event/scott-schachte-funeral/
CATEGORIES:Funeral
END:VEVENT
BEGIN:VEVENT
DTSTART;TZID=America/Chicago:20210508T110000
DTEND;TZID=America/Chicago:20210508T120000
DTSTAMP:20260419T154231
CREATED:20210501T233423Z
LAST-MODIFIED:20210520T233503Z
UID:1532-1620471600-1620475200@superioroslc.com
SUMMARY:Alex Kotter funeral
DESCRIPTION:
URL:https://superioroslc.com/event/alex-kotter-funeral/
CATEGORIES:Funeral
END:VEVENT
BEGIN:VEVENT
DTSTART;TZID=America/Chicago:20201017T130000
DTEND;TZID=America/Chicago:20201017T140000
DTSTAMP:20260419T154231
CREATED:20201001T203624Z
LAST-MODIFIED:20201029T203751Z
UID:929-1602939600-1602943200@superioroslc.com
SUMMARY:Virgil Everson funeral
DESCRIPTION:
URL:https://superioroslc.com/event/virgil-everson-funeral/
CATEGORIES:Funeral
END:VEVENT
BEGIN:VEVENT
DTSTART;TZID=America/Chicago:20200919T100000
DTEND;TZID=America/Chicago:20200919T110000
DTSTAMP:20260419T154231
CREATED:20200901T195916Z
LAST-MODIFIED:20200916T200012Z
UID:828-1600509600-1600513200@superioroslc.com
SUMMARY:Richard Gudowski funeral
DESCRIPTION:
URL:https://superioroslc.com/event/richard-gudowski-funeral/
CATEGORIES:Funeral
END:VEVENT
BEGIN:VEVENT
DTSTART;TZID=America/Chicago:20200817T140000
DTEND;TZID=America/Chicago:20200817T153000
DTSTAMP:20260419T154231
CREATED:20200801T164207Z
LAST-MODIFIED:20200808T164356Z
UID:755-1597672800-1597678200@superioroslc.com
SUMMARY:Seija Amundson Funeral
DESCRIPTION:
URL:https://superioroslc.com/event/seija-amundson-funeral/
CATEGORIES:Funeral
END:VEVENT
END:VCALENDAR