BEGIN:VCALENDAR
VERSION:2.0
PRODID:-//Our Savior&#039;s Lutheran Church - ECPv6.15.16//NONSGML v1.0//EN
CALSCALE:GREGORIAN
METHOD:PUBLISH
X-ORIGINAL-URL:https://superioroslc.com
X-WR-CALDESC:Events for Our Savior&#039;s Lutheran Church
REFRESH-INTERVAL;VALUE=DURATION:PT1H
X-Robots-Tag:noindex
X-PUBLISHED-TTL:PT1H
BEGIN:VTIMEZONE
TZID:America/Chicago
BEGIN:DAYLIGHT
TZOFFSETFROM:-0600
TZOFFSETTO:-0500
TZNAME:CDT
DTSTART:20210314T080000
END:DAYLIGHT
BEGIN:STANDARD
TZOFFSETFROM:-0500
TZOFFSETTO:-0600
TZNAME:CST
DTSTART:20211107T070000
END:STANDARD
BEGIN:DAYLIGHT
TZOFFSETFROM:-0600
TZOFFSETTO:-0500
TZNAME:CDT
DTSTART:20220313T080000
END:DAYLIGHT
BEGIN:STANDARD
TZOFFSETFROM:-0500
TZOFFSETTO:-0600
TZNAME:CST
DTSTART:20221106T070000
END:STANDARD
BEGIN:DAYLIGHT
TZOFFSETFROM:-0600
TZOFFSETTO:-0500
TZNAME:CDT
DTSTART:20230312T080000
END:DAYLIGHT
BEGIN:STANDARD
TZOFFSETFROM:-0500
TZOFFSETTO:-0600
TZNAME:CST
DTSTART:20231105T070000
END:STANDARD
END:VTIMEZONE
BEGIN:VEVENT
DTSTART;TZID=America/Chicago:20220227T093000
DTEND;TZID=America/Chicago:20220227T103000
DTSTAMP:20260422T174444
CREATED:20220202T024353Z
LAST-MODIFIED:20220202T024353Z
UID:2423-1645954200-1645957800@superioroslc.com
SUMMARY:Sunday school
DESCRIPTION:
URL:https://superioroslc.com/event/sunday-school-34/
CATEGORIES:Education
END:VEVENT
BEGIN:VEVENT
DTSTART;TZID=America/Chicago:20220301T110000
DTEND;TZID=America/Chicago:20220301T120000
DTSTAMP:20260422T174444
CREATED:20220302T155547Z
LAST-MODIFIED:20220302T155547Z
UID:2473-1646132400-1646136000@superioroslc.com
SUMMARY:Pastor text study
DESCRIPTION:
URL:https://superioroslc.com/event/pastor-text-study-74/
CATEGORIES:Education
END:VEVENT
BEGIN:VEVENT
DTSTART;VALUE=DATE:20220302
DTEND;VALUE=DATE:20220303
DTSTAMP:20260422T174444
CREATED:20220301T182519Z
LAST-MODIFIED:20220302T182551Z
UID:2559-1646179200-1646265599@superioroslc.com
SUMMARY:No confirmation class
DESCRIPTION:
URL:https://superioroslc.com/event/no-confirmation-class-3/
CATEGORIES:Education
END:VEVENT
BEGIN:VEVENT
DTSTART;TZID=America/Chicago:20220302T100000
DTEND;TZID=America/Chicago:20220302T110000
DTSTAMP:20260422T174444
CREATED:20220301T172857Z
LAST-MODIFIED:20220302T172936Z
UID:2475-1646215200-1646218800@superioroslc.com
SUMMARY:Bible study
DESCRIPTION:
URL:https://superioroslc.com/event/bible-study-82/
CATEGORIES:Education
END:VEVENT
BEGIN:VEVENT
DTSTART;TZID=America/Chicago:20220302T133000
DTEND;TZID=America/Chicago:20220302T143000
DTSTAMP:20260422T174444
CREATED:20220301T172954Z
LAST-MODIFIED:20220302T173041Z
UID:2477-1646227800-1646231400@superioroslc.com
SUMMARY:Harmony House bible study
DESCRIPTION:
URL:https://superioroslc.com/event/harmony-house-bible-study/
CATEGORIES:Education
END:VEVENT
BEGIN:VEVENT
DTSTART;TZID=America/Chicago:20220306T093000
DTEND;TZID=America/Chicago:20220306T103000
DTSTAMP:20260422T174444
CREATED:20220301T174256Z
LAST-MODIFIED:20220302T174339Z
UID:2487-1646559000-1646562600@superioroslc.com
SUMMARY:Sunday school
DESCRIPTION:
URL:https://superioroslc.com/event/sunday-school-30/
CATEGORIES:Education
END:VEVENT
BEGIN:VEVENT
DTSTART;TZID=America/Chicago:20220308T110000
DTEND;TZID=America/Chicago:20220308T120000
DTSTAMP:20260422T174444
CREATED:20220301T174617Z
LAST-MODIFIED:20220302T174654Z
UID:2491-1646737200-1646740800@superioroslc.com
SUMMARY:Pastor text study
DESCRIPTION:
URL:https://superioroslc.com/event/pastor-text-study-75/
CATEGORIES:Education
END:VEVENT
BEGIN:VEVENT
DTSTART;TZID=America/Chicago:20220309T100000
DTEND;TZID=America/Chicago:20220309T110000
DTSTAMP:20260422T174444
CREATED:20220301T182648Z
LAST-MODIFIED:20220302T182734Z
UID:2561-1646820000-1646823600@superioroslc.com
SUMMARY:Bible study
DESCRIPTION:
URL:https://superioroslc.com/event/bible-study-86/
CATEGORIES:Education
END:VEVENT
BEGIN:VEVENT
DTSTART;TZID=America/Chicago:20220309T153000
DTEND;TZID=America/Chicago:20220309T163000
DTSTAMP:20260422T174444
CREATED:20220301T174946Z
LAST-MODIFIED:20220302T175016Z
UID:2497-1646839800-1646843400@superioroslc.com
SUMMARY:Confirmation class
DESCRIPTION:
URL:https://superioroslc.com/event/confirmation-class-49/
CATEGORIES:Education
END:VEVENT
BEGIN:VEVENT
DTSTART;VALUE=DATE:20220313
DTEND;VALUE=DATE:20220314
DTSTAMP:20260422T174444
CREATED:20220301T175607Z
LAST-MODIFIED:20220302T175644Z
UID:2509-1647129600-1647215999@superioroslc.com
SUMMARY:No Sunday school
DESCRIPTION:
URL:https://superioroslc.com/event/no-sunday-school-7/
CATEGORIES:Education
END:VEVENT
BEGIN:VEVENT
DTSTART;VALUE=DATE:20220315
DTEND;VALUE=DATE:20220316
DTSTAMP:20260422T174444
CREATED:20220301T175655Z
LAST-MODIFIED:20220302T175736Z
UID:2511-1647302400-1647388799@superioroslc.com
SUMMARY:No pastor text study
DESCRIPTION:
URL:https://superioroslc.com/event/no-pastor-text-study/
CATEGORIES:Education
END:VEVENT
BEGIN:VEVENT
DTSTART;VALUE=DATE:20220316
DTEND;VALUE=DATE:20220317
DTSTAMP:20260422T174444
CREATED:20220301T175850Z
LAST-MODIFIED:20220302T175933Z
UID:2515-1647388800-1647475199@superioroslc.com
SUMMARY:No Bible study
DESCRIPTION:
URL:https://superioroslc.com/event/no-bible-study-9/
CATEGORIES:Education
END:VEVENT
BEGIN:VEVENT
DTSTART;VALUE=DATE:20220316
DTEND;VALUE=DATE:20220317
DTSTAMP:20260422T174444
CREATED:20220301T180010Z
LAST-MODIFIED:20220302T180044Z
UID:2517-1647388800-1647475199@superioroslc.com
SUMMARY:No confirmation class
DESCRIPTION:
URL:https://superioroslc.com/event/no-confirmation-class-2/
CATEGORIES:Education
END:VEVENT
BEGIN:VEVENT
DTSTART;TZID=America/Chicago:20220320T093000
DTEND;TZID=America/Chicago:20220320T103000
DTSTAMP:20260422T174444
CREATED:20220301T180721Z
LAST-MODIFIED:20220302T180804Z
UID:2527-1647768600-1647772200@superioroslc.com
SUMMARY:Sunday school
DESCRIPTION:
URL:https://superioroslc.com/event/sunday-school-35/
CATEGORIES:Education
END:VEVENT
BEGIN:VEVENT
DTSTART;TZID=America/Chicago:20220322T110000
DTEND;TZID=America/Chicago:20220322T120000
DTSTAMP:20260422T174444
CREATED:20220301T180916Z
LAST-MODIFIED:20220302T181002Z
UID:2531-1647946800-1647950400@superioroslc.com
SUMMARY:Pastor text study
DESCRIPTION:
URL:https://superioroslc.com/event/pastor-text-study-76/
CATEGORIES:Education
END:VEVENT
BEGIN:VEVENT
DTSTART;TZID=America/Chicago:20220323T100000
DTEND;TZID=America/Chicago:20220323T110000
DTSTAMP:20260422T174444
CREATED:20220301T181016Z
LAST-MODIFIED:20220302T181203Z
UID:2533-1648029600-1648033200@superioroslc.com
SUMMARY:Bible study
DESCRIPTION:
URL:https://superioroslc.com/event/bible-study-84/
CATEGORIES:Education
END:VEVENT
BEGIN:VEVENT
DTSTART;TZID=America/Chicago:20220323T153000
DTEND;TZID=America/Chicago:20220323T163000
DTSTAMP:20260422T174444
CREATED:20220301T181227Z
LAST-MODIFIED:20220302T181334Z
UID:2535-1648049400-1648053000@superioroslc.com
SUMMARY:Confirmation class
DESCRIPTION:
URL:https://superioroslc.com/event/confirmation-class-50/
CATEGORIES:Education
END:VEVENT
BEGIN:VEVENT
DTSTART;TZID=America/Chicago:20220327T093000
DTEND;TZID=America/Chicago:20220327T103000
DTSTAMP:20260422T174444
CREATED:20220301T181814Z
LAST-MODIFIED:20220302T181900Z
UID:2545-1648373400-1648377000@superioroslc.com
SUMMARY:Sunday school
DESCRIPTION:
URL:https://superioroslc.com/event/sunday-school-36/
CATEGORIES:Education
END:VEVENT
BEGIN:VEVENT
DTSTART;TZID=America/Chicago:20220329T110000
DTEND;TZID=America/Chicago:20220329T120000
DTSTAMP:20260422T174444
CREATED:20220301T181911Z
LAST-MODIFIED:20220302T181954Z
UID:2547-1648551600-1648555200@superioroslc.com
SUMMARY:Pastor text study
DESCRIPTION:
URL:https://superioroslc.com/event/pastor-text-study-77/
CATEGORIES:Education
END:VEVENT
BEGIN:VEVENT
DTSTART;TZID=America/Chicago:20220330T100000
DTEND;TZID=America/Chicago:20220330T110000
DTSTAMP:20260422T174444
CREATED:20220301T182003Z
LAST-MODIFIED:20220302T182040Z
UID:2549-1648634400-1648638000@superioroslc.com
SUMMARY:Bible study
DESCRIPTION:
URL:https://superioroslc.com/event/bible-study-85/
CATEGORIES:Education
END:VEVENT
BEGIN:VEVENT
DTSTART;TZID=America/Chicago:20220330T153000
DTEND;TZID=America/Chicago:20220330T163000
DTSTAMP:20260422T174444
CREATED:20220301T182147Z
LAST-MODIFIED:20220302T182237Z
UID:2553-1648654200-1648657800@superioroslc.com
SUMMARY:Confirmation class
DESCRIPTION:
URL:https://superioroslc.com/event/confirmation-class-51/
CATEGORIES:Education
END:VEVENT
BEGIN:VEVENT
DTSTART;TZID=America/Chicago:20220402T100000
DTEND;TZID=America/Chicago:20220402T120000
DTSTAMP:20260422T174444
CREATED:20220401T171457Z
LAST-MODIFIED:20220502T171752Z
UID:2633-1648893600-1648900800@superioroslc.com
SUMMARY:First communion class @ Zion Lutheran
DESCRIPTION:
URL:https://superioroslc.com/event/first-communion-class-zion-lutheran/
CATEGORIES:Education
END:VEVENT
BEGIN:VEVENT
DTSTART;TZID=America/Chicago:20220403T093000
DTEND;TZID=America/Chicago:20220403T103000
DTSTAMP:20260422T174444
CREATED:20220401T172126Z
LAST-MODIFIED:20220502T172247Z
UID:2640-1648978200-1648981800@superioroslc.com
SUMMARY:Sunday school
DESCRIPTION:
URL:https://superioroslc.com/event/sunday-school-37/
CATEGORIES:Education
END:VEVENT
BEGIN:VEVENT
DTSTART;TZID=America/Chicago:20220405T110000
DTEND;TZID=America/Chicago:20220405T120000
DTSTAMP:20260422T174444
CREATED:20220401T172317Z
LAST-MODIFIED:20220502T172402Z
UID:2642-1649156400-1649160000@superioroslc.com
SUMMARY:Pastor text study
DESCRIPTION:
URL:https://superioroslc.com/event/pastor-text-study-78/
CATEGORIES:Education
END:VEVENT
BEGIN:VEVENT
DTSTART;TZID=America/Chicago:20220406T100000
DTEND;TZID=America/Chicago:20220406T110000
DTSTAMP:20260422T174444
CREATED:20220401T172412Z
LAST-MODIFIED:20220502T172457Z
UID:2644-1649239200-1649242800@superioroslc.com
SUMMARY:Bible study
DESCRIPTION:
URL:https://superioroslc.com/event/bible-study-87/
CATEGORIES:Education
END:VEVENT
BEGIN:VEVENT
DTSTART;TZID=America/Chicago:20220406T133000
DTEND;TZID=America/Chicago:20220406T143000
DTSTAMP:20260422T174444
CREATED:20220401T172510Z
LAST-MODIFIED:20220502T172602Z
UID:2646-1649251800-1649255400@superioroslc.com
SUMMARY:Harmony House Bible study
DESCRIPTION:
URL:https://superioroslc.com/event/harmony-house-bible-study-2/
CATEGORIES:Education
END:VEVENT
BEGIN:VEVENT
DTSTART;TZID=America/Chicago:20220406T143000
DTEND;TZID=America/Chicago:20220406T153000
DTSTAMP:20260422T174444
CREATED:20220401T172612Z
LAST-MODIFIED:20220502T172704Z
UID:2648-1649255400-1649259000@superioroslc.com
SUMMARY:Confirmation class
DESCRIPTION:
URL:https://superioroslc.com/event/confirmation-class-52/
CATEGORIES:Education
END:VEVENT
BEGIN:VEVENT
DTSTART;TZID=America/Chicago:20220410T093000
DTEND;TZID=America/Chicago:20220410T103000
DTSTAMP:20260422T174444
CREATED:20220401T173146Z
LAST-MODIFIED:20220502T173230Z
UID:2658-1649583000-1649586600@superioroslc.com
SUMMARY:Sunday school
DESCRIPTION:
URL:https://superioroslc.com/event/sunday-school-38/
CATEGORIES:Education
END:VEVENT
BEGIN:VEVENT
DTSTART;TZID=America/Chicago:20220412T110000
DTEND;TZID=America/Chicago:20220412T120000
DTSTAMP:20260422T174444
CREATED:20220401T173341Z
LAST-MODIFIED:20220502T173437Z
UID:2662-1649761200-1649764800@superioroslc.com
SUMMARY:Pastor text study
DESCRIPTION:
URL:https://superioroslc.com/event/pastor-text-study-79/
CATEGORIES:Education
END:VEVENT
BEGIN:VEVENT
DTSTART;TZID=America/Chicago:20220413T100000
DTEND;TZID=America/Chicago:20220413T110000
DTSTAMP:20260422T174444
CREATED:20220401T173805Z
LAST-MODIFIED:20220502T174002Z
UID:2668-1649844000-1649847600@superioroslc.com
SUMMARY:Confirmation class
DESCRIPTION:
URL:https://superioroslc.com/event/confirmation-class-53/
CATEGORIES:Education
END:VEVENT
END:VCALENDAR