BEGIN:VCALENDAR
VERSION:2.0
PRODID:-//Our Savior&#039;s Lutheran Church - ECPv6.15.16//NONSGML v1.0//EN
CALSCALE:GREGORIAN
METHOD:PUBLISH
X-WR-CALNAME:Our Savior&#039;s Lutheran Church
X-ORIGINAL-URL:https://superioroslc.com
X-WR-CALDESC:Events for Our Savior&#039;s Lutheran Church
REFRESH-INTERVAL;VALUE=DURATION:PT1H
X-Robots-Tag:noindex
X-PUBLISHED-TTL:PT1H
BEGIN:VTIMEZONE
TZID:UTC
BEGIN:STANDARD
TZOFFSETFROM:+0000
TZOFFSETTO:+0000
TZNAME:UTC
DTSTART:20210101T000000
END:STANDARD
END:VTIMEZONE
BEGIN:VEVENT
DTSTART;TZID=UTC:20221009T093000
DTEND;TZID=UTC:20221009T103000
DTSTAMP:20260421T210547
CREATED:20221001T163152Z
LAST-MODIFIED:20221002T163226Z
UID:3144-1665307800-1665311400@superioroslc.com
SUMMARY:Sunday school
DESCRIPTION:
URL:https://superioroslc.com/event/sunday-school-47/
CATEGORIES:Education
END:VEVENT
BEGIN:VEVENT
DTSTART;TZID=UTC:20221011T110000
DTEND;TZID=UTC:20221011T120000
DTSTAMP:20260421T210547
CREATED:20221001T163327Z
LAST-MODIFIED:20221002T163408Z
UID:3148-1665486000-1665489600@superioroslc.com
SUMMARY:Pastor's text study
DESCRIPTION:
URL:https://superioroslc.com/event/pastors-text-study-16/
CATEGORIES:Education
END:VEVENT
BEGIN:VEVENT
DTSTART;TZID=UTC:20221012T101500
DTEND;TZID=UTC:20221012T111500
DTSTAMP:20260421T210547
CREATED:20221001T163618Z
LAST-MODIFIED:20221002T163701Z
UID:3154-1665569700-1665573300@superioroslc.com
SUMMARY:Bible study
DESCRIPTION:
URL:https://superioroslc.com/event/bible-study-111/
CATEGORIES:Education
END:VEVENT
BEGIN:VEVENT
DTSTART;TZID=UTC:20221012T153000
DTEND;TZID=UTC:20221012T163000
DTSTAMP:20260421T210547
CREATED:20221001T163715Z
LAST-MODIFIED:20221002T163752Z
UID:3156-1665588600-1665592200@superioroslc.com
SUMMARY:Confirmation class
DESCRIPTION:
URL:https://superioroslc.com/event/confirmation-class-62/
CATEGORIES:Education
END:VEVENT
BEGIN:VEVENT
DTSTART;TZID=UTC:20221016T093000
DTEND;TZID=UTC:20221016T103000
DTSTAMP:20260421T210547
CREATED:20221001T164112Z
LAST-MODIFIED:20221002T164149Z
UID:3166-1665912600-1665916200@superioroslc.com
SUMMARY:Sunday school
DESCRIPTION:
URL:https://superioroslc.com/event/sunday-school-48/
CATEGORIES:Education
END:VEVENT
BEGIN:VEVENT
DTSTART;TZID=UTC:20221018T110000
DTEND;TZID=UTC:20221018T120000
DTSTAMP:20260421T210547
CREATED:20221001T164159Z
LAST-MODIFIED:20221002T164239Z
UID:3168-1666090800-1666094400@superioroslc.com
SUMMARY:Pastor's text study
DESCRIPTION:
URL:https://superioroslc.com/event/pastors-text-study-17/
CATEGORIES:Education
END:VEVENT
BEGIN:VEVENT
DTSTART;TZID=UTC:20221019T101500
DTEND;TZID=UTC:20221019T111500
DTSTAMP:20260421T210547
CREATED:20221001T164438Z
LAST-MODIFIED:20221002T164526Z
UID:3174-1666174500-1666178100@superioroslc.com
SUMMARY:Bible study
DESCRIPTION:
URL:https://superioroslc.com/event/bible-study-112/
CATEGORIES:Education
END:VEVENT
BEGIN:VEVENT
DTSTART;TZID=UTC:20221019T153000
DTEND;TZID=UTC:20221019T163000
DTSTAMP:20260421T210547
CREATED:20221001T164539Z
LAST-MODIFIED:20221002T164615Z
UID:3176-1666193400-1666197000@superioroslc.com
SUMMARY:Confirmation class
DESCRIPTION:
URL:https://superioroslc.com/event/confirmation-class-63/
CATEGORIES:Education
END:VEVENT
BEGIN:VEVENT
DTSTART;TZID=UTC:20221023T093000
DTEND;TZID=UTC:20221023T103000
DTSTAMP:20260421T210547
CREATED:20221001T165639Z
LAST-MODIFIED:20221002T165710Z
UID:3189-1666517400-1666521000@superioroslc.com
SUMMARY:Sunday school
DESCRIPTION:
URL:https://superioroslc.com/event/sunday-school-49/
CATEGORIES:Education
END:VEVENT
BEGIN:VEVENT
DTSTART;TZID=UTC:20221025T110000
DTEND;TZID=UTC:20221025T120000
DTSTAMP:20260421T210547
CREATED:20221001T165815Z
LAST-MODIFIED:20221002T165849Z
UID:3193-1666695600-1666699200@superioroslc.com
SUMMARY:Pastor's text study
DESCRIPTION:
URL:https://superioroslc.com/event/pastors-text-study-18/
CATEGORIES:Education
END:VEVENT
BEGIN:VEVENT
DTSTART;TZID=UTC:20221026T101500
DTEND;TZID=UTC:20221026T111500
DTSTAMP:20260421T210547
CREATED:20221001T165951Z
LAST-MODIFIED:20221002T170032Z
UID:3197-1666779300-1666782900@superioroslc.com
SUMMARY:Bible study
DESCRIPTION:
URL:https://superioroslc.com/event/bible-study-113/
CATEGORIES:Education
END:VEVENT
BEGIN:VEVENT
DTSTART;TZID=UTC:20221026T153000
DTEND;TZID=UTC:20221026T163000
DTSTAMP:20260421T210547
CREATED:20221001T170138Z
LAST-MODIFIED:20221002T170210Z
UID:3201-1666798200-1666801800@superioroslc.com
SUMMARY:Confirmation class
DESCRIPTION:
URL:https://superioroslc.com/event/confirmation-class-64/
CATEGORIES:Education
END:VEVENT
BEGIN:VEVENT
DTSTART;TZID=UTC:20221030T093000
DTEND;TZID=UTC:20221030T103000
DTSTAMP:20260421T210547
CREATED:20221001T170556Z
LAST-MODIFIED:20221002T170631Z
UID:3213-1667122200-1667125800@superioroslc.com
SUMMARY:Sunday school
DESCRIPTION:
URL:https://superioroslc.com/event/sunday-school-50/
CATEGORIES:Education
END:VEVENT
BEGIN:VEVENT
DTSTART;TZID=UTC:20221101T110000
DTEND;TZID=UTC:20221101T120000
DTSTAMP:20260421T210547
CREATED:20221102T001152Z
LAST-MODIFIED:20221102T001152Z
UID:3243-1667300400-1667304000@superioroslc.com
SUMMARY:Pastor text study
DESCRIPTION:
URL:https://superioroslc.com/event/pastor-text-study-100/
CATEGORIES:Education
END:VEVENT
BEGIN:VEVENT
DTSTART;TZID=UTC:20221102T101500
DTEND;TZID=UTC:20221102T111500
DTSTAMP:20260421T210547
CREATED:20221102T001405Z
LAST-MODIFIED:20221102T001405Z
UID:3247-1667384100-1667387700@superioroslc.com
SUMMARY:Bible study
DESCRIPTION:
URL:https://superioroslc.com/event/bible-study-114/
CATEGORIES:Education
END:VEVENT
BEGIN:VEVENT
DTSTART;TZID=UTC:20221102T153000
DTEND;TZID=UTC:20221102T163000
DTSTAMP:20260421T210547
CREATED:20221102T001553Z
LAST-MODIFIED:20221102T001553Z
UID:3251-1667403000-1667406600@superioroslc.com
SUMMARY:Confirmation class
DESCRIPTION:
URL:https://superioroslc.com/event/confirmation-class-65/
CATEGORIES:Education
END:VEVENT
BEGIN:VEVENT
DTSTART;TZID=UTC:20221106T093000
DTEND;TZID=UTC:20221106T103000
DTSTAMP:20260421T210547
CREATED:20221102T002004Z
LAST-MODIFIED:20221102T002004Z
UID:3261-1667727000-1667730600@superioroslc.com
SUMMARY:Sunday school
DESCRIPTION:
URL:https://superioroslc.com/event/sunday-school-51/
CATEGORIES:Education
END:VEVENT
BEGIN:VEVENT
DTSTART;TZID=UTC:20221108T110000
DTEND;TZID=UTC:20221108T120000
DTSTAMP:20260421T210547
CREATED:20221102T002048Z
LAST-MODIFIED:20221102T002048Z
UID:3263-1667905200-1667908800@superioroslc.com
SUMMARY:Pastor text study
DESCRIPTION:
URL:https://superioroslc.com/event/pastor-text-study-101/
CATEGORIES:Education
END:VEVENT
BEGIN:VEVENT
DTSTART;TZID=UTC:20221109T101500
DTEND;TZID=UTC:20221109T111500
DTSTAMP:20260421T210547
CREATED:20221102T002328Z
LAST-MODIFIED:20221102T002329Z
UID:3269-1667988900-1667992500@superioroslc.com
SUMMARY:Bible study
DESCRIPTION:
URL:https://superioroslc.com/event/bible-study-115/
CATEGORIES:Education
END:VEVENT
BEGIN:VEVENT
DTSTART;TZID=UTC:20221109T153000
DTEND;TZID=UTC:20221109T163000
DTSTAMP:20260421T210547
CREATED:20221102T002411Z
LAST-MODIFIED:20221102T002411Z
UID:3271-1668007800-1668011400@superioroslc.com
SUMMARY:Confirmation class
DESCRIPTION:
URL:https://superioroslc.com/event/confirmation-class-66/
CATEGORIES:Education
END:VEVENT
BEGIN:VEVENT
DTSTART;TZID=UTC:20221113T093000
DTEND;TZID=UTC:20221113T103000
DTSTAMP:20260421T210547
CREATED:20221102T002949Z
LAST-MODIFIED:20221102T002949Z
UID:3283-1668331800-1668335400@superioroslc.com
SUMMARY:Sunday school
DESCRIPTION:
URL:https://superioroslc.com/event/sunday-school-52/
CATEGORIES:Education
END:VEVENT
BEGIN:VEVENT
DTSTART;TZID=UTC:20221115T110000
DTEND;TZID=UTC:20221115T120000
DTSTAMP:20260421T210547
CREATED:20221102T003120Z
LAST-MODIFIED:20221102T003120Z
UID:3287-1668510000-1668513600@superioroslc.com
SUMMARY:Pastor text study
DESCRIPTION:
URL:https://superioroslc.com/event/pastor-text-study-102/
CATEGORIES:Education
END:VEVENT
BEGIN:VEVENT
DTSTART;TZID=UTC:20221116T101500
DTEND;TZID=UTC:20221116T111500
DTSTAMP:20260421T210547
CREATED:20221102T003425Z
LAST-MODIFIED:20221102T003425Z
UID:3294-1668593700-1668597300@superioroslc.com
SUMMARY:Bible study
DESCRIPTION:
URL:https://superioroslc.com/event/bible-study-116/
CATEGORIES:Education
END:VEVENT
BEGIN:VEVENT
DTSTART;TZID=UTC:20221116T153000
DTEND;TZID=UTC:20221116T163000
DTSTAMP:20260421T210547
CREATED:20221102T003505Z
LAST-MODIFIED:20221102T003505Z
UID:3296-1668612600-1668616200@superioroslc.com
SUMMARY:Confirmation class
DESCRIPTION:
URL:https://superioroslc.com/event/confirmation-class-67/
CATEGORIES:Education
END:VEVENT
BEGIN:VEVENT
DTSTART;TZID=UTC:20221120T093000
DTEND;TZID=UTC:20221120T103000
DTSTAMP:20260421T210547
CREATED:20221102T003956Z
LAST-MODIFIED:20221102T003956Z
UID:3309-1668936600-1668940200@superioroslc.com
SUMMARY:Sunday school
DESCRIPTION:
URL:https://superioroslc.com/event/sunday-school-53/
CATEGORIES:Education
END:VEVENT
BEGIN:VEVENT
DTSTART;TZID=UTC:20221122T110000
DTEND;TZID=UTC:20221122T120000
DTSTAMP:20260421T210547
CREATED:20221102T004058Z
LAST-MODIFIED:20221102T004118Z
UID:3312-1669114800-1669118400@superioroslc.com
SUMMARY:Pastor text study
DESCRIPTION:
URL:https://superioroslc.com/event/pastor-text-study-103/
CATEGORIES:Education
END:VEVENT
BEGIN:VEVENT
DTSTART;TZID=UTC:20221127T093000
DTEND;TZID=UTC:20221127T103000
DTSTAMP:20260421T210547
CREATED:20221102T004337Z
LAST-MODIFIED:20221102T004337Z
UID:3318-1669541400-1669545000@superioroslc.com
SUMMARY:Sunday school
DESCRIPTION:
URL:https://superioroslc.com/event/sunday-school-54/
CATEGORIES:Education
END:VEVENT
BEGIN:VEVENT
DTSTART;TZID=UTC:20221129T110000
DTEND;TZID=UTC:20221129T120000
DTSTAMP:20260421T210547
CREATED:20221102T004500Z
LAST-MODIFIED:20221102T004500Z
UID:3322-1669719600-1669723200@superioroslc.com
SUMMARY:Pastor text study
DESCRIPTION:
URL:https://superioroslc.com/event/pastor-text-study-104/
CATEGORIES:Education
END:VEVENT
BEGIN:VEVENT
DTSTART;TZID=UTC:20221130T101500
DTEND;TZID=UTC:20221130T111500
DTSTAMP:20260421T210547
CREATED:20221102T004635Z
LAST-MODIFIED:20221102T004635Z
UID:3326-1669803300-1669806900@superioroslc.com
SUMMARY:Bible study (Bishop Laurie)
DESCRIPTION:
URL:https://superioroslc.com/event/bible-study-bishop-laurie/
CATEGORIES:Education
END:VEVENT
BEGIN:VEVENT
DTSTART;TZID=UTC:20221130T153000
DTEND;TZID=UTC:20221130T163000
DTSTAMP:20260421T210547
CREATED:20221102T004756Z
LAST-MODIFIED:20221102T004756Z
UID:3330-1669822200-1669825800@superioroslc.com
SUMMARY:Confirmation class
DESCRIPTION:
URL:https://superioroslc.com/event/confirmation-class-68/
CATEGORIES:Education
END:VEVENT
END:VCALENDAR