BEGIN:VCALENDAR
VERSION:2.0
PRODID:-//Our Savior&#039;s Lutheran Church - ECPv6.15.16//NONSGML v1.0//EN
CALSCALE:GREGORIAN
METHOD:PUBLISH
X-ORIGINAL-URL:https://superioroslc.com
X-WR-CALDESC:Events for Our Savior&#039;s Lutheran Church
REFRESH-INTERVAL;VALUE=DURATION:PT1H
X-Robots-Tag:noindex
X-PUBLISHED-TTL:PT1H
BEGIN:VTIMEZONE
TZID:America/Chicago
BEGIN:DAYLIGHT
TZOFFSETFROM:-0600
TZOFFSETTO:-0500
TZNAME:CDT
DTSTART:20210314T080000
END:DAYLIGHT
BEGIN:STANDARD
TZOFFSETFROM:-0500
TZOFFSETTO:-0600
TZNAME:CST
DTSTART:20211107T070000
END:STANDARD
BEGIN:DAYLIGHT
TZOFFSETFROM:-0600
TZOFFSETTO:-0500
TZNAME:CDT
DTSTART:20220313T080000
END:DAYLIGHT
BEGIN:STANDARD
TZOFFSETFROM:-0500
TZOFFSETTO:-0600
TZNAME:CST
DTSTART:20221106T070000
END:STANDARD
BEGIN:DAYLIGHT
TZOFFSETFROM:-0600
TZOFFSETTO:-0500
TZNAME:CDT
DTSTART:20230312T080000
END:DAYLIGHT
BEGIN:STANDARD
TZOFFSETFROM:-0500
TZOFFSETTO:-0600
TZNAME:CST
DTSTART:20231105T070000
END:STANDARD
BEGIN:DAYLIGHT
TZOFFSETFROM:-0600
TZOFFSETTO:-0500
TZNAME:CDT
DTSTART:20240310T080000
END:DAYLIGHT
BEGIN:STANDARD
TZOFFSETFROM:-0500
TZOFFSETTO:-0600
TZNAME:CST
DTSTART:20241103T070000
END:STANDARD
END:VTIMEZONE
BEGIN:VEVENT
DTSTART;TZID=America/Chicago:20221204T093000
DTEND;TZID=America/Chicago:20221204T103000
DTSTAMP:20260420T230046
CREATED:20221201T175736Z
LAST-MODIFIED:20221205T175819Z
UID:3380-1670146200-1670149800@superioroslc.com
SUMMARY:Sunday school
DESCRIPTION:
URL:https://superioroslc.com/event/sunday-school-55/
CATEGORIES:Education
END:VEVENT
BEGIN:VEVENT
DTSTART;TZID=America/Chicago:20221206T110000
DTEND;TZID=America/Chicago:20221206T120000
DTSTAMP:20260420T230046
CREATED:20221205T180040Z
LAST-MODIFIED:20221205T180040Z
UID:3384-1670324400-1670328000@superioroslc.com
SUMMARY:Pastor text study
DESCRIPTION:
URL:https://superioroslc.com/event/pastor-text-study-105/
CATEGORIES:Education
END:VEVENT
BEGIN:VEVENT
DTSTART;TZID=America/Chicago:20221207T101500
DTEND;TZID=America/Chicago:20221207T111500
DTSTAMP:20260420T230046
CREATED:20221201T180057Z
LAST-MODIFIED:20221205T180151Z
UID:3386-1670408100-1670411700@superioroslc.com
SUMMARY:Bible study
DESCRIPTION:
URL:https://superioroslc.com/event/bible-study-117/
CATEGORIES:Education
END:VEVENT
BEGIN:VEVENT
DTSTART;TZID=America/Chicago:20221207T133000
DTEND;TZID=America/Chicago:20221207T143000
DTSTAMP:20260420T230046
CREATED:20221201T180209Z
LAST-MODIFIED:20221205T180312Z
UID:3388-1670419800-1670423400@superioroslc.com
SUMMARY:Harmony House bible study
DESCRIPTION:
URL:https://superioroslc.com/event/harmony-house-bible-study-6/
CATEGORIES:Education
END:VEVENT
BEGIN:VEVENT
DTSTART;TZID=America/Chicago:20221207T153000
DTEND;TZID=America/Chicago:20221207T163000
DTSTAMP:20260420T230046
CREATED:20221201T180418Z
LAST-MODIFIED:20221205T180459Z
UID:3390-1670427000-1670430600@superioroslc.com
SUMMARY:Confirmation class
DESCRIPTION:
URL:https://superioroslc.com/event/confirmation-class-69/
CATEGORIES:Education
END:VEVENT
BEGIN:VEVENT
DTSTART;TZID=America/Chicago:20221211T093000
DTEND;TZID=America/Chicago:20221211T103000
DTSTAMP:20260420T230046
CREATED:20221201T180859Z
LAST-MODIFIED:20221205T180945Z
UID:3398-1670751000-1670754600@superioroslc.com
SUMMARY:Sunday school
DESCRIPTION:
URL:https://superioroslc.com/event/sunday-school-56/
CATEGORIES:Education
END:VEVENT
BEGIN:VEVENT
DTSTART;TZID=America/Chicago:20221213T110000
DTEND;TZID=America/Chicago:20221213T120000
DTSTAMP:20260420T230046
CREATED:20221201T181100Z
LAST-MODIFIED:20221205T181148Z
UID:3402-1670929200-1670932800@superioroslc.com
SUMMARY:Pastor text study
DESCRIPTION:
URL:https://superioroslc.com/event/pastor-text-study-106/
CATEGORIES:Education
END:VEVENT
BEGIN:VEVENT
DTSTART;TZID=America/Chicago:20221214T101500
DTEND;TZID=America/Chicago:20221214T111500
DTSTAMP:20260420T230046
CREATED:20221201T181515Z
LAST-MODIFIED:20221205T181605Z
UID:3408-1671012900-1671016500@superioroslc.com
SUMMARY:Bible study
DESCRIPTION:
URL:https://superioroslc.com/event/bible-study-118/
CATEGORIES:Education
END:VEVENT
BEGIN:VEVENT
DTSTART;TZID=America/Chicago:20221214T153000
DTEND;TZID=America/Chicago:20221214T163000
DTSTAMP:20260420T230046
CREATED:20221201T181707Z
LAST-MODIFIED:20221205T181753Z
UID:3410-1671031800-1671035400@superioroslc.com
SUMMARY:Confirmation
DESCRIPTION:
URL:https://superioroslc.com/event/confirmation-9/
CATEGORIES:Education
END:VEVENT
BEGIN:VEVENT
DTSTART;TZID=America/Chicago:20221220T110000
DTEND;TZID=America/Chicago:20221220T120000
DTSTAMP:20260420T230046
CREATED:20221201T182230Z
LAST-MODIFIED:20221205T182313Z
UID:3418-1671534000-1671537600@superioroslc.com
SUMMARY:Pastor text study
DESCRIPTION:
URL:https://superioroslc.com/event/pastor-text-study-107/
CATEGORIES:Education
END:VEVENT
BEGIN:VEVENT
DTSTART;VALUE=DATE:20221221
DTEND;VALUE=DATE:20221222
DTSTAMP:20260420T230046
CREATED:20221201T182712Z
LAST-MODIFIED:20221205T182751Z
UID:3426-1671580800-1671667199@superioroslc.com
SUMMARY:No confirmation
DESCRIPTION:
URL:https://superioroslc.com/event/no-confirmation-7/
CATEGORIES:Education
END:VEVENT
BEGIN:VEVENT
DTSTART;TZID=America/Chicago:20221221T101500
DTEND;TZID=America/Chicago:20221221T111500
DTSTAMP:20260420T230046
CREATED:20221201T182608Z
LAST-MODIFIED:20221205T182657Z
UID:3424-1671617700-1671621300@superioroslc.com
SUMMARY:Bible study
DESCRIPTION:
URL:https://superioroslc.com/event/bible-study-119/
CATEGORIES:Education
END:VEVENT
BEGIN:VEVENT
DTSTART;VALUE=DATE:20221227
DTEND;VALUE=DATE:20221228
DTSTAMP:20260420T230046
CREATED:20221201T183420Z
LAST-MODIFIED:20221205T183458Z
UID:3440-1672099200-1672185599@superioroslc.com
SUMMARY:No pastor text study
DESCRIPTION:
URL:https://superioroslc.com/event/no-pastor-text-study-2/
CATEGORIES:Education
END:VEVENT
BEGIN:VEVENT
DTSTART;VALUE=DATE:20221228
DTEND;VALUE=DATE:20221229
DTSTAMP:20260420T230046
CREATED:20221201T183609Z
LAST-MODIFIED:20221205T183650Z
UID:3444-1672185600-1672271999@superioroslc.com
SUMMARY:No Bible study
DESCRIPTION:
URL:https://superioroslc.com/event/no-bible-study-11/
CATEGORIES:Education
END:VEVENT
BEGIN:VEVENT
DTSTART;VALUE=DATE:20221228
DTEND;VALUE=DATE:20221229
DTSTAMP:20260420T230046
CREATED:20221201T183659Z
LAST-MODIFIED:20221205T183735Z
UID:3446-1672185600-1672271999@superioroslc.com
SUMMARY:No confirmation
DESCRIPTION:
URL:https://superioroslc.com/event/no-confirmation-8/
CATEGORIES:Education
END:VEVENT
BEGIN:VEVENT
DTSTART;TZID=America/Chicago:20230103T110000
DTEND;TZID=America/Chicago:20230103T120000
DTSTAMP:20260420T230046
CREATED:20230101T231715Z
LAST-MODIFIED:20230104T231757Z
UID:3496-1672743600-1672747200@superioroslc.com
SUMMARY:Pastors text study
DESCRIPTION:
URL:https://superioroslc.com/event/pastors-text-study-19/
CATEGORIES:Education
END:VEVENT
BEGIN:VEVENT
DTSTART;VALUE=DATE:20230104
DTEND;VALUE=DATE:20230105
DTSTAMP:20260420T230046
CREATED:20230101T231859Z
LAST-MODIFIED:20230104T231928Z
UID:3500-1672790400-1672876799@superioroslc.com
SUMMARY:No Bible study
DESCRIPTION:
URL:https://superioroslc.com/event/no-bible-study-12/
CATEGORIES:Education
END:VEVENT
BEGIN:VEVENT
DTSTART;VALUE=DATE:20230104
DTEND;VALUE=DATE:20230105
DTSTAMP:20260420T230046
CREATED:20230101T231937Z
LAST-MODIFIED:20230104T232014Z
UID:3502-1672790400-1672876799@superioroslc.com
SUMMARY:No Harmony House Bible study
DESCRIPTION:
URL:https://superioroslc.com/event/no-harmony-house-bible-study/
CATEGORIES:Education
END:VEVENT
BEGIN:VEVENT
DTSTART;VALUE=DATE:20230104
DTEND;VALUE=DATE:20230105
DTSTAMP:20260420T230046
CREATED:20230101T232023Z
LAST-MODIFIED:20230104T232050Z
UID:3504-1672790400-1672876799@superioroslc.com
SUMMARY:No confirmation class
DESCRIPTION:
URL:https://superioroslc.com/event/no-confirmation-class-4/
CATEGORIES:Education
END:VEVENT
BEGIN:VEVENT
DTSTART;TZID=America/Chicago:20230108T093000
DTEND;TZID=America/Chicago:20230108T103000
DTSTAMP:20260420T230046
CREATED:20230101T232412Z
LAST-MODIFIED:20230104T232448Z
UID:3514-1673170200-1673173800@superioroslc.com
SUMMARY:Sunday school
DESCRIPTION:
URL:https://superioroslc.com/event/sunday-school-57/
CATEGORIES:Education
END:VEVENT
BEGIN:VEVENT
DTSTART;TZID=America/Chicago:20230110T110000
DTEND;TZID=America/Chicago:20230110T120000
DTSTAMP:20260420T230046
CREATED:20230101T232601Z
LAST-MODIFIED:20230104T232729Z
UID:3518-1673348400-1673352000@superioroslc.com
SUMMARY:Pastors text study
DESCRIPTION:
URL:https://superioroslc.com/event/pastors-text-study-20/
CATEGORIES:Education
END:VEVENT
BEGIN:VEVENT
DTSTART;TZID=America/Chicago:20230111T101500
DTEND;TZID=America/Chicago:20230111T111500
DTSTAMP:20260420T230046
CREATED:20230101T232950Z
LAST-MODIFIED:20230104T233026Z
UID:3524-1673432100-1673435700@superioroslc.com
SUMMARY:Bible study
DESCRIPTION:
URL:https://superioroslc.com/event/bible-study-120/
CATEGORIES:Education
END:VEVENT
BEGIN:VEVENT
DTSTART;TZID=America/Chicago:20230111T153000
DTEND;TZID=America/Chicago:20230111T163000
DTSTAMP:20260420T230046
CREATED:20230101T233039Z
LAST-MODIFIED:20230104T233114Z
UID:3526-1673451000-1673454600@superioroslc.com
SUMMARY:Confirmation class
DESCRIPTION:
URL:https://superioroslc.com/event/confirmation-class-70/
CATEGORIES:Education
END:VEVENT
BEGIN:VEVENT
DTSTART;TZID=America/Chicago:20230115T093000
DTEND;TZID=America/Chicago:20230115T103000
DTSTAMP:20260420T230046
CREATED:20230101T233442Z
LAST-MODIFIED:20230104T233520Z
UID:3536-1673775000-1673778600@superioroslc.com
SUMMARY:Sunday school
DESCRIPTION:
URL:https://superioroslc.com/event/sunday-school-58/
CATEGORIES:Education
END:VEVENT
BEGIN:VEVENT
DTSTART;TZID=America/Chicago:20230117T110000
DTEND;TZID=America/Chicago:20230117T120000
DTSTAMP:20260420T230046
CREATED:20230101T233531Z
LAST-MODIFIED:20230104T233609Z
UID:3538-1673953200-1673956800@superioroslc.com
SUMMARY:Pastors text study
DESCRIPTION:
URL:https://superioroslc.com/event/pastors-text-study-21/
CATEGORIES:Education
END:VEVENT
BEGIN:VEVENT
DTSTART;TZID=America/Chicago:20230118T101500
DTEND;TZID=America/Chicago:20230118T111500
DTSTAMP:20260420T230046
CREATED:20230101T233803Z
LAST-MODIFIED:20230104T233838Z
UID:3544-1674036900-1674040500@superioroslc.com
SUMMARY:Bible study
DESCRIPTION:
URL:https://superioroslc.com/event/bible-study-121/
CATEGORIES:Education
END:VEVENT
BEGIN:VEVENT
DTSTART;TZID=America/Chicago:20230122T093000
DTEND;TZID=America/Chicago:20230122T103000
DTSTAMP:20260420T230046
CREATED:20230101T234133Z
LAST-MODIFIED:20230104T234208Z
UID:3552-1674379800-1674383400@superioroslc.com
SUMMARY:Sunday school
DESCRIPTION:
URL:https://superioroslc.com/event/sunday-school-59/
CATEGORIES:Education
END:VEVENT
BEGIN:VEVENT
DTSTART;TZID=America/Chicago:20230124T110000
DTEND;TZID=America/Chicago:20230124T120000
DTSTAMP:20260420T230046
CREATED:20230101T234357Z
LAST-MODIFIED:20230104T234431Z
UID:3558-1674558000-1674561600@superioroslc.com
SUMMARY:Pastors text study
DESCRIPTION:
URL:https://superioroslc.com/event/pastors-text-study-22/
CATEGORIES:Education
END:VEVENT
BEGIN:VEVENT
DTSTART;TZID=America/Chicago:20230125T101500
DTEND;TZID=America/Chicago:20230125T111500
DTSTAMP:20260420T230046
CREATED:20230101T234543Z
LAST-MODIFIED:20230104T234634Z
UID:3562-1674641700-1674645300@superioroslc.com
SUMMARY:Bible study
DESCRIPTION:
URL:https://superioroslc.com/event/bible-study-122/
CATEGORIES:Education
END:VEVENT
BEGIN:VEVENT
DTSTART;TZID=America/Chicago:20230125T153000
DTEND;TZID=America/Chicago:20230125T163000
DTSTAMP:20260420T230046
CREATED:20230101T234755Z
LAST-MODIFIED:20230104T234900Z
UID:3566-1674660600-1674664200@superioroslc.com
SUMMARY:Confirmation class
DESCRIPTION:
URL:https://superioroslc.com/event/confirmation-class-71/
CATEGORIES:Education
END:VEVENT
END:VCALENDAR