BEGIN:VCALENDAR
VERSION:2.0
PRODID:-//Our Savior&#039;s Lutheran Church - ECPv6.15.16//NONSGML v1.0//EN
CALSCALE:GREGORIAN
METHOD:PUBLISH
X-WR-CALNAME:Our Savior&#039;s Lutheran Church
X-ORIGINAL-URL:https://superioroslc.com
X-WR-CALDESC:Events for Our Savior&#039;s Lutheran Church
REFRESH-INTERVAL;VALUE=DURATION:PT1H
X-Robots-Tag:noindex
X-PUBLISHED-TTL:PT1H
BEGIN:VTIMEZONE
TZID:America/Chicago
BEGIN:DAYLIGHT
TZOFFSETFROM:-0600
TZOFFSETTO:-0500
TZNAME:CDT
DTSTART:20200308T080000
END:DAYLIGHT
BEGIN:STANDARD
TZOFFSETFROM:-0500
TZOFFSETTO:-0600
TZNAME:CST
DTSTART:20201101T070000
END:STANDARD
BEGIN:DAYLIGHT
TZOFFSETFROM:-0600
TZOFFSETTO:-0500
TZNAME:CDT
DTSTART:20210314T080000
END:DAYLIGHT
BEGIN:STANDARD
TZOFFSETFROM:-0500
TZOFFSETTO:-0600
TZNAME:CST
DTSTART:20211107T070000
END:STANDARD
BEGIN:DAYLIGHT
TZOFFSETFROM:-0600
TZOFFSETTO:-0500
TZNAME:CDT
DTSTART:20220313T080000
END:DAYLIGHT
BEGIN:STANDARD
TZOFFSETFROM:-0500
TZOFFSETTO:-0600
TZNAME:CST
DTSTART:20221106T070000
END:STANDARD
BEGIN:DAYLIGHT
TZOFFSETFROM:-0600
TZOFFSETTO:-0500
TZNAME:CDT
DTSTART:20230312T080000
END:DAYLIGHT
BEGIN:STANDARD
TZOFFSETFROM:-0500
TZOFFSETTO:-0600
TZNAME:CST
DTSTART:20231105T070000
END:STANDARD
END:VTIMEZONE
BEGIN:VEVENT
DTSTART;TZID=America/Chicago:20211123T110000
DTEND;TZID=America/Chicago:20211123T120000
DTSTAMP:20260423T085434
CREATED:20211101T184925Z
LAST-MODIFIED:20211109T195005Z
UID:2072-1637665200-1637668800@superioroslc.com
SUMMARY:Pastor text study
DESCRIPTION:
URL:https://superioroslc.com/event/pastor-text-study-62/
CATEGORIES:Education
END:VEVENT
BEGIN:VEVENT
DTSTART;VALUE=DATE:20211124
DTEND;VALUE=DATE:20211125
DTSTAMP:20260423T085434
CREATED:20211101T185112Z
LAST-MODIFIED:20211109T195150Z
UID:2076-1637712000-1637798399@superioroslc.com
SUMMARY:No confirmation
DESCRIPTION:
URL:https://superioroslc.com/event/no-confirmation-5/
CATEGORIES:Education
END:VEVENT
BEGIN:VEVENT
DTSTART;TZID=America/Chicago:20211124T100000
DTEND;TZID=America/Chicago:20211124T110000
DTSTAMP:20260423T085434
CREATED:20211101T185021Z
LAST-MODIFIED:20211109T195101Z
UID:2074-1637748000-1637751600@superioroslc.com
SUMMARY:Bible study
DESCRIPTION:
URL:https://superioroslc.com/event/bible-study-69/
CATEGORIES:Education
END:VEVENT
BEGIN:VEVENT
DTSTART;VALUE=DATE:20211128
DTEND;VALUE=DATE:20211129
DTSTAMP:20260423T085434
CREATED:20211101T185520Z
LAST-MODIFIED:20211109T195555Z
UID:2084-1638057600-1638143999@superioroslc.com
SUMMARY:No Sunday school
DESCRIPTION:
URL:https://superioroslc.com/event/no-sunday-school-4/
CATEGORIES:Education
END:VEVENT
BEGIN:VEVENT
DTSTART;TZID=America/Chicago:20211130T110000
DTEND;TZID=America/Chicago:20211130T120000
DTSTAMP:20260423T085434
CREATED:20211101T185603Z
LAST-MODIFIED:20211109T195637Z
UID:2086-1638270000-1638273600@superioroslc.com
SUMMARY:Pastor text study
DESCRIPTION:
URL:https://superioroslc.com/event/pastor-text-study-63/
CATEGORIES:Education
END:VEVENT
BEGIN:VEVENT
DTSTART;TZID=America/Chicago:20211201T100000
DTEND;TZID=America/Chicago:20211201T110000
DTSTAMP:20260423T085434
CREATED:20211201T160052Z
LAST-MODIFIED:20211201T210246Z
UID:2113-1638352800-1638356400@superioroslc.com
SUMMARY:Bible study
DESCRIPTION:
URL:https://superioroslc.com/event/bible-study-70/
CATEGORIES:Education
END:VEVENT
BEGIN:VEVENT
DTSTART;TZID=America/Chicago:20211201T153000
DTEND;TZID=America/Chicago:20211201T163000
DTSTAMP:20260423T085434
CREATED:20211201T210321Z
LAST-MODIFIED:20211201T210321Z
UID:2115-1638372600-1638376200@superioroslc.com
SUMMARY:Confirmation
DESCRIPTION:
URL:https://superioroslc.com/event/confirmation-8/
CATEGORIES:Education
END:VEVENT
BEGIN:VEVENT
DTSTART;TZID=America/Chicago:20211205T093000
DTEND;TZID=America/Chicago:20211205T103000
DTSTAMP:20260423T085434
CREATED:20211201T211044Z
LAST-MODIFIED:20211201T211044Z
UID:2123-1638696600-1638700200@superioroslc.com
SUMMARY:Sunday school
DESCRIPTION:
URL:https://superioroslc.com/event/sunday-school-23/
CATEGORIES:Education
END:VEVENT
BEGIN:VEVENT
DTSTART;TZID=America/Chicago:20211207T110000
DTEND;TZID=America/Chicago:20211207T120000
DTSTAMP:20260423T085434
CREATED:20211201T211120Z
LAST-MODIFIED:20211201T211120Z
UID:2125-1638874800-1638878400@superioroslc.com
SUMMARY:Pastor text study
DESCRIPTION:
URL:https://superioroslc.com/event/pastor-text-study-64/
CATEGORIES:Education
END:VEVENT
BEGIN:VEVENT
DTSTART;TZID=America/Chicago:20211208T100000
DTEND;TZID=America/Chicago:20211208T110000
DTSTAMP:20260423T085434
CREATED:20211201T211159Z
LAST-MODIFIED:20211201T211159Z
UID:2127-1638957600-1638961200@superioroslc.com
SUMMARY:Bible study
DESCRIPTION:
URL:https://superioroslc.com/event/bible-study-71/
CATEGORIES:Education
END:VEVENT
BEGIN:VEVENT
DTSTART;TZID=America/Chicago:20211208T153000
DTEND;TZID=America/Chicago:20211208T163000
DTSTAMP:20260423T085434
CREATED:20211201T211236Z
LAST-MODIFIED:20211201T211236Z
UID:2129-1638977400-1638981000@superioroslc.com
SUMMARY:Confirmation class
DESCRIPTION:
URL:https://superioroslc.com/event/confirmation-class-39/
CATEGORIES:Education
END:VEVENT
BEGIN:VEVENT
DTSTART;TZID=America/Chicago:20211212T093000
DTEND;TZID=America/Chicago:20211212T103000
DTSTAMP:20260423T085434
CREATED:20211202T005945Z
LAST-MODIFIED:20211202T005945Z
UID:2138-1639301400-1639305000@superioroslc.com
SUMMARY:Sunday school
DESCRIPTION:
URL:https://superioroslc.com/event/sunday-school-24/
CATEGORIES:Education
END:VEVENT
BEGIN:VEVENT
DTSTART;TZID=America/Chicago:20211214T110000
DTEND;TZID=America/Chicago:20211214T120000
DTSTAMP:20260423T085434
CREATED:20211202T010106Z
LAST-MODIFIED:20211202T010106Z
UID:2142-1639479600-1639483200@superioroslc.com
SUMMARY:Pastor's text study
DESCRIPTION:
URL:https://superioroslc.com/event/pastors-text-study-14/
CATEGORIES:Education
END:VEVENT
BEGIN:VEVENT
DTSTART;TZID=America/Chicago:20211215T100000
DTEND;TZID=America/Chicago:20211215T110000
DTSTAMP:20260423T085434
CREATED:20211202T010234Z
LAST-MODIFIED:20211202T010234Z
UID:2146-1639562400-1639566000@superioroslc.com
SUMMARY:Bible study
DESCRIPTION:
URL:https://superioroslc.com/event/bible-study-72/
CATEGORIES:Education
END:VEVENT
BEGIN:VEVENT
DTSTART;TZID=America/Chicago:20211215T153000
DTEND;TZID=America/Chicago:20211215T163000
DTSTAMP:20260423T085434
CREATED:20211202T010306Z
LAST-MODIFIED:20211202T010306Z
UID:2148-1639582200-1639585800@superioroslc.com
SUMMARY:Confirmation class
DESCRIPTION:
URL:https://superioroslc.com/event/confirmation-class-40/
CATEGORIES:Education
END:VEVENT
BEGIN:VEVENT
DTSTART;TZID=America/Chicago:20211221T110000
DTEND;TZID=America/Chicago:20211221T120000
DTSTAMP:20260423T085434
CREATED:20211202T010835Z
LAST-MODIFIED:20211202T010835Z
UID:2161-1640084400-1640088000@superioroslc.com
SUMMARY:Pastor text study
DESCRIPTION:
URL:https://superioroslc.com/event/pastor-text-study-65/
CATEGORIES:Education
END:VEVENT
BEGIN:VEVENT
DTSTART;VALUE=DATE:20211222
DTEND;VALUE=DATE:20211223
DTSTAMP:20260423T085434
CREATED:20211202T011027Z
LAST-MODIFIED:20211202T011027Z
UID:2167-1640131200-1640217599@superioroslc.com
SUMMARY:NO CONFIRMATION
DESCRIPTION:
URL:https://superioroslc.com/event/no-confirmation-6/
CATEGORIES:Education
END:VEVENT
BEGIN:VEVENT
DTSTART;TZID=America/Chicago:20211222T100000
DTEND;TZID=America/Chicago:20211222T110000
DTSTAMP:20260423T085434
CREATED:20211202T010953Z
LAST-MODIFIED:20211202T010953Z
UID:2165-1640167200-1640170800@superioroslc.com
SUMMARY:Bible study
DESCRIPTION:
URL:https://superioroslc.com/event/bible-study-73/
CATEGORIES:Education
END:VEVENT
BEGIN:VEVENT
DTSTART;VALUE=DATE:20211226
DTEND;VALUE=DATE:20211227
DTSTAMP:20260423T085434
CREATED:20211202T011554Z
LAST-MODIFIED:20211202T011606Z
UID:2179-1640476800-1640563199@superioroslc.com
SUMMARY:NO SUNDAY SCHOOL
DESCRIPTION:
URL:https://superioroslc.com/event/no-sunday-school-5/
CATEGORIES:Education
END:VEVENT
BEGIN:VEVENT
DTSTART;VALUE=DATE:20211228
DTEND;VALUE=DATE:20211229
DTSTAMP:20260423T085434
CREATED:20211202T011957Z
LAST-MODIFIED:20211202T011957Z
UID:2183-1640649600-1640735999@superioroslc.com
SUMMARY:NO PASTOR'S TEXT STUDY
DESCRIPTION:
URL:https://superioroslc.com/event/no-pastors-text-study-3/
CATEGORIES:Education
END:VEVENT
BEGIN:VEVENT
DTSTART;VALUE=DATE:20211229
DTEND;VALUE=DATE:20211230
DTSTAMP:20260423T085434
CREATED:20211202T012029Z
LAST-MODIFIED:20211202T012029Z
UID:2185-1640736000-1640822399@superioroslc.com
SUMMARY:NO BIBLE STUDY
DESCRIPTION:
URL:https://superioroslc.com/event/no-bible-study-8/
CATEGORIES:Education
END:VEVENT
BEGIN:VEVENT
DTSTART;VALUE=DATE:20211229
DTEND;VALUE=DATE:20211230
DTSTAMP:20260423T085434
CREATED:20211202T012110Z
LAST-MODIFIED:20211202T012110Z
UID:2187-1640736000-1640822399@superioroslc.com
SUMMARY:NO CONFIRMATION CLASS
DESCRIPTION:
URL:https://superioroslc.com/event/no-confirmation-class/
CATEGORIES:Education
END:VEVENT
BEGIN:VEVENT
DTSTART;VALUE=DATE:20220102
DTEND;VALUE=DATE:20220103
DTSTAMP:20260423T085434
CREATED:20220101T155711Z
LAST-MODIFIED:20220103T155748Z
UID:2238-1641081600-1641167999@superioroslc.com
SUMMARY:NO SUNDAY SCHOOL
DESCRIPTION:
URL:https://superioroslc.com/event/no-sunday-school-6/
CATEGORIES:Education
END:VEVENT
BEGIN:VEVENT
DTSTART;TZID=America/Chicago:20220104T110000
DTEND;TZID=America/Chicago:20220104T120000
DTSTAMP:20260423T085434
CREATED:20220101T155842Z
LAST-MODIFIED:20220103T155924Z
UID:2242-1641294000-1641297600@superioroslc.com
SUMMARY:Pastor text study
DESCRIPTION:
URL:https://superioroslc.com/event/pastor-text-study-66/
CATEGORIES:Education
END:VEVENT
BEGIN:VEVENT
DTSTART;TZID=America/Chicago:20220105T100000
DTEND;TZID=America/Chicago:20220105T110000
DTSTAMP:20260423T085434
CREATED:20220101T160056Z
LAST-MODIFIED:20220103T160141Z
UID:2246-1641376800-1641380400@superioroslc.com
SUMMARY:Bible study
DESCRIPTION:
URL:https://superioroslc.com/event/bible-study-74/
CATEGORIES:Education
END:VEVENT
BEGIN:VEVENT
DTSTART;TZID=America/Chicago:20220105T153000
DTEND;TZID=America/Chicago:20220105T163000
DTSTAMP:20260423T085434
CREATED:20220101T160157Z
LAST-MODIFIED:20220103T160233Z
UID:2248-1641396600-1641400200@superioroslc.com
SUMMARY:Confirmation class
DESCRIPTION:
URL:https://superioroslc.com/event/confirmation-class-41/
CATEGORIES:Education
END:VEVENT
BEGIN:VEVENT
DTSTART;TZID=America/Chicago:20220109T093000
DTEND;TZID=America/Chicago:20220109T103000
DTSTAMP:20260423T085434
CREATED:20220101T160535Z
LAST-MODIFIED:20220103T160613Z
UID:2256-1641720600-1641724200@superioroslc.com
SUMMARY:Sunday school
DESCRIPTION:
URL:https://superioroslc.com/event/sunday-school-26/
CATEGORIES:Education
END:VEVENT
BEGIN:VEVENT
DTSTART;TZID=America/Chicago:20220111T110000
DTEND;TZID=America/Chicago:20220111T120000
DTSTAMP:20260423T085434
CREATED:20220101T160717Z
LAST-MODIFIED:20220103T160755Z
UID:2260-1641898800-1641902400@superioroslc.com
SUMMARY:Pastor text study
DESCRIPTION:
URL:https://superioroslc.com/event/pastor-text-study-67/
CATEGORIES:Education
END:VEVENT
BEGIN:VEVENT
DTSTART;TZID=America/Chicago:20220112T100000
DTEND;TZID=America/Chicago:20220112T110000
DTSTAMP:20260423T085434
CREATED:20220101T160905Z
LAST-MODIFIED:20220103T161548Z
UID:2264-1641981600-1641985200@superioroslc.com
SUMMARY:Bible study
DESCRIPTION:
URL:https://superioroslc.com/event/bible-study-75/
CATEGORIES:Education
END:VEVENT
BEGIN:VEVENT
DTSTART;TZID=America/Chicago:20220112T153000
DTEND;TZID=America/Chicago:20220112T163000
DTSTAMP:20260423T085434
CREATED:20220101T161600Z
LAST-MODIFIED:20220103T161645Z
UID:2266-1642001400-1642005000@superioroslc.com
SUMMARY:Confirmation class
DESCRIPTION:
URL:https://superioroslc.com/event/confirmation-class-42/
CATEGORIES:Education
END:VEVENT
END:VCALENDAR