BEGIN:VCALENDAR
VERSION:2.0
PRODID:-//Our Savior&#039;s Lutheran Church - ECPv6.15.16//NONSGML v1.0//EN
CALSCALE:GREGORIAN
METHOD:PUBLISH
X-WR-CALNAME:Our Savior&#039;s Lutheran Church
X-ORIGINAL-URL:https://superioroslc.com
X-WR-CALDESC:Events for Our Savior&#039;s Lutheran Church
REFRESH-INTERVAL;VALUE=DURATION:PT1H
X-Robots-Tag:noindex
X-PUBLISHED-TTL:PT1H
BEGIN:VTIMEZONE
TZID:UTC
BEGIN:STANDARD
TZOFFSETFROM:+0000
TZOFFSETTO:+0000
TZNAME:UTC
DTSTART:20210101T000000
END:STANDARD
END:VTIMEZONE
BEGIN:VEVENT
DTSTART;TZID=UTC:20220831T100000
DTEND;TZID=UTC:20220831T110000
DTSTAMP:20260420T033016
CREATED:20220801T161305Z
LAST-MODIFIED:20220801T161305Z
UID:2969-1661940000-1661943600@superioroslc.com
SUMMARY:Bible study
DESCRIPTION:
URL:https://superioroslc.com/event/bible-study-105/
CATEGORIES:Education
END:VEVENT
END:VCALENDAR