BEGIN:VCALENDAR
VERSION:2.0
PRODID:-//Our Savior&#039;s Lutheran Church - ECPv6.15.16//NONSGML v1.0//EN
CALSCALE:GREGORIAN
METHOD:PUBLISH
X-WR-CALNAME:Our Savior&#039;s Lutheran Church
X-ORIGINAL-URL:https://superioroslc.com
X-WR-CALDESC:Events for Our Savior&#039;s Lutheran Church
REFRESH-INTERVAL;VALUE=DURATION:PT1H
X-Robots-Tag:noindex
X-PUBLISHED-TTL:PT1H
BEGIN:VTIMEZONE
TZID:UTC
BEGIN:STANDARD
TZOFFSETFROM:+0000
TZOFFSETTO:+0000
TZNAME:UTC
DTSTART:20210101T000000
END:STANDARD
END:VTIMEZONE
BEGIN:VEVENT
DTSTART;TZID=UTC:20220629T090000
DTEND;TZID=UTC:20220629T160000
DTSTAMP:20260425T142333
CREATED:20220601T202929Z
LAST-MODIFIED:20220601T202929Z
UID:2841-1656493200-1656518400@superioroslc.com
SUMMARY:Vacation Bible school
DESCRIPTION:
URL:https://superioroslc.com/event/vacation-bible-school-2/
CATEGORIES:Education
END:VEVENT
BEGIN:VEVENT
DTSTART;TZID=UTC:20220629T100000
DTEND;TZID=UTC:20220629T110000
DTSTAMP:20260425T142333
CREATED:20220601T202406Z
LAST-MODIFIED:20220601T202406Z
UID:2835-1656496800-1656500400@superioroslc.com
SUMMARY:Bible study
DESCRIPTION:
URL:https://superioroslc.com/event/bible-study-98/
CATEGORIES:Education
END:VEVENT
END:VCALENDAR