BEGIN:VCALENDAR
VERSION:2.0
PRODID:-//Our Savior&#039;s Lutheran Church - ECPv6.15.16//NONSGML v1.0//EN
CALSCALE:GREGORIAN
METHOD:PUBLISH
X-ORIGINAL-URL:https://superioroslc.com
X-WR-CALDESC:Events for Our Savior&#039;s Lutheran Church
REFRESH-INTERVAL;VALUE=DURATION:PT1H
X-Robots-Tag:noindex
X-PUBLISHED-TTL:PT1H
BEGIN:VTIMEZONE
TZID:UTC
BEGIN:STANDARD
TZOFFSETFROM:+0000
TZOFFSETTO:+0000
TZNAME:UTC
DTSTART:20210101T000000
END:STANDARD
END:VTIMEZONE
BEGIN:VEVENT
DTSTART;TZID=UTC:20220906T110000
DTEND;TZID=UTC:20220906T120000
DTSTAMP:20260420T222558
CREATED:20220901T193452Z
LAST-MODIFIED:20220901T193452Z
UID:3022-1662462000-1662465600@superioroslc.com
SUMMARY:Pastor text study
DESCRIPTION:
URL:https://superioroslc.com/event/pastor-text-study-96/
CATEGORIES:Education
END:VEVENT
BEGIN:VEVENT
DTSTART;TZID=UTC:20220907T101500
DTEND;TZID=UTC:20220907T111500
DTSTAMP:20260420T222558
CREATED:20220901T193630Z
LAST-MODIFIED:20220901T193630Z
UID:3026-1662545700-1662549300@superioroslc.com
SUMMARY:Bible study
DESCRIPTION:
URL:https://superioroslc.com/event/bible-study-106/
CATEGORIES:Education
END:VEVENT
BEGIN:VEVENT
DTSTART;TZID=UTC:20220907T133000
DTEND;TZID=UTC:20220907T143000
DTSTAMP:20260420T222558
CREATED:20220901T193720Z
LAST-MODIFIED:20220901T193720Z
UID:3028-1662557400-1662561000@superioroslc.com
SUMMARY:Harmony House Bible study
DESCRIPTION:
URL:https://superioroslc.com/event/harmony-house-bible-study-4/
CATEGORIES:Education
END:VEVENT
BEGIN:VEVENT
DTSTART;TZID=UTC:20220907T173000
DTEND;TZID=UTC:20220907T183000
DTSTAMP:20260420T222558
CREATED:20220901T193808Z
LAST-MODIFIED:20220901T193808Z
UID:3030-1662571800-1662575400@superioroslc.com
SUMMARY:Confirmation orientation
DESCRIPTION:
URL:https://superioroslc.com/event/confirmation-orientation-3/
CATEGORIES:Education
END:VEVENT
BEGIN:VEVENT
DTSTART;TZID=UTC:20220911T093000
DTEND;TZID=UTC:20220911T104500
DTSTAMP:20260420T222558
CREATED:20220901T195027Z
LAST-MODIFIED:20220901T195027Z
UID:3034-1662888600-1662893100@superioroslc.com
SUMMARY:Sunday school
DESCRIPTION:
URL:https://superioroslc.com/event/sunday-school-43/
CATEGORIES:Education
END:VEVENT
BEGIN:VEVENT
DTSTART;TZID=UTC:20220913T110000
DTEND;TZID=UTC:20220913T120000
DTSTAMP:20260420T222558
CREATED:20220901T195113Z
LAST-MODIFIED:20220901T195113Z
UID:3036-1663066800-1663070400@superioroslc.com
SUMMARY:Pastor text study
DESCRIPTION:
URL:https://superioroslc.com/event/pastor-text-study-97/
CATEGORIES:Education
END:VEVENT
BEGIN:VEVENT
DTSTART;TZID=UTC:20220914T101500
DTEND;TZID=UTC:20220914T111500
DTSTAMP:20260420T222558
CREATED:20220901T195339Z
LAST-MODIFIED:20220901T201549Z
UID:3042-1663150500-1663154100@superioroslc.com
SUMMARY:Bible study
DESCRIPTION:
URL:https://superioroslc.com/event/bible-study-107/
CATEGORIES:Education
END:VEVENT
BEGIN:VEVENT
DTSTART;TZID=UTC:20220914T153000
DTEND;TZID=UTC:20220914T163000
DTSTAMP:20260420T222558
CREATED:20220901T195422Z
LAST-MODIFIED:20220901T195422Z
UID:3044-1663169400-1663173000@superioroslc.com
SUMMARY:Confirmation class
DESCRIPTION:
URL:https://superioroslc.com/event/confirmation-class-58/
CATEGORIES:Education
END:VEVENT
BEGIN:VEVENT
DTSTART;TZID=UTC:20220920T110000
DTEND;TZID=UTC:20220920T120000
DTSTAMP:20260420T222558
CREATED:20220901T195911Z
LAST-MODIFIED:20220901T195911Z
UID:3054-1663671600-1663675200@superioroslc.com
SUMMARY:Pastor text study
DESCRIPTION:
URL:https://superioroslc.com/event/pastor-text-study-98/
CATEGORIES:Education
END:VEVENT
BEGIN:VEVENT
DTSTART;TZID=UTC:20220921T101500
DTEND;TZID=UTC:20220921T111500
DTSTAMP:20260420T222558
CREATED:20220901T200118Z
LAST-MODIFIED:20220901T201450Z
UID:3060-1663755300-1663758900@superioroslc.com
SUMMARY:Bible study
DESCRIPTION:
URL:https://superioroslc.com/event/bible-study-108/
CATEGORIES:Education
END:VEVENT
BEGIN:VEVENT
DTSTART;TZID=UTC:20220921T153000
DTEND;TZID=UTC:20220921T163000
DTSTAMP:20260420T222558
CREATED:20220901T200222Z
LAST-MODIFIED:20220901T200222Z
UID:3062-1663774200-1663777800@superioroslc.com
SUMMARY:Confirmation class
DESCRIPTION:
URL:https://superioroslc.com/event/confirmation-class-59/
CATEGORIES:Education
END:VEVENT
BEGIN:VEVENT
DTSTART;TZID=UTC:20220925T093000
DTEND;TZID=UTC:20220925T104500
DTSTAMP:20260420T222558
CREATED:20220901T200555Z
LAST-MODIFIED:20220901T200555Z
UID:3072-1664098200-1664102700@superioroslc.com
SUMMARY:Sunday school
DESCRIPTION:
URL:https://superioroslc.com/event/sunday-school-45/
CATEGORIES:Education
END:VEVENT
BEGIN:VEVENT
DTSTART;TZID=UTC:20220927T110000
DTEND;TZID=UTC:20220927T120000
DTSTAMP:20260420T222558
CREATED:20220901T200633Z
LAST-MODIFIED:20220901T200633Z
UID:3074-1664276400-1664280000@superioroslc.com
SUMMARY:Pastor text study
DESCRIPTION:
URL:https://superioroslc.com/event/pastor-text-study-99/
CATEGORIES:Education
END:VEVENT
BEGIN:VEVENT
DTSTART;TZID=UTC:20220928T101500
DTEND;TZID=UTC:20220928T111500
DTSTAMP:20260420T222558
CREATED:20220901T200753Z
LAST-MODIFIED:20220901T201407Z
UID:3078-1664360100-1664363700@superioroslc.com
SUMMARY:Bible study
DESCRIPTION:
URL:https://superioroslc.com/event/bible-study-109/
CATEGORIES:Education
END:VEVENT
BEGIN:VEVENT
DTSTART;TZID=UTC:20220928T153000
DTEND;TZID=UTC:20220928T163000
DTSTAMP:20260420T222558
CREATED:20220901T200907Z
LAST-MODIFIED:20220901T200907Z
UID:3082-1664379000-1664382600@superioroslc.com
SUMMARY:Confirmation class
DESCRIPTION:
URL:https://superioroslc.com/event/confirmation-class-60/
CATEGORIES:Education
END:VEVENT
END:VCALENDAR