BEGIN:VCALENDAR
VERSION:2.0
PRODID:-//Our Savior&#039;s Lutheran Church - ECPv6.15.16//NONSGML v1.0//EN
CALSCALE:GREGORIAN
METHOD:PUBLISH
X-ORIGINAL-URL:https://superioroslc.com
X-WR-CALDESC:Events for Our Savior&#039;s Lutheran Church
REFRESH-INTERVAL;VALUE=DURATION:PT1H
X-Robots-Tag:noindex
X-PUBLISHED-TTL:PT1H
BEGIN:VTIMEZONE
TZID:UTC
BEGIN:STANDARD
TZOFFSETFROM:+0000
TZOFFSETTO:+0000
TZNAME:UTC
DTSTART:20210101T000000
END:STANDARD
END:VTIMEZONE
BEGIN:VEVENT
DTSTART;TZID=UTC:20220705T110000
DTEND;TZID=UTC:20220705T120000
DTSTAMP:20260421T050732
CREATED:20220701T145953Z
LAST-MODIFIED:20220801T150036Z
UID:2893-1657018800-1657022400@superioroslc.com
SUMMARY:Pastor text study
DESCRIPTION:
URL:https://superioroslc.com/event/pastor-text-study-89/
CATEGORIES:Education
END:VEVENT
BEGIN:VEVENT
DTSTART;TZID=UTC:20220706T100000
DTEND;TZID=UTC:20220706T110000
DTSTAMP:20260421T050732
CREATED:20220701T150149Z
LAST-MODIFIED:20220801T150230Z
UID:2897-1657101600-1657105200@superioroslc.com
SUMMARY:Bible study
DESCRIPTION:
URL:https://superioroslc.com/event/bible-study-99/
CATEGORIES:Education
END:VEVENT
BEGIN:VEVENT
DTSTART;TZID=UTC:20220712T110000
DTEND;TZID=UTC:20220712T120000
DTSTAMP:20260421T050732
CREATED:20220701T150512Z
LAST-MODIFIED:20220801T152333Z
UID:2904-1657623600-1657627200@superioroslc.com
SUMMARY:Pastor text study
DESCRIPTION:
URL:https://superioroslc.com/event/pastor-text-study-90/
CATEGORIES:Education
END:VEVENT
BEGIN:VEVENT
DTSTART;TZID=UTC:20220713T100000
DTEND;TZID=UTC:20220713T110000
DTSTAMP:20260421T050732
CREATED:20220701T152448Z
LAST-MODIFIED:20220801T152532Z
UID:2908-1657706400-1657710000@superioroslc.com
SUMMARY:Bible study
DESCRIPTION:
URL:https://superioroslc.com/event/bible-study-100/
CATEGORIES:Education
END:VEVENT
BEGIN:VEVENT
DTSTART;TZID=UTC:20220719T110000
DTEND;TZID=UTC:20220719T120000
DTSTAMP:20260421T050732
CREATED:20220701T152659Z
LAST-MODIFIED:20220801T152847Z
UID:2912-1658228400-1658232000@superioroslc.com
SUMMARY:Pastor text study
DESCRIPTION:
URL:https://superioroslc.com/event/pastor-text-study-91/
CATEGORIES:Education
END:VEVENT
BEGIN:VEVENT
DTSTART;TZID=UTC:20220720T100000
DTEND;TZID=UTC:20220720T110000
DTSTAMP:20260421T050732
CREATED:20220701T153028Z
LAST-MODIFIED:20220801T153106Z
UID:2916-1658311200-1658314800@superioroslc.com
SUMMARY:Bible study
DESCRIPTION:
URL:https://superioroslc.com/event/bible-study-101/
CATEGORIES:Education
END:VEVENT
BEGIN:VEVENT
DTSTART;TZID=UTC:20220726T110000
DTEND;TZID=UTC:20220726T120000
DTSTAMP:20260421T050732
CREATED:20220701T153214Z
LAST-MODIFIED:20220801T153321Z
UID:2920-1658833200-1658836800@superioroslc.com
SUMMARY:Pastor text study
DESCRIPTION:
URL:https://superioroslc.com/event/pastor-text-study-92/
CATEGORIES:Education
END:VEVENT
BEGIN:VEVENT
DTSTART;TZID=UTC:20220727T100000
DTEND;TZID=UTC:20220727T110000
DTSTAMP:20260421T050732
CREATED:20220701T153448Z
LAST-MODIFIED:20220801T153527Z
UID:2924-1658916000-1658919600@superioroslc.com
SUMMARY:Bible study
DESCRIPTION:
URL:https://superioroslc.com/event/bible-study-102/
CATEGORIES:Education
END:VEVENT
END:VCALENDAR