BEGIN:VCALENDAR
VERSION:2.0
PRODID:-//Our Savior&#039;s Lutheran Church - ECPv6.15.16//NONSGML v1.0//EN
CALSCALE:GREGORIAN
METHOD:PUBLISH
X-WR-CALNAME:Our Savior&#039;s Lutheran Church
X-ORIGINAL-URL:https://superioroslc.com
X-WR-CALDESC:Events for Our Savior&#039;s Lutheran Church
REFRESH-INTERVAL;VALUE=DURATION:PT1H
X-Robots-Tag:noindex
X-PUBLISHED-TTL:PT1H
BEGIN:VTIMEZONE
TZID:America/Chicago
BEGIN:DAYLIGHT
TZOFFSETFROM:-0600
TZOFFSETTO:-0500
TZNAME:CDT
DTSTART:20210314T080000
END:DAYLIGHT
BEGIN:STANDARD
TZOFFSETFROM:-0500
TZOFFSETTO:-0600
TZNAME:CST
DTSTART:20211107T070000
END:STANDARD
BEGIN:DAYLIGHT
TZOFFSETFROM:-0600
TZOFFSETTO:-0500
TZNAME:CDT
DTSTART:20220313T080000
END:DAYLIGHT
BEGIN:STANDARD
TZOFFSETFROM:-0500
TZOFFSETTO:-0600
TZNAME:CST
DTSTART:20221106T070000
END:STANDARD
BEGIN:DAYLIGHT
TZOFFSETFROM:-0600
TZOFFSETTO:-0500
TZNAME:CDT
DTSTART:20230312T080000
END:DAYLIGHT
BEGIN:STANDARD
TZOFFSETFROM:-0500
TZOFFSETTO:-0600
TZNAME:CST
DTSTART:20231105T070000
END:STANDARD
END:VTIMEZONE
BEGIN:VEVENT
DTSTART;TZID=America/Chicago:20220501T093000
DTEND;TZID=America/Chicago:20220501T103000
DTSTAMP:20260421T101455
CREATED:20220501T182411Z
LAST-MODIFIED:20220502T182443Z
UID:2715-1651397400-1651401000@superioroslc.com
SUMMARY:Sunday school
DESCRIPTION:
URL:https://superioroslc.com/event/sunday-school-40/
CATEGORIES:Education
END:VEVENT
BEGIN:VEVENT
DTSTART;TZID=America/Chicago:20220503T110000
DTEND;TZID=America/Chicago:20220503T120000
DTSTAMP:20260421T101455
CREATED:20220501T182452Z
LAST-MODIFIED:20220502T182530Z
UID:2717-1651575600-1651579200@superioroslc.com
SUMMARY:Pastor text study
DESCRIPTION:
URL:https://superioroslc.com/event/pastor-text-study-82/
CATEGORIES:Education
END:VEVENT
BEGIN:VEVENT
DTSTART;TZID=America/Chicago:20220504T100000
DTEND;TZID=America/Chicago:20220504T110000
DTSTAMP:20260421T101455
CREATED:20220501T182540Z
LAST-MODIFIED:20220502T182610Z
UID:2719-1651658400-1651662000@superioroslc.com
SUMMARY:Bible study
DESCRIPTION:
URL:https://superioroslc.com/event/bible-study-91/
CATEGORIES:Education
END:VEVENT
BEGIN:VEVENT
DTSTART;TZID=America/Chicago:20220504T133000
DTEND;TZID=America/Chicago:20220504T143000
DTSTAMP:20260421T101455
CREATED:20220501T182616Z
LAST-MODIFIED:20220502T182654Z
UID:2721-1651671000-1651674600@superioroslc.com
SUMMARY:Harmony House Bible study
DESCRIPTION:
URL:https://superioroslc.com/event/harmony-house-bible-study-3/
CATEGORIES:Education
END:VEVENT
BEGIN:VEVENT
DTSTART;TZID=America/Chicago:20220504T153000
DTEND;TZID=America/Chicago:20220504T163000
DTSTAMP:20260421T101455
CREATED:20220501T182702Z
LAST-MODIFIED:20220502T182739Z
UID:2723-1651678200-1651681800@superioroslc.com
SUMMARY:Confirmation class
DESCRIPTION:
URL:https://superioroslc.com/event/confirmation-class-56/
CATEGORIES:Education
END:VEVENT
BEGIN:VEVENT
DTSTART;TZID=America/Chicago:20220508T093000
DTEND;TZID=America/Chicago:20220508T103000
DTSTAMP:20260421T101455
CREATED:20220501T183221Z
LAST-MODIFIED:20220502T183308Z
UID:2734-1652002200-1652005800@superioroslc.com
SUMMARY:Sunday school
DESCRIPTION:
URL:https://superioroslc.com/event/sunday-school-41/
CATEGORIES:Education
END:VEVENT
BEGIN:VEVENT
DTSTART;TZID=America/Chicago:20220510T110000
DTEND;TZID=America/Chicago:20220510T120000
DTSTAMP:20260421T101455
CREATED:20220501T183452Z
LAST-MODIFIED:20220502T183525Z
UID:2740-1652180400-1652184000@superioroslc.com
SUMMARY:Pastor text study
DESCRIPTION:
URL:https://superioroslc.com/event/pastor-text-study-83/
CATEGORIES:Education
END:VEVENT
BEGIN:VEVENT
DTSTART;TZID=America/Chicago:20220511T100000
DTEND;TZID=America/Chicago:20220511T110000
DTSTAMP:20260421T101455
CREATED:20220501T183626Z
LAST-MODIFIED:20220502T183657Z
UID:2744-1652263200-1652266800@superioroslc.com
SUMMARY:Bible study
DESCRIPTION:
URL:https://superioroslc.com/event/bible-study-92/
CATEGORIES:Education
END:VEVENT
BEGIN:VEVENT
DTSTART;TZID=America/Chicago:20220511T153000
DTEND;TZID=America/Chicago:20220511T163000
DTSTAMP:20260421T101455
CREATED:20220501T183708Z
LAST-MODIFIED:20220502T183743Z
UID:2746-1652283000-1652286600@superioroslc.com
SUMMARY:Confirmation class
DESCRIPTION:
URL:https://superioroslc.com/event/confirmation-class-57/
CATEGORIES:Education
END:VEVENT
BEGIN:VEVENT
DTSTART;TZID=America/Chicago:20220515T093000
DTEND;TZID=America/Chicago:20220515T103000
DTSTAMP:20260421T101455
CREATED:20220501T184023Z
LAST-MODIFIED:20220502T184054Z
UID:2754-1652607000-1652610600@superioroslc.com
SUMMARY:Sunday school
DESCRIPTION:
URL:https://superioroslc.com/event/sunday-school-42/
CATEGORIES:Education
END:VEVENT
BEGIN:VEVENT
DTSTART;TZID=America/Chicago:20220517T110000
DTEND;TZID=America/Chicago:20220517T120000
DTSTAMP:20260421T101455
CREATED:20220501T184100Z
LAST-MODIFIED:20220502T184129Z
UID:2756-1652785200-1652788800@superioroslc.com
SUMMARY:Pastor text study
DESCRIPTION:
URL:https://superioroslc.com/event/pastor-text-study-84/
CATEGORIES:Education
END:VEVENT
BEGIN:VEVENT
DTSTART;TZID=America/Chicago:20220518T100000
DTEND;TZID=America/Chicago:20220518T110000
DTSTAMP:20260421T101455
CREATED:20220501T184229Z
LAST-MODIFIED:20220502T184303Z
UID:2760-1652868000-1652871600@superioroslc.com
SUMMARY:Bible study
DESCRIPTION:
URL:https://superioroslc.com/event/bible-study-93/
CATEGORIES:Education
END:VEVENT
BEGIN:VEVENT
DTSTART;TZID=America/Chicago:20220524T110000
DTEND;TZID=America/Chicago:20220524T120000
DTSTAMP:20260421T101455
CREATED:20220501T184617Z
LAST-MODIFIED:20220502T184656Z
UID:2768-1653390000-1653393600@superioroslc.com
SUMMARY:Pastor text study
DESCRIPTION:
URL:https://superioroslc.com/event/pastor-text-study-85/
CATEGORIES:Education
END:VEVENT
BEGIN:VEVENT
DTSTART;TZID=America/Chicago:20220525T100000
DTEND;TZID=America/Chicago:20220525T110000
DTSTAMP:20260421T101455
CREATED:20220501T184704Z
LAST-MODIFIED:20220502T184741Z
UID:2770-1653472800-1653476400@superioroslc.com
SUMMARY:Bible study
DESCRIPTION:
URL:https://superioroslc.com/event/bible-study-94/
CATEGORIES:Education
END:VEVENT
BEGIN:VEVENT
DTSTART;TZID=America/Chicago:20220531T110000
DTEND;TZID=America/Chicago:20220531T120000
DTSTAMP:20260421T101455
CREATED:20220501T185146Z
LAST-MODIFIED:20220502T185218Z
UID:2780-1653994800-1653998400@superioroslc.com
SUMMARY:Pastor text study
DESCRIPTION:
URL:https://superioroslc.com/event/pastor-text-study-86/
CATEGORIES:Education
END:VEVENT
END:VCALENDAR