BEGIN:VCALENDAR
VERSION:2.0
PRODID:-//Our Savior&#039;s Lutheran Church - ECPv6.15.16//NONSGML v1.0//EN
CALSCALE:GREGORIAN
METHOD:PUBLISH
X-WR-CALNAME:Our Savior&#039;s Lutheran Church
X-ORIGINAL-URL:https://superioroslc.com
X-WR-CALDESC:Events for Our Savior&#039;s Lutheran Church
REFRESH-INTERVAL;VALUE=DURATION:PT1H
X-Robots-Tag:noindex
X-PUBLISHED-TTL:PT1H
BEGIN:VTIMEZONE
TZID:America/Chicago
BEGIN:DAYLIGHT
TZOFFSETFROM:-0600
TZOFFSETTO:-0500
TZNAME:CDT
DTSTART:20210314T080000
END:DAYLIGHT
BEGIN:STANDARD
TZOFFSETFROM:-0500
TZOFFSETTO:-0600
TZNAME:CST
DTSTART:20211107T070000
END:STANDARD
BEGIN:DAYLIGHT
TZOFFSETFROM:-0600
TZOFFSETTO:-0500
TZNAME:CDT
DTSTART:20220313T080000
END:DAYLIGHT
BEGIN:STANDARD
TZOFFSETFROM:-0500
TZOFFSETTO:-0600
TZNAME:CST
DTSTART:20221106T070000
END:STANDARD
BEGIN:DAYLIGHT
TZOFFSETFROM:-0600
TZOFFSETTO:-0500
TZNAME:CDT
DTSTART:20230312T080000
END:DAYLIGHT
BEGIN:STANDARD
TZOFFSETFROM:-0500
TZOFFSETTO:-0600
TZNAME:CST
DTSTART:20231105T070000
END:STANDARD
END:VTIMEZONE
BEGIN:VEVENT
DTSTART;VALUE=DATE:20220102
DTEND;VALUE=DATE:20220103
DTSTAMP:20260422T002703
CREATED:20220101T155711Z
LAST-MODIFIED:20220103T155748Z
UID:2238-1641081600-1641167999@superioroslc.com
SUMMARY:NO SUNDAY SCHOOL
DESCRIPTION:
URL:https://superioroslc.com/event/no-sunday-school-6/
CATEGORIES:Education
END:VEVENT
BEGIN:VEVENT
DTSTART;TZID=America/Chicago:20220104T110000
DTEND;TZID=America/Chicago:20220104T120000
DTSTAMP:20260422T002703
CREATED:20220101T155842Z
LAST-MODIFIED:20220103T155924Z
UID:2242-1641294000-1641297600@superioroslc.com
SUMMARY:Pastor text study
DESCRIPTION:
URL:https://superioroslc.com/event/pastor-text-study-66/
CATEGORIES:Education
END:VEVENT
BEGIN:VEVENT
DTSTART;TZID=America/Chicago:20220105T100000
DTEND;TZID=America/Chicago:20220105T110000
DTSTAMP:20260422T002703
CREATED:20220101T160056Z
LAST-MODIFIED:20220103T160141Z
UID:2246-1641376800-1641380400@superioroslc.com
SUMMARY:Bible study
DESCRIPTION:
URL:https://superioroslc.com/event/bible-study-74/
CATEGORIES:Education
END:VEVENT
BEGIN:VEVENT
DTSTART;TZID=America/Chicago:20220105T153000
DTEND;TZID=America/Chicago:20220105T163000
DTSTAMP:20260422T002703
CREATED:20220101T160157Z
LAST-MODIFIED:20220103T160233Z
UID:2248-1641396600-1641400200@superioroslc.com
SUMMARY:Confirmation class
DESCRIPTION:
URL:https://superioroslc.com/event/confirmation-class-41/
CATEGORIES:Education
END:VEVENT
BEGIN:VEVENT
DTSTART;TZID=America/Chicago:20220109T093000
DTEND;TZID=America/Chicago:20220109T103000
DTSTAMP:20260422T002703
CREATED:20220101T160535Z
LAST-MODIFIED:20220103T160613Z
UID:2256-1641720600-1641724200@superioroslc.com
SUMMARY:Sunday school
DESCRIPTION:
URL:https://superioroslc.com/event/sunday-school-26/
CATEGORIES:Education
END:VEVENT
BEGIN:VEVENT
DTSTART;TZID=America/Chicago:20220111T110000
DTEND;TZID=America/Chicago:20220111T120000
DTSTAMP:20260422T002703
CREATED:20220101T160717Z
LAST-MODIFIED:20220103T160755Z
UID:2260-1641898800-1641902400@superioroslc.com
SUMMARY:Pastor text study
DESCRIPTION:
URL:https://superioroslc.com/event/pastor-text-study-67/
CATEGORIES:Education
END:VEVENT
BEGIN:VEVENT
DTSTART;TZID=America/Chicago:20220112T100000
DTEND;TZID=America/Chicago:20220112T110000
DTSTAMP:20260422T002703
CREATED:20220101T160905Z
LAST-MODIFIED:20220103T161548Z
UID:2264-1641981600-1641985200@superioroslc.com
SUMMARY:Bible study
DESCRIPTION:
URL:https://superioroslc.com/event/bible-study-75/
CATEGORIES:Education
END:VEVENT
BEGIN:VEVENT
DTSTART;TZID=America/Chicago:20220112T153000
DTEND;TZID=America/Chicago:20220112T163000
DTSTAMP:20260422T002703
CREATED:20220101T161600Z
LAST-MODIFIED:20220103T161645Z
UID:2266-1642001400-1642005000@superioroslc.com
SUMMARY:Confirmation class
DESCRIPTION:
URL:https://superioroslc.com/event/confirmation-class-42/
CATEGORIES:Education
END:VEVENT
BEGIN:VEVENT
DTSTART;TZID=America/Chicago:20220116T093000
DTEND;TZID=America/Chicago:20220116T103000
DTSTAMP:20260422T002703
CREATED:20220101T162243Z
LAST-MODIFIED:20220103T162319Z
UID:2276-1642325400-1642329000@superioroslc.com
SUMMARY:Sunday school
DESCRIPTION:
URL:https://superioroslc.com/event/sunday-school-27/
CATEGORIES:Education
END:VEVENT
BEGIN:VEVENT
DTSTART;TZID=America/Chicago:20220118T110000
DTEND;TZID=America/Chicago:20220118T120000
DTSTAMP:20260422T002703
CREATED:20220101T162331Z
LAST-MODIFIED:20220103T162417Z
UID:2278-1642503600-1642507200@superioroslc.com
SUMMARY:Pastor text study
DESCRIPTION:
URL:https://superioroslc.com/event/pastor-text-study-68/
CATEGORIES:Education
END:VEVENT
BEGIN:VEVENT
DTSTART;TZID=America/Chicago:20220119T100000
DTEND;TZID=America/Chicago:20220119T110000
DTSTAMP:20260422T002703
CREATED:20220101T162515Z
LAST-MODIFIED:20220103T162549Z
UID:2282-1642586400-1642590000@superioroslc.com
SUMMARY:Bible study
DESCRIPTION:
URL:https://superioroslc.com/event/bible-study-76/
CATEGORIES:Education
END:VEVENT
BEGIN:VEVENT
DTSTART;TZID=America/Chicago:20220119T153000
DTEND;TZID=America/Chicago:20220119T163000
DTSTAMP:20260422T002703
CREATED:20220101T162558Z
LAST-MODIFIED:20220103T162639Z
UID:2284-1642606200-1642609800@superioroslc.com
SUMMARY:Confirmation class
DESCRIPTION:
URL:https://superioroslc.com/event/confirmation-class-43/
CATEGORIES:Education
END:VEVENT
BEGIN:VEVENT
DTSTART;TZID=America/Chicago:20220123T093000
DTEND;TZID=America/Chicago:20220123T103000
DTSTAMP:20260422T002703
CREATED:20220101T162916Z
LAST-MODIFIED:20220103T162956Z
UID:2292-1642930200-1642933800@superioroslc.com
SUMMARY:Sunday school
DESCRIPTION:
URL:https://superioroslc.com/event/sunday-school-28/
CATEGORIES:Education
END:VEVENT
BEGIN:VEVENT
DTSTART;TZID=America/Chicago:20220125T110000
DTEND;TZID=America/Chicago:20220125T120000
DTSTAMP:20260422T002703
CREATED:20220101T163055Z
LAST-MODIFIED:20220103T163128Z
UID:2296-1643108400-1643112000@superioroslc.com
SUMMARY:Pastor text study
DESCRIPTION:
URL:https://superioroslc.com/event/pastor-text-study-69/
CATEGORIES:Education
END:VEVENT
BEGIN:VEVENT
DTSTART;TZID=America/Chicago:20220126T100000
DTEND;TZID=America/Chicago:20220126T110000
DTSTAMP:20260422T002703
CREATED:20220101T163137Z
LAST-MODIFIED:20220103T163214Z
UID:2298-1643191200-1643194800@superioroslc.com
SUMMARY:Bible study
DESCRIPTION:
URL:https://superioroslc.com/event/bible-study-77/
CATEGORIES:Education
END:VEVENT
BEGIN:VEVENT
DTSTART;TZID=America/Chicago:20220126T153000
DTEND;TZID=America/Chicago:20220126T163000
DTSTAMP:20260422T002703
CREATED:20220101T163224Z
LAST-MODIFIED:20220103T163307Z
UID:2300-1643211000-1643214600@superioroslc.com
SUMMARY:Confirmation class
DESCRIPTION:
URL:https://superioroslc.com/event/confirmation-class-44/
CATEGORIES:Education
END:VEVENT
BEGIN:VEVENT
DTSTART;TZID=America/Chicago:20220130T093000
DTEND;TZID=America/Chicago:20220130T103000
DTSTAMP:20260422T002703
CREATED:20220101T163533Z
LAST-MODIFIED:20220103T163610Z
UID:2308-1643535000-1643538600@superioroslc.com
SUMMARY:Sunday school
DESCRIPTION:
URL:https://superioroslc.com/event/sunday-school-29/
CATEGORIES:Education
END:VEVENT
END:VCALENDAR