BEGIN:VCALENDAR
VERSION:2.0
PRODID:-//Our Savior&#039;s Lutheran Church - ECPv6.15.16//NONSGML v1.0//EN
CALSCALE:GREGORIAN
METHOD:PUBLISH
X-ORIGINAL-URL:https://superioroslc.com
X-WR-CALDESC:Events for Our Savior&#039;s Lutheran Church
REFRESH-INTERVAL;VALUE=DURATION:PT1H
X-Robots-Tag:noindex
X-PUBLISHED-TTL:PT1H
BEGIN:VTIMEZONE
TZID:America/Chicago
BEGIN:DAYLIGHT
TZOFFSETFROM:-0600
TZOFFSETTO:-0500
TZNAME:CDT
DTSTART:20200308T080000
END:DAYLIGHT
BEGIN:STANDARD
TZOFFSETFROM:-0500
TZOFFSETTO:-0600
TZNAME:CST
DTSTART:20201101T070000
END:STANDARD
BEGIN:DAYLIGHT
TZOFFSETFROM:-0600
TZOFFSETTO:-0500
TZNAME:CDT
DTSTART:20210314T080000
END:DAYLIGHT
BEGIN:STANDARD
TZOFFSETFROM:-0500
TZOFFSETTO:-0600
TZNAME:CST
DTSTART:20211107T070000
END:STANDARD
BEGIN:DAYLIGHT
TZOFFSETFROM:-0600
TZOFFSETTO:-0500
TZNAME:CDT
DTSTART:20220313T080000
END:DAYLIGHT
BEGIN:STANDARD
TZOFFSETFROM:-0500
TZOFFSETTO:-0600
TZNAME:CST
DTSTART:20221106T070000
END:STANDARD
END:VTIMEZONE
BEGIN:VEVENT
DTSTART;TZID=America/Chicago:20211102T110000
DTEND;TZID=America/Chicago:20211102T120000
DTSTAMP:20260422T204021
CREATED:20211101T062517Z
LAST-MODIFIED:20211109T192628Z
UID:2022-1635850800-1635854400@superioroslc.com
SUMMARY:Pastor text study
DESCRIPTION:
URL:https://superioroslc.com/event/pastor-text-study-59/
CATEGORIES:Education
END:VEVENT
BEGIN:VEVENT
DTSTART;TZID=America/Chicago:20211103T100000
DTEND;TZID=America/Chicago:20211103T110000
DTSTAMP:20260422T204021
CREATED:20211101T182736Z
LAST-MODIFIED:20211109T192829Z
UID:2024-1635933600-1635937200@superioroslc.com
SUMMARY:Bible study
DESCRIPTION:
URL:https://superioroslc.com/event/bible-study-66/
CATEGORIES:Education
END:VEVENT
BEGIN:VEVENT
DTSTART;TZID=America/Chicago:20211103T153000
DTEND;TZID=America/Chicago:20211103T163000
DTSTAMP:20260422T204021
CREATED:20211101T182840Z
LAST-MODIFIED:20211109T192926Z
UID:2026-1635953400-1635957000@superioroslc.com
SUMMARY:Confirmation class
DESCRIPTION:
URL:https://superioroslc.com/event/confirmation-class-36/
CATEGORIES:Education
END:VEVENT
BEGIN:VEVENT
DTSTART;TZID=America/Chicago:20211107T093000
DTEND;TZID=America/Chicago:20211107T103000
DTSTAMP:20260422T204021
CREATED:20211101T183117Z
LAST-MODIFIED:20211109T193208Z
UID:2032-1636277400-1636281000@superioroslc.com
SUMMARY:Sunday school
DESCRIPTION:
URL:https://superioroslc.com/event/sunday-school-20/
CATEGORIES:Education
END:VEVENT
BEGIN:VEVENT
DTSTART;TZID=America/Chicago:20211109T110000
DTEND;TZID=America/Chicago:20211109T120000
DTSTAMP:20260422T204021
CREATED:20211101T183335Z
LAST-MODIFIED:20211109T193414Z
UID:2036-1636455600-1636459200@superioroslc.com
SUMMARY:Pastor text study
DESCRIPTION:
URL:https://superioroslc.com/event/pastor-text-study-60/
CATEGORIES:Education
END:VEVENT
BEGIN:VEVENT
DTSTART;TZID=America/Chicago:20211110T100000
DTEND;TZID=America/Chicago:20211110T110000
DTSTAMP:20260422T204021
CREATED:20211101T183514Z
LAST-MODIFIED:20211109T193551Z
UID:2040-1636538400-1636542000@superioroslc.com
SUMMARY:Bible study
DESCRIPTION:
URL:https://superioroslc.com/event/bible-study-67/
CATEGORIES:Education
END:VEVENT
BEGIN:VEVENT
DTSTART;TZID=America/Chicago:20211110T153000
DTEND;TZID=America/Chicago:20211110T163000
DTSTAMP:20260422T204021
CREATED:20211101T183559Z
LAST-MODIFIED:20211109T193641Z
UID:2042-1636558200-1636561800@superioroslc.com
SUMMARY:Confirmation class
DESCRIPTION:
URL:https://superioroslc.com/event/confirmation-class-37/
CATEGORIES:Education
END:VEVENT
BEGIN:VEVENT
DTSTART;TZID=America/Chicago:20211114T093000
DTEND;TZID=America/Chicago:20211114T103000
DTSTAMP:20260422T204021
CREATED:20211101T184015Z
LAST-MODIFIED:20211109T194048Z
UID:2050-1636882200-1636885800@superioroslc.com
SUMMARY:Sunday school
DESCRIPTION:
URL:https://superioroslc.com/event/sunday-school-21/
CATEGORIES:Education
END:VEVENT
BEGIN:VEVENT
DTSTART;TZID=America/Chicago:20211116T110000
DTEND;TZID=America/Chicago:20211116T120000
DTSTAMP:20260422T204021
CREATED:20211101T184056Z
LAST-MODIFIED:20211109T194136Z
UID:2052-1637060400-1637064000@superioroslc.com
SUMMARY:Pastor text study
DESCRIPTION:
URL:https://superioroslc.com/event/pastor-text-study-61/
CATEGORIES:Education
END:VEVENT
BEGIN:VEVENT
DTSTART;TZID=America/Chicago:20211117T100000
DTEND;TZID=America/Chicago:20211117T110000
DTSTAMP:20260422T204021
CREATED:20211101T184241Z
LAST-MODIFIED:20211109T194319Z
UID:2056-1637143200-1637146800@superioroslc.com
SUMMARY:Bible study
DESCRIPTION:
URL:https://superioroslc.com/event/bible-study-68/
CATEGORIES:Education
END:VEVENT
BEGIN:VEVENT
DTSTART;TZID=America/Chicago:20211117T153000
DTEND;TZID=America/Chicago:20211117T163000
DTSTAMP:20260422T204021
CREATED:20211101T184327Z
LAST-MODIFIED:20211109T194404Z
UID:2058-1637163000-1637166600@superioroslc.com
SUMMARY:Confirmation class
DESCRIPTION:
URL:https://superioroslc.com/event/confirmation-class-38/
CATEGORIES:Education
END:VEVENT
BEGIN:VEVENT
DTSTART;TZID=America/Chicago:20211121T093000
DTEND;TZID=America/Chicago:20211121T103000
DTSTAMP:20260422T204021
CREATED:20211101T184741Z
LAST-MODIFIED:20211109T194817Z
UID:2068-1637487000-1637490600@superioroslc.com
SUMMARY:Sunday school
DESCRIPTION:
URL:https://superioroslc.com/event/sunday-school-22/
CATEGORIES:Education
END:VEVENT
BEGIN:VEVENT
DTSTART;TZID=America/Chicago:20211123T110000
DTEND;TZID=America/Chicago:20211123T120000
DTSTAMP:20260422T204021
CREATED:20211101T184925Z
LAST-MODIFIED:20211109T195005Z
UID:2072-1637665200-1637668800@superioroslc.com
SUMMARY:Pastor text study
DESCRIPTION:
URL:https://superioroslc.com/event/pastor-text-study-62/
CATEGORIES:Education
END:VEVENT
BEGIN:VEVENT
DTSTART;VALUE=DATE:20211124
DTEND;VALUE=DATE:20211125
DTSTAMP:20260422T204021
CREATED:20211101T185112Z
LAST-MODIFIED:20211109T195150Z
UID:2076-1637712000-1637798399@superioroslc.com
SUMMARY:No confirmation
DESCRIPTION:
URL:https://superioroslc.com/event/no-confirmation-5/
CATEGORIES:Education
END:VEVENT
BEGIN:VEVENT
DTSTART;TZID=America/Chicago:20211124T100000
DTEND;TZID=America/Chicago:20211124T110000
DTSTAMP:20260422T204021
CREATED:20211101T185021Z
LAST-MODIFIED:20211109T195101Z
UID:2074-1637748000-1637751600@superioroslc.com
SUMMARY:Bible study
DESCRIPTION:
URL:https://superioroslc.com/event/bible-study-69/
CATEGORIES:Education
END:VEVENT
BEGIN:VEVENT
DTSTART;VALUE=DATE:20211128
DTEND;VALUE=DATE:20211129
DTSTAMP:20260422T204021
CREATED:20211101T185520Z
LAST-MODIFIED:20211109T195555Z
UID:2084-1638057600-1638143999@superioroslc.com
SUMMARY:No Sunday school
DESCRIPTION:
URL:https://superioroslc.com/event/no-sunday-school-4/
CATEGORIES:Education
END:VEVENT
BEGIN:VEVENT
DTSTART;TZID=America/Chicago:20211130T110000
DTEND;TZID=America/Chicago:20211130T120000
DTSTAMP:20260422T204021
CREATED:20211101T185603Z
LAST-MODIFIED:20211109T195637Z
UID:2086-1638270000-1638273600@superioroslc.com
SUMMARY:Pastor text study
DESCRIPTION:
URL:https://superioroslc.com/event/pastor-text-study-63/
CATEGORIES:Education
END:VEVENT
END:VCALENDAR