BEGIN:VCALENDAR
VERSION:2.0
PRODID:-//Our Savior&#039;s Lutheran Church - ECPv6.15.16//NONSGML v1.0//EN
CALSCALE:GREGORIAN
METHOD:PUBLISH
X-ORIGINAL-URL:https://superioroslc.com
X-WR-CALDESC:Events for Our Savior&#039;s Lutheran Church
REFRESH-INTERVAL;VALUE=DURATION:PT1H
X-Robots-Tag:noindex
X-PUBLISHED-TTL:PT1H
BEGIN:VTIMEZONE
TZID:America/Chicago
BEGIN:DAYLIGHT
TZOFFSETFROM:-0600
TZOFFSETTO:-0500
TZNAME:CDT
DTSTART:20190310T080000
END:DAYLIGHT
BEGIN:STANDARD
TZOFFSETFROM:-0500
TZOFFSETTO:-0600
TZNAME:CST
DTSTART:20191103T070000
END:STANDARD
BEGIN:DAYLIGHT
TZOFFSETFROM:-0600
TZOFFSETTO:-0500
TZNAME:CDT
DTSTART:20200308T080000
END:DAYLIGHT
BEGIN:STANDARD
TZOFFSETFROM:-0500
TZOFFSETTO:-0600
TZNAME:CST
DTSTART:20201101T070000
END:STANDARD
BEGIN:DAYLIGHT
TZOFFSETFROM:-0600
TZOFFSETTO:-0500
TZNAME:CDT
DTSTART:20210314T080000
END:DAYLIGHT
BEGIN:STANDARD
TZOFFSETFROM:-0500
TZOFFSETTO:-0600
TZNAME:CST
DTSTART:20211107T070000
END:STANDARD
BEGIN:DAYLIGHT
TZOFFSETFROM:-0600
TZOFFSETTO:-0500
TZNAME:CDT
DTSTART:20220313T080000
END:DAYLIGHT
BEGIN:STANDARD
TZOFFSETFROM:-0500
TZOFFSETTO:-0600
TZNAME:CST
DTSTART:20221106T070000
END:STANDARD
END:VTIMEZONE
BEGIN:VEVENT
DTSTART;TZID=America/Chicago:20210914T180000
DTEND;TZID=America/Chicago:20210914T190000
DTSTAMP:20260420T182306
CREATED:20210901T155307Z
LAST-MODIFIED:20210902T155353Z
UID:1821-1631642400-1631646000@superioroslc.com
SUMMARY:All boards meetings
DESCRIPTION:
URL:https://superioroslc.com/event/all-boards-meetings-3/
CATEGORIES:Committee
END:VEVENT
BEGIN:VEVENT
DTSTART;TZID=America/Chicago:20210817T173000
DTEND;TZID=America/Chicago:20210817T183000
DTSTAMP:20260420T182306
CREATED:20210801T224113Z
LAST-MODIFIED:20210803T224225Z
UID:1733-1629221400-1629225000@superioroslc.com
SUMMARY:Council meeting
DESCRIPTION:
URL:https://superioroslc.com/event/council-meeting-13/
CATEGORIES:Committee
END:VEVENT
BEGIN:VEVENT
DTSTART;TZID=America/Chicago:20210810T180000
DTEND;TZID=America/Chicago:20210810T190000
DTSTAMP:20260420T182306
CREATED:20210801T185600Z
LAST-MODIFIED:20210802T185646Z
UID:1723-1628618400-1628622000@superioroslc.com
SUMMARY:Board meetings
DESCRIPTION:
URL:https://superioroslc.com/event/board-meetings/
CATEGORIES:Committee
END:VEVENT
BEGIN:VEVENT
DTSTART;TZID=America/Chicago:20210720T173000
DTEND;TZID=America/Chicago:20210720T183000
DTSTAMP:20260420T182306
CREATED:20210701T172926Z
LAST-MODIFIED:20210707T173832Z
UID:1665-1626802200-1626805800@superioroslc.com
SUMMARY:Council does NOT meet!
DESCRIPTION:
URL:https://superioroslc.com/event/council-does-not-meet/
CATEGORIES:Committee
END:VEVENT
BEGIN:VEVENT
DTSTART;TZID=America/Chicago:20210713T180000
DTEND;TZID=America/Chicago:20210713T180000
DTSTAMP:20260420T182306
CREATED:20210701T171746Z
LAST-MODIFIED:20210707T171845Z
UID:1641-1626199200-1626199200@superioroslc.com
SUMMARY:Boards do NOT meet!
DESCRIPTION:
URL:https://superioroslc.com/event/boards-do-not-meet/
CATEGORIES:Committee
END:VEVENT
BEGIN:VEVENT
DTSTART;TZID=America/Chicago:20210615T173000
DTEND;TZID=America/Chicago:20210615T183000
DTSTAMP:20260420T182306
CREATED:20210601T172702Z
LAST-MODIFIED:20210602T172737Z
UID:1586-1623778200-1623781800@superioroslc.com
SUMMARY:Council meeting
DESCRIPTION:
URL:https://superioroslc.com/event/council-meeting-12/
CATEGORIES:Committee
END:VEVENT
BEGIN:VEVENT
DTSTART;TZID=America/Chicago:20210608T173000
DTEND;TZID=America/Chicago:20210608T183000
DTSTAMP:20260420T182306
CREATED:20210601T172238Z
LAST-MODIFIED:20210602T172319Z
UID:1575-1623173400-1623177000@superioroslc.com
SUMMARY:All boards meeting
DESCRIPTION:
URL:https://superioroslc.com/event/all-boards-meeting-8/
CATEGORIES:Committee
END:VEVENT
BEGIN:VEVENT
DTSTART;TZID=America/Chicago:20210518T173000
DTEND;TZID=America/Chicago:20210518T183000
DTSTAMP:20260420T182306
CREATED:20210501T233936Z
LAST-MODIFIED:20210520T234028Z
UID:1544-1621359000-1621362600@superioroslc.com
SUMMARY:Council meeting
DESCRIPTION:
URL:https://superioroslc.com/event/council-meeting-11/
CATEGORIES:Committee
END:VEVENT
BEGIN:VEVENT
DTSTART;TZID=America/Chicago:20210511T180000
DTEND;TZID=America/Chicago:20210511T190000
DTSTAMP:20260420T182306
CREATED:20210501T233225Z
LAST-MODIFIED:20210520T233303Z
UID:1528-1620756000-1620759600@superioroslc.com
SUMMARY:All boards meetings
DESCRIPTION:
URL:https://superioroslc.com/event/all-boards-meetings-2/
CATEGORIES:Committee
END:VEVENT
BEGIN:VEVENT
DTSTART;TZID=America/Chicago:20210511T173000
DTEND;TZID=America/Chicago:20210511T180000
DTSTAMP:20260420T182306
CREATED:20210501T233134Z
LAST-MODIFIED:20210520T233216Z
UID:1526-1620754200-1620756000@superioroslc.com
SUMMARY:Executive Board
DESCRIPTION:
URL:https://superioroslc.com/event/executive-board/
CATEGORIES:Committee
END:VEVENT
BEGIN:VEVENT
DTSTART;TZID=America/Chicago:20210420T173000
DTEND;TZID=America/Chicago:20210420T183000
DTSTAMP:20260420T182306
CREATED:20210401T181240Z
LAST-MODIFIED:20210401T181240Z
UID:1440-1618939800-1618943400@superioroslc.com
SUMMARY:Council meeting
DESCRIPTION:
URL:https://superioroslc.com/event/council-meeting-10/
CATEGORIES:Committee
END:VEVENT
BEGIN:VEVENT
DTSTART;TZID=America/Chicago:20210413T180000
DTEND;TZID=America/Chicago:20210413T190000
DTSTAMP:20260420T182306
CREATED:20210401T180750Z
LAST-MODIFIED:20210401T180750Z
UID:1426-1618336800-1618340400@superioroslc.com
SUMMARY:All Boards meeting
DESCRIPTION:
URL:https://superioroslc.com/event/all-boards-meeting-7/
CATEGORIES:Committee
END:VEVENT
BEGIN:VEVENT
DTSTART;TZID=America/Chicago:20210316T173000
DTEND;TZID=America/Chicago:20210316T183000
DTSTAMP:20260420T182306
CREATED:20210301T221408Z
LAST-MODIFIED:20210302T221442Z
UID:1330-1615915800-1615919400@superioroslc.com
SUMMARY:Council meeting
DESCRIPTION:
URL:https://superioroslc.com/event/council-meeting-9/
CATEGORIES:Committee
END:VEVENT
BEGIN:VEVENT
DTSTART;TZID=America/Chicago:20210309T180000
DTEND;TZID=America/Chicago:20210309T190000
DTSTAMP:20260420T182306
CREATED:20210301T202859Z
LAST-MODIFIED:20210302T203548Z
UID:1311-1615312800-1615316400@superioroslc.com
SUMMARY:All Boards meetings
DESCRIPTION:
URL:https://superioroslc.com/event/all-boards-meetings/
CATEGORIES:Committee
END:VEVENT
BEGIN:VEVENT
DTSTART;TZID=America/Chicago:20210216T173000
DTEND;TZID=America/Chicago:20210216T183000
DTSTAMP:20260420T182306
CREATED:20210201T220013Z
LAST-MODIFIED:20210201T220013Z
UID:1231-1613496600-1613500200@superioroslc.com
SUMMARY:Council meeting
DESCRIPTION:
URL:https://superioroslc.com/event/council-meeting-8/
CATEGORIES:Committee
END:VEVENT
BEGIN:VEVENT
DTSTART;TZID=America/Chicago:20210209T180000
DTEND;TZID=America/Chicago:20210209T190000
DTSTAMP:20260420T182306
CREATED:20210201T215007Z
LAST-MODIFIED:20210201T215007Z
UID:1219-1612893600-1612897200@superioroslc.com
SUMMARY:All Boards meeting
DESCRIPTION:
URL:https://superioroslc.com/event/all-boards-meeting-6/
CATEGORIES:Committee
END:VEVENT
BEGIN:VEVENT
DTSTART;TZID=America/Chicago:20210209T173000
DTEND;TZID=America/Chicago:20210209T183000
DTSTAMP:20260420T182306
CREATED:20210201T214934Z
LAST-MODIFIED:20210201T214934Z
UID:1217-1612891800-1612895400@superioroslc.com
SUMMARY:Executive committee
DESCRIPTION:
URL:https://superioroslc.com/event/executive-committee/
CATEGORIES:Committee
END:VEVENT
BEGIN:VEVENT
DTSTART;TZID=America/Chicago:20201215T173000
DTEND;TZID=America/Chicago:20201215T183000
DTSTAMP:20260420T182306
CREATED:20201201T210457Z
LAST-MODIFIED:20201201T210457Z
UID:1056-1608053400-1608057000@superioroslc.com
SUMMARY:Council meeting
DESCRIPTION:
URL:https://superioroslc.com/event/council-meeting-7/
CATEGORIES:Committee
END:VEVENT
BEGIN:VEVENT
DTSTART;TZID=America/Chicago:20201117T173000
DTEND;TZID=America/Chicago:20201117T183000
DTSTAMP:20260420T182306
CREATED:20201101T173412Z
LAST-MODIFIED:20201101T173412Z
UID:979-1605634200-1605637800@superioroslc.com
SUMMARY:Council meeting
DESCRIPTION:
URL:https://superioroslc.com/event/council-meeting-6/
CATEGORIES:Committee
END:VEVENT
BEGIN:VEVENT
DTSTART;TZID=America/Chicago:20201110T180000
DTEND;TZID=America/Chicago:20201110T190000
DTSTAMP:20260420T182306
CREATED:20201101T173033Z
LAST-MODIFIED:20201101T173033Z
UID:969-1605031200-1605034800@superioroslc.com
SUMMARY:All boards meeting
DESCRIPTION:
URL:https://superioroslc.com/event/all-boards-meeting-5/
CATEGORIES:Committee
END:VEVENT
BEGIN:VEVENT
DTSTART;TZID=America/Chicago:20201110T173000
DTEND;TZID=America/Chicago:20201110T183000
DTSTAMP:20260420T182306
CREATED:20201101T172951Z
LAST-MODIFIED:20201101T172951Z
UID:967-1605029400-1605033000@superioroslc.com
SUMMARY:Executive board meeting
DESCRIPTION:
URL:https://superioroslc.com/event/executive-board-meeting-2/
CATEGORIES:Committee
END:VEVENT
BEGIN:VEVENT
DTSTART;TZID=America/Chicago:20201020T173000
DTEND;TZID=America/Chicago:20201020T183000
DTSTAMP:20260420T182306
CREATED:20201001T204027Z
LAST-MODIFIED:20201029T204100Z
UID:937-1603215000-1603218600@superioroslc.com
SUMMARY:Council meeting
DESCRIPTION:
URL:https://superioroslc.com/event/council-meeting-5/
CATEGORIES:Committee
END:VEVENT
BEGIN:VEVENT
DTSTART;TZID=America/Chicago:20201013T180000
DTEND;TZID=America/Chicago:20201013T190000
DTSTAMP:20260420T182306
CREATED:20201001T204108Z
LAST-MODIFIED:20201029T204156Z
UID:939-1602612000-1602615600@superioroslc.com
SUMMARY:All Boards meeting
DESCRIPTION:
URL:https://superioroslc.com/event/all-boards-meeting-4/
CATEGORIES:Committee
END:VEVENT
BEGIN:VEVENT
DTSTART;TZID=America/Chicago:20201013T173000
DTEND;TZID=America/Chicago:20201013T183000
DTSTAMP:20260420T182306
CREATED:20201001T194919Z
LAST-MODIFIED:20201029T195000Z
UID:925-1602610200-1602613800@superioroslc.com
SUMMARY:Executive Board meeting
DESCRIPTION:
URL:https://superioroslc.com/event/executive-board-meeting/
CATEGORIES:Committee
END:VEVENT
BEGIN:VEVENT
DTSTART;TZID=America/Chicago:20200818T173000
DTEND;TZID=America/Chicago:20200818T183000
DTSTAMP:20260420T182306
CREATED:20200801T173853Z
LAST-MODIFIED:20200806T173934Z
UID:716-1597771800-1597775400@superioroslc.com
SUMMARY:Council meeting
DESCRIPTION:
URL:https://superioroslc.com/event/council-meeting-4/
CATEGORIES:Committee
END:VEVENT
BEGIN:VEVENT
DTSTART;TZID=America/Chicago:20200811T180000
DTEND;TZID=America/Chicago:20200811T190000
DTSTAMP:20260420T182306
CREATED:20200801T173624Z
LAST-MODIFIED:20200806T173804Z
UID:712-1597168800-1597172400@superioroslc.com
SUMMARY:All boards meetings (varied)
DESCRIPTION:
URL:https://superioroslc.com/event/all-boards-meetings-varied/
CATEGORIES:Committee
END:VEVENT
BEGIN:VEVENT
DTSTART;TZID=America/Chicago:20200811T173000
DTEND;TZID=America/Chicago:20200811T180000
DTSTAMP:20260420T182306
CREATED:20200801T173809Z
LAST-MODIFIED:20200806T173848Z
UID:714-1597167000-1597168800@superioroslc.com
SUMMARY:Executive committee meeting
DESCRIPTION:
URL:https://superioroslc.com/event/executive-committee-meeting/
CATEGORIES:Committee
END:VEVENT
BEGIN:VEVENT
DTSTART;TZID=America/Chicago:20200623T173000
DTEND;TZID=America/Chicago:20200623T183000
DTSTAMP:20260420T182306
CREATED:20200601T201459Z
LAST-MODIFIED:20200623T201541Z
UID:611-1592933400-1592937000@superioroslc.com
SUMMARY:Reopening Committee
DESCRIPTION:
URL:https://superioroslc.com/event/reopening-committee/
CATEGORIES:Committee
END:VEVENT
BEGIN:VEVENT
DTSTART;TZID=America/Chicago:20200616T053000
DTEND;TZID=America/Chicago:20200616T183000
DTSTAMP:20260420T182306
CREATED:20200601T201007Z
LAST-MODIFIED:20200623T201054Z
UID:601-1592285400-1592332200@superioroslc.com
SUMMARY:Council meeting
DESCRIPTION:
URL:https://superioroslc.com/event/council-meeting-3/
CATEGORIES:Committee
END:VEVENT
BEGIN:VEVENT
DTSTART;TZID=America/Chicago:20200609T173000
DTEND;TZID=America/Chicago:20200609T183000
DTSTAMP:20260420T182306
CREATED:20200601T201104Z
LAST-MODIFIED:20200623T201146Z
UID:603-1591723800-1591727400@superioroslc.com
SUMMARY:All Boards meeting
DESCRIPTION:
URL:https://superioroslc.com/event/all-boards-meeting-3/
CATEGORIES:Committee
END:VEVENT
END:VCALENDAR