BEGIN:VCALENDAR
VERSION:2.0
PRODID:-//Our Savior&#039;s Lutheran Church - ECPv6.15.16//NONSGML v1.0//EN
CALSCALE:GREGORIAN
METHOD:PUBLISH
X-WR-CALNAME:Our Savior&#039;s Lutheran Church
X-ORIGINAL-URL:https://superioroslc.com
X-WR-CALDESC:Events for Our Savior&#039;s Lutheran Church
REFRESH-INTERVAL;VALUE=DURATION:PT1H
X-Robots-Tag:noindex
X-PUBLISHED-TTL:PT1H
BEGIN:VTIMEZONE
TZID:America/Chicago
BEGIN:DAYLIGHT
TZOFFSETFROM:-0600
TZOFFSETTO:-0500
TZNAME:CDT
DTSTART:20250309T080000
END:DAYLIGHT
BEGIN:STANDARD
TZOFFSETFROM:-0500
TZOFFSETTO:-0600
TZNAME:CST
DTSTART:20251102T070000
END:STANDARD
BEGIN:DAYLIGHT
TZOFFSETFROM:-0600
TZOFFSETTO:-0500
TZNAME:CDT
DTSTART:20260308T080000
END:DAYLIGHT
BEGIN:STANDARD
TZOFFSETFROM:-0500
TZOFFSETTO:-0600
TZNAME:CST
DTSTART:20261101T070000
END:STANDARD
BEGIN:DAYLIGHT
TZOFFSETFROM:-0600
TZOFFSETTO:-0500
TZNAME:CDT
DTSTART:20270314T080000
END:DAYLIGHT
BEGIN:STANDARD
TZOFFSETFROM:-0500
TZOFFSETTO:-0600
TZNAME:CST
DTSTART:20271107T070000
END:STANDARD
END:VTIMEZONE
BEGIN:VEVENT
DTSTART;TZID=America/Chicago:20260107T173000
DTEND;TZID=America/Chicago:20260107T183000
DTSTAMP:20260413T140846
CREATED:20260101T201520Z
LAST-MODIFIED:20260106T201600Z
UID:7603-1767807000-1767810600@superioroslc.com
SUMMARY:Music committee
DESCRIPTION:
URL:https://superioroslc.com/event/music-committee-25/
CATEGORIES:Committee
END:VEVENT
BEGIN:VEVENT
DTSTART;TZID=America/Chicago:20260113T163000
DTEND;TZID=America/Chicago:20260113T171500
DTSTAMP:20260413T140846
CREATED:20260101T202141Z
LAST-MODIFIED:20260106T202230Z
UID:7619-1768321800-1768324500@superioroslc.com
SUMMARY:Trustee meeting
DESCRIPTION:
URL:https://superioroslc.com/event/trustee-meeting/
CATEGORIES:Committee
END:VEVENT
BEGIN:VEVENT
DTSTART;TZID=America/Chicago:20260113T171500
DTEND;TZID=America/Chicago:20260113T181500
DTSTAMP:20260413T140846
CREATED:20260101T202235Z
LAST-MODIFIED:20260106T202331Z
UID:7621-1768324500-1768328100@superioroslc.com
SUMMARY:All boards meetings
DESCRIPTION:
URL:https://superioroslc.com/event/all-boards-meetings-40/
CATEGORIES:Committee
END:VEVENT
BEGIN:VEVENT
DTSTART;TZID=America/Chicago:20260120T171500
DTEND;TZID=America/Chicago:20260120T181500
DTSTAMP:20260413T140846
CREATED:20260101T203149Z
LAST-MODIFIED:20260106T203248Z
UID:7639-1768929300-1768932900@superioroslc.com
SUMMARY:Council meeting
DESCRIPTION:
URL:https://superioroslc.com/event/council-meeting-62/
CATEGORIES:Committee
END:VEVENT
END:VCALENDAR