BEGIN:VCALENDAR
VERSION:2.0
PRODID:-//Our Savior&#039;s Lutheran Church - ECPv6.15.16//NONSGML v1.0//EN
CALSCALE:GREGORIAN
METHOD:PUBLISH
X-WR-CALNAME:Our Savior&#039;s Lutheran Church
X-ORIGINAL-URL:https://superioroslc.com
X-WR-CALDESC:Events for Our Savior&#039;s Lutheran Church
REFRESH-INTERVAL;VALUE=DURATION:PT1H
X-Robots-Tag:noindex
X-PUBLISHED-TTL:PT1H
BEGIN:VTIMEZONE
TZID:America/Chicago
BEGIN:DAYLIGHT
TZOFFSETFROM:-0600
TZOFFSETTO:-0500
TZNAME:CDT
DTSTART:20210314T080000
END:DAYLIGHT
BEGIN:STANDARD
TZOFFSETFROM:-0500
TZOFFSETTO:-0600
TZNAME:CST
DTSTART:20211107T070000
END:STANDARD
BEGIN:DAYLIGHT
TZOFFSETFROM:-0600
TZOFFSETTO:-0500
TZNAME:CDT
DTSTART:20220313T080000
END:DAYLIGHT
BEGIN:STANDARD
TZOFFSETFROM:-0500
TZOFFSETTO:-0600
TZNAME:CST
DTSTART:20221106T070000
END:STANDARD
BEGIN:DAYLIGHT
TZOFFSETFROM:-0600
TZOFFSETTO:-0500
TZNAME:CDT
DTSTART:20230312T080000
END:DAYLIGHT
BEGIN:STANDARD
TZOFFSETFROM:-0500
TZOFFSETTO:-0600
TZNAME:CST
DTSTART:20231105T070000
END:STANDARD
END:VTIMEZONE
BEGIN:VTIMEZONE
TZID:UTC
BEGIN:STANDARD
TZOFFSETFROM:+0000
TZOFFSETTO:+0000
TZNAME:UTC
DTSTART:20210101T000000
END:STANDARD
END:VTIMEZONE
BEGIN:VEVENT
DTSTART;TZID=America/Chicago:20220403T083000
DTEND;TZID=America/Chicago:20220403T091500
DTSTAMP:20260425T062632
CREATED:20220401T171805Z
LAST-MODIFIED:20220502T171931Z
UID:2636-1648974600-1648977300@superioroslc.com
SUMMARY:Choir rehearsal
DESCRIPTION:
URL:https://superioroslc.com/event/choir-rehearsal-49/
CATEGORIES:Choir
END:VEVENT
BEGIN:VEVENT
DTSTART;TZID=America/Chicago:20220406T171500
DTEND;TZID=America/Chicago:20220406T181500
DTSTAMP:20260425T062632
CREATED:20220401T172717Z
LAST-MODIFIED:20220502T172822Z
UID:2650-1649265300-1649268900@superioroslc.com
SUMMARY:Choir rehearsal
DESCRIPTION:
URL:https://superioroslc.com/event/choir-rehearsal-50/
CATEGORIES:Choir
END:VEVENT
BEGIN:VEVENT
DTSTART;TZID=America/Chicago:20220410T083000
DTEND;TZID=America/Chicago:20220410T091500
DTSTAMP:20260425T062632
CREATED:20220401T172926Z
LAST-MODIFIED:20220502T173030Z
UID:2654-1649579400-1649582100@superioroslc.com
SUMMARY:Choir rehearsal
DESCRIPTION:
URL:https://superioroslc.com/event/choir-rehearsal-51/
CATEGORIES:Choir
END:VEVENT
BEGIN:VEVENT
DTSTART;TZID=America/Chicago:20220413T163000
DTEND;TZID=America/Chicago:20220413T173000
DTSTAMP:20260425T062632
CREATED:20220401T174013Z
LAST-MODIFIED:20220502T174147Z
UID:2670-1649867400-1649871000@superioroslc.com
SUMMARY:Choir rehearsal
DESCRIPTION:
URL:https://superioroslc.com/event/choir-rehearsal-52/
CATEGORIES:Choir
END:VEVENT
BEGIN:VEVENT
DTSTART;TZID=America/Chicago:20220414T171500
DTEND;TZID=America/Chicago:20220414T181500
DTSTAMP:20260425T062632
CREATED:20220401T174224Z
LAST-MODIFIED:20220502T174411Z
UID:2672-1649956500-1649960100@superioroslc.com
SUMMARY:Choir rehearsal
DESCRIPTION:
URL:https://superioroslc.com/event/choir-rehearsal-53/
CATEGORIES:Choir
END:VEVENT
BEGIN:VEVENT
DTSTART;VALUE=DATE:20220420
DTEND;VALUE=DATE:20220421
DTSTAMP:20260425T062632
CREATED:20220401T175433Z
LAST-MODIFIED:20220502T175513Z
UID:2688-1650412800-1650499199@superioroslc.com
SUMMARY:No choir
DESCRIPTION:
URL:https://superioroslc.com/event/no-choir-4/
CATEGORIES:Choir
END:VEVENT
BEGIN:VEVENT
DTSTART;VALUE=DATE:20220424
DTEND;VALUE=DATE:20220425
DTSTAMP:20260425T062632
CREATED:20220401T175522Z
LAST-MODIFIED:20220502T175604Z
UID:2690-1650758400-1650844799@superioroslc.com
SUMMARY:No choir
DESCRIPTION:
URL:https://superioroslc.com/event/no-choir-5/
CATEGORIES:Choir
END:VEVENT
BEGIN:VEVENT
DTSTART;TZID=America/Chicago:20220427T163000
DTEND;TZID=America/Chicago:20220427T173000
DTSTAMP:20260425T062632
CREATED:20220401T180348Z
LAST-MODIFIED:20220502T180432Z
UID:2706-1651077000-1651080600@superioroslc.com
SUMMARY:Choir rehearsal
DESCRIPTION:
URL:https://superioroslc.com/event/choir-rehearsal-54/
CATEGORIES:Choir
END:VEVENT
BEGIN:VEVENT
DTSTART;TZID=America/Chicago:20220501T083000
DTEND;TZID=America/Chicago:20220501T091500
DTSTAMP:20260425T062632
CREATED:20220501T182224Z
LAST-MODIFIED:20220502T182307Z
UID:2711-1651393800-1651396500@superioroslc.com
SUMMARY:Choir rehearsal
DESCRIPTION:
URL:https://superioroslc.com/event/choir-rehearsal-55/
CATEGORIES:Choir
END:VEVENT
BEGIN:VEVENT
DTSTART;TZID=America/Chicago:20220504T163000
DTEND;TZID=America/Chicago:20220504T173000
DTSTAMP:20260425T062632
CREATED:20220501T182750Z
LAST-MODIFIED:20220502T182823Z
UID:2725-1651681800-1651685400@superioroslc.com
SUMMARY:Choir rehearsal
DESCRIPTION:
URL:https://superioroslc.com/event/choir-rehearsal-56/
CATEGORIES:Choir
END:VEVENT
BEGIN:VEVENT
DTSTART;TZID=America/Chicago:20220508T083000
DTEND;TZID=America/Chicago:20220508T091500
DTSTAMP:20260425T062632
CREATED:20220501T183049Z
LAST-MODIFIED:20220502T183133Z
UID:2730-1651998600-1652001300@superioroslc.com
SUMMARY:Choir rehearsal
DESCRIPTION:
URL:https://superioroslc.com/event/choir-rehearsal-57/
CATEGORIES:Choir
END:VEVENT
BEGIN:VEVENT
DTSTART;TZID=America/Chicago:20220511T163000
DTEND;TZID=America/Chicago:20220511T173000
DTSTAMP:20260425T062632
CREATED:20220501T183751Z
LAST-MODIFIED:20220502T183825Z
UID:2748-1652286600-1652290200@superioroslc.com
SUMMARY:Choir rehearsal
DESCRIPTION:
URL:https://superioroslc.com/event/choir-rehearsal-58/
CATEGORIES:Choir
END:VEVENT
BEGIN:VEVENT
DTSTART;TZID=America/Chicago:20220515T083000
DTEND;TZID=America/Chicago:20220515T091500
DTSTAMP:20260425T062632
CREATED:20220501T183841Z
LAST-MODIFIED:20220502T183926Z
UID:2750-1652603400-1652606100@superioroslc.com
SUMMARY:Choir rehearsal
DESCRIPTION:
URL:https://superioroslc.com/event/choir-rehearsal-59/
CATEGORIES:Choir
END:VEVENT
BEGIN:VEVENT
DTSTART;TZID=America/Chicago:20220518T163000
DTEND;TZID=America/Chicago:20220518T173000
DTSTAMP:20260425T062632
CREATED:20220501T184315Z
LAST-MODIFIED:20220502T184355Z
UID:2762-1652891400-1652895000@superioroslc.com
SUMMARY:Choir rehearsal
DESCRIPTION:
URL:https://superioroslc.com/event/choir-rehearsal-60/
CATEGORIES:Choir
END:VEVENT
BEGIN:VEVENT
DTSTART;TZID=America/Chicago:20220522T083000
DTEND;TZID=America/Chicago:20220522T091500
DTSTAMP:20260425T062632
CREATED:20220501T184811Z
LAST-MODIFIED:20220502T184848Z
UID:2772-1653208200-1653210900@superioroslc.com
SUMMARY:Choir rehearsal
DESCRIPTION:
URL:https://superioroslc.com/event/choir-rehearsal-61/
CATEGORIES:Choir
END:VEVENT
BEGIN:VEVENT
DTSTART;TZID=UTC:20220918T084500
DTEND;TZID=UTC:20220918T091500
DTSTAMP:20260425T062632
CREATED:20220901T195551Z
LAST-MODIFIED:20220901T195551Z
UID:3048-1663490700-1663492500@superioroslc.com
SUMMARY:Choir rehearsal
DESCRIPTION:
URL:https://superioroslc.com/event/choir-rehearsal-62/
CATEGORIES:Choir
END:VEVENT
BEGIN:VEVENT
DTSTART;TZID=UTC:20220921T163000
DTEND;TZID=UTC:20220921T173000
DTSTAMP:20260425T062632
CREATED:20220901T200305Z
LAST-MODIFIED:20220901T200305Z
UID:3064-1663777800-1663781400@superioroslc.com
SUMMARY:Choir rehearsal
DESCRIPTION:
URL:https://superioroslc.com/event/choir-rehearsal-63/
CATEGORIES:Choir
END:VEVENT
BEGIN:VEVENT
DTSTART;TZID=UTC:20220925T084500
DTEND;TZID=UTC:20220925T091500
DTSTAMP:20260425T062632
CREATED:20220901T200449Z
LAST-MODIFIED:20220901T200449Z
UID:3068-1664095500-1664097300@superioroslc.com
SUMMARY:Choir rehearsal
DESCRIPTION:
URL:https://superioroslc.com/event/choir-rehearsal-64/
CATEGORIES:Choir
END:VEVENT
BEGIN:VEVENT
DTSTART;TZID=UTC:20220928T163000
DTEND;TZID=UTC:20220928T173000
DTSTAMP:20260425T062632
CREATED:20220901T200940Z
LAST-MODIFIED:20220901T200940Z
UID:3084-1664382600-1664386200@superioroslc.com
SUMMARY:Choir rehearsal
DESCRIPTION:
URL:https://superioroslc.com/event/choir-rehearsal-65/
CATEGORIES:Choir
END:VEVENT
BEGIN:VEVENT
DTSTART;TZID=UTC:20221002T083000
DTEND;TZID=UTC:20221002T091500
DTSTAMP:20260425T062632
CREATED:20221001T161622Z
LAST-MODIFIED:20221002T162003Z
UID:3117-1664699400-1664702100@superioroslc.com
SUMMARY:Choir rehearsal
DESCRIPTION:
URL:https://superioroslc.com/event/choir-rehearsal-66/
CATEGORIES:Choir
END:VEVENT
BEGIN:VEVENT
DTSTART;TZID=UTC:20221005T163000
DTEND;TZID=UTC:20221005T173000
DTSTAMP:20260425T062632
CREATED:20221001T162810Z
LAST-MODIFIED:20221002T162850Z
UID:3136-1664987400-1664991000@superioroslc.com
SUMMARY:Choir rehearsal
DESCRIPTION:
URL:https://superioroslc.com/event/choir-rehearsal-67/
CATEGORIES:Choir
END:VEVENT
BEGIN:VEVENT
DTSTART;TZID=UTC:20221006T180000
DTEND;TZID=UTC:20221006T200000
DTSTAMP:20260425T062632
CREATED:20221001T162908Z
LAST-MODIFIED:20221002T163010Z
UID:3138-1665079200-1665086400@superioroslc.com
SUMMARY:Superior Singers rehearsal
DESCRIPTION:
URL:https://superioroslc.com/event/superior-singers-rehearsal-3/
CATEGORIES:Choir
END:VEVENT
BEGIN:VEVENT
DTSTART;TZID=UTC:20221009T083000
DTEND;TZID=UTC:20221009T091500
DTSTAMP:20260425T062632
CREATED:20221001T163020Z
LAST-MODIFIED:20221002T163102Z
UID:3140-1665304200-1665306900@superioroslc.com
SUMMARY:Choir rehearsal
DESCRIPTION:
URL:https://superioroslc.com/event/choir-rehearsal-68/
CATEGORIES:Choir
END:VEVENT
BEGIN:VEVENT
DTSTART;TZID=UTC:20221012T163000
DTEND;TZID=UTC:20221012T173000
DTSTAMP:20260425T062632
CREATED:20221001T163802Z
LAST-MODIFIED:20221002T163836Z
UID:3158-1665592200-1665595800@superioroslc.com
SUMMARY:Choir rehearsal
DESCRIPTION:
URL:https://superioroslc.com/event/choir-rehearsal-69/
CATEGORIES:Choir
END:VEVENT
BEGIN:VEVENT
DTSTART;TZID=UTC:20221013T180000
DTEND;TZID=UTC:20221013T200000
DTSTAMP:20260425T062632
CREATED:20221001T163847Z
LAST-MODIFIED:20221002T163927Z
UID:3160-1665684000-1665691200@superioroslc.com
SUMMARY:Superior Singers rehearsal
DESCRIPTION:
URL:https://superioroslc.com/event/superior-singers-rehearsal-4/
CATEGORIES:Choir
END:VEVENT
BEGIN:VEVENT
DTSTART;TZID=UTC:20221016T083000
DTEND;TZID=UTC:20221016T091500
DTSTAMP:20260425T062632
CREATED:20221001T163938Z
LAST-MODIFIED:20221002T164020Z
UID:3162-1665909000-1665911700@superioroslc.com
SUMMARY:Choir rehearsal
DESCRIPTION:
URL:https://superioroslc.com/event/choir-rehearsal-70/
CATEGORIES:Choir
END:VEVENT
BEGIN:VEVENT
DTSTART;TZID=UTC:20221019T163000
DTEND;TZID=UTC:20221019T173000
DTSTAMP:20260425T062632
CREATED:20221001T164629Z
LAST-MODIFIED:20221002T164711Z
UID:3178-1666197000-1666200600@superioroslc.com
SUMMARY:Choir rehearsal
DESCRIPTION:
URL:https://superioroslc.com/event/choir-rehearsal-71/
CATEGORIES:Choir
END:VEVENT
BEGIN:VEVENT
DTSTART;TZID=UTC:20221020T180000
DTEND;TZID=UTC:20221020T200000
DTSTAMP:20260425T062632
CREATED:20221001T164721Z
LAST-MODIFIED:20221002T164801Z
UID:3180-1666288800-1666296000@superioroslc.com
SUMMARY:Superior Singers rehearsal
DESCRIPTION:
URL:https://superioroslc.com/event/superior-singers-rehearsal-5/
CATEGORIES:Choir
END:VEVENT
BEGIN:VEVENT
DTSTART;TZID=UTC:20221023T083000
DTEND;TZID=UTC:20221023T091500
DTSTAMP:20260425T062632
CREATED:20221001T165439Z
LAST-MODIFIED:20221002T165525Z
UID:3185-1666513800-1666516500@superioroslc.com
SUMMARY:Choir rehearsal
DESCRIPTION:
URL:https://superioroslc.com/event/choir-rehearsal-72/
CATEGORIES:Choir
END:VEVENT
BEGIN:VEVENT
DTSTART;TZID=UTC:20221026T163000
DTEND;TZID=UTC:20221026T173000
DTSTAMP:20260425T062632
CREATED:20221001T170222Z
LAST-MODIFIED:20221002T170256Z
UID:3203-1666801800-1666805400@superioroslc.com
SUMMARY:Choir rehearsal
DESCRIPTION:
URL:https://superioroslc.com/event/choir-rehearsal-73/
CATEGORIES:Choir
END:VEVENT
END:VCALENDAR