BEGIN:VCALENDAR
VERSION:2.0
PRODID:-//Our Savior&#039;s Lutheran Church - ECPv6.15.16//NONSGML v1.0//EN
CALSCALE:GREGORIAN
METHOD:PUBLISH
X-ORIGINAL-URL:https://superioroslc.com
X-WR-CALDESC:Events for Our Savior&#039;s Lutheran Church
REFRESH-INTERVAL;VALUE=DURATION:PT1H
X-Robots-Tag:noindex
X-PUBLISHED-TTL:PT1H
BEGIN:VTIMEZONE
TZID:America/Chicago
BEGIN:DAYLIGHT
TZOFFSETFROM:-0600
TZOFFSETTO:-0500
TZNAME:CDT
DTSTART:20210314T080000
END:DAYLIGHT
BEGIN:STANDARD
TZOFFSETFROM:-0500
TZOFFSETTO:-0600
TZNAME:CST
DTSTART:20211107T070000
END:STANDARD
BEGIN:DAYLIGHT
TZOFFSETFROM:-0600
TZOFFSETTO:-0500
TZNAME:CDT
DTSTART:20220313T080000
END:DAYLIGHT
BEGIN:STANDARD
TZOFFSETFROM:-0500
TZOFFSETTO:-0600
TZNAME:CST
DTSTART:20221106T070000
END:STANDARD
BEGIN:DAYLIGHT
TZOFFSETFROM:-0600
TZOFFSETTO:-0500
TZNAME:CDT
DTSTART:20230312T080000
END:DAYLIGHT
BEGIN:STANDARD
TZOFFSETFROM:-0500
TZOFFSETTO:-0600
TZNAME:CST
DTSTART:20231105T070000
END:STANDARD
END:VTIMEZONE
BEGIN:VEVENT
DTSTART;TZID=America/Chicago:20220123T084500
DTEND;TZID=America/Chicago:20220123T091500
DTSTAMP:20260425T093020
CREATED:20220101T162736Z
LAST-MODIFIED:20220103T162822Z
UID:2288-1642927500-1642929300@superioroslc.com
SUMMARY:Choir rehearsal
DESCRIPTION:
URL:https://superioroslc.com/event/choir-rehearsal-31/
CATEGORIES:Choir
END:VEVENT
BEGIN:VEVENT
DTSTART;TZID=America/Chicago:20220126T163000
DTEND;TZID=America/Chicago:20220126T173000
DTSTAMP:20260425T093020
CREATED:20220101T163314Z
LAST-MODIFIED:20220103T163345Z
UID:2302-1643214600-1643218200@superioroslc.com
SUMMARY:Choir rehearsal
DESCRIPTION:
URL:https://superioroslc.com/event/choir-rehearsal-32/
CATEGORIES:Choir
END:VEVENT
BEGIN:VEVENT
DTSTART;TZID=America/Chicago:20220130T084500
DTEND;TZID=America/Chicago:20220130T091500
DTSTAMP:20260425T093020
CREATED:20220101T163353Z
LAST-MODIFIED:20220103T163438Z
UID:2304-1643532300-1643534100@superioroslc.com
SUMMARY:Choir rehearsal
DESCRIPTION:
URL:https://superioroslc.com/event/choir-rehearsal-33/
CATEGORIES:Choir
END:VEVENT
BEGIN:VEVENT
DTSTART;TZID=America/Chicago:20220202T163000
DTEND;TZID=America/Chicago:20220202T173000
DTSTAMP:20260425T093020
CREATED:20220202T022059Z
LAST-MODIFIED:20220202T022059Z
UID:2363-1643819400-1643823000@superioroslc.com
SUMMARY:Choir rehearsal
DESCRIPTION:
URL:https://superioroslc.com/event/choir-rehearsal-34/
CATEGORIES:Choir
END:VEVENT
BEGIN:VEVENT
DTSTART;TZID=America/Chicago:20220206T083000
DTEND;TZID=America/Chicago:20220206T091500
DTSTAMP:20260425T093020
CREATED:20220202T022147Z
LAST-MODIFIED:20220202T022147Z
UID:2365-1644136200-1644138900@superioroslc.com
SUMMARY:Choir rehearsal
DESCRIPTION:
URL:https://superioroslc.com/event/choir-rehearsal-35/
CATEGORIES:Choir
END:VEVENT
BEGIN:VEVENT
DTSTART;TZID=America/Chicago:20220209T163000
DTEND;TZID=America/Chicago:20220209T173000
DTSTAMP:20260425T093020
CREATED:20220202T022707Z
LAST-MODIFIED:20220202T022707Z
UID:2379-1644424200-1644427800@superioroslc.com
SUMMARY:Choir rehearsal
DESCRIPTION:
URL:https://superioroslc.com/event/choir-rehearsal-36/
CATEGORIES:Choir
END:VEVENT
BEGIN:VEVENT
DTSTART;TZID=America/Chicago:20220216T163000
DTEND;TZID=America/Chicago:20220216T173000
DTSTAMP:20260425T093020
CREATED:20220202T023506Z
LAST-MODIFIED:20220202T023506Z
UID:2401-1645029000-1645032600@superioroslc.com
SUMMARY:Choir rehearsal
DESCRIPTION:
URL:https://superioroslc.com/event/choir-rehearsal-38/
CATEGORIES:Choir
END:VEVENT
BEGIN:VEVENT
DTSTART;TZID=America/Chicago:20220220T083000
DTEND;TZID=America/Chicago:20220220T091500
DTSTAMP:20260425T093020
CREATED:20220202T023644Z
LAST-MODIFIED:20220202T023644Z
UID:2405-1645345800-1645348500@superioroslc.com
SUMMARY:Choir rehearsal
DESCRIPTION:
URL:https://superioroslc.com/event/choir-rehearsal-39/
CATEGORIES:Choir
END:VEVENT
BEGIN:VEVENT
DTSTART;TZID=America/Chicago:20220223T163000
DTEND;TZID=America/Chicago:20220223T173000
DTSTAMP:20260425T093020
CREATED:20220202T024125Z
LAST-MODIFIED:20220202T024125Z
UID:2417-1645633800-1645637400@superioroslc.com
SUMMARY:Choir rehearsal
DESCRIPTION:
URL:https://superioroslc.com/event/choir-rehearsal-40/
CATEGORIES:Choir
END:VEVENT
BEGIN:VEVENT
DTSTART;TZID=America/Chicago:20220227T083000
DTEND;TZID=America/Chicago:20220227T091500
DTSTAMP:20260425T093020
CREATED:20220202T024221Z
LAST-MODIFIED:20220202T024221Z
UID:2419-1645950600-1645953300@superioroslc.com
SUMMARY:Choir rehearsal
DESCRIPTION:
URL:https://superioroslc.com/event/choir-rehearsal-41/
CATEGORIES:Choir
END:VEVENT
BEGIN:VEVENT
DTSTART;TZID=America/Chicago:20220302T171500
DTEND;TZID=America/Chicago:20220302T181500
DTSTAMP:20260425T093020
CREATED:20220302T173916Z
LAST-MODIFIED:20220302T173916Z
UID:2479-1646241300-1646244900@superioroslc.com
SUMMARY:Choir rehearsal
DESCRIPTION:
URL:https://superioroslc.com/event/choir-rehearsal-42/
CATEGORIES:Choir
END:VEVENT
BEGIN:VEVENT
DTSTART;TZID=America/Chicago:20220306T083000
DTEND;TZID=America/Chicago:20220306T091500
DTSTAMP:20260425T093020
CREATED:20220301T174145Z
LAST-MODIFIED:20220302T174239Z
UID:2485-1646555400-1646558100@superioroslc.com
SUMMARY:Choir rehearsal
DESCRIPTION:
URL:https://superioroslc.com/event/choir-rehearsal-43/
CATEGORIES:Choir
END:VEVENT
BEGIN:VEVENT
DTSTART;TZID=America/Chicago:20220309T171500
DTEND;TZID=America/Chicago:20220309T181500
DTSTAMP:20260425T093020
CREATED:20220301T175027Z
LAST-MODIFIED:20220302T175127Z
UID:2499-1646846100-1646849700@superioroslc.com
SUMMARY:Choir rehearsal
DESCRIPTION:
URL:https://superioroslc.com/event/choir-rehearsal-44/
CATEGORIES:Choir
END:VEVENT
BEGIN:VEVENT
DTSTART;TZID=America/Chicago:20220313T083000
DTEND;TZID=America/Chicago:20220313T091500
DTSTAMP:20260425T093020
CREATED:20220301T175346Z
LAST-MODIFIED:20220302T175429Z
UID:2505-1647160200-1647162900@superioroslc.com
SUMMARY:Choir rehearsal
DESCRIPTION:
URL:https://superioroslc.com/event/choir-rehearsal-45/
CATEGORIES:Choir
END:VEVENT
BEGIN:VEVENT
DTSTART;TZID=America/Chicago:20220316T163000
DTEND;TZID=America/Chicago:20220316T173000
DTSTAMP:20260425T093020
CREATED:20220301T182852Z
LAST-MODIFIED:20220302T183035Z
UID:2563-1647448200-1647451800@superioroslc.com
SUMMARY:Choir rehearsal
DESCRIPTION:
URL:https://superioroslc.com/event/choir-rehearsal-48/
CATEGORIES:Choir
END:VEVENT
BEGIN:VEVENT
DTSTART;TZID=America/Chicago:20220320T083000
DTEND;TZID=America/Chicago:20220320T091500
DTSTAMP:20260425T093020
CREATED:20220301T180510Z
LAST-MODIFIED:20220302T180602Z
UID:2523-1647765000-1647767700@superioroslc.com
SUMMARY:Choir rehearsal
DESCRIPTION:
URL:https://superioroslc.com/event/choir-rehearsal-46/
CATEGORIES:Choir
END:VEVENT
BEGIN:VEVENT
DTSTART;VALUE=DATE:20220323
DTEND;VALUE=DATE:20220324
DTSTAMP:20260425T093020
CREATED:20220301T181348Z
LAST-MODIFIED:20220302T181419Z
UID:2537-1647993600-1648079999@superioroslc.com
SUMMARY:No choir
DESCRIPTION:
URL:https://superioroslc.com/event/no-choir-2/
CATEGORIES:Choir
END:VEVENT
BEGIN:VEVENT
DTSTART;TZID=America/Chicago:20220327T083000
DTEND;TZID=America/Chicago:20220327T091500
DTSTAMP:20260425T093020
CREATED:20220301T181542Z
LAST-MODIFIED:20220302T181651Z
UID:2541-1648369800-1648372500@superioroslc.com
SUMMARY:Choir rehearsal
DESCRIPTION:
URL:https://superioroslc.com/event/choir-rehearsal-47/
CATEGORIES:Choir
END:VEVENT
BEGIN:VEVENT
DTSTART;VALUE=DATE:20220330
DTEND;VALUE=DATE:20220331
DTSTAMP:20260425T093020
CREATED:20220301T182255Z
LAST-MODIFIED:20220302T182327Z
UID:2555-1648598400-1648684799@superioroslc.com
SUMMARY:No choir
DESCRIPTION:
URL:https://superioroslc.com/event/no-choir-3/
CATEGORIES:Choir
END:VEVENT
BEGIN:VEVENT
DTSTART;TZID=America/Chicago:20220403T083000
DTEND;TZID=America/Chicago:20220403T091500
DTSTAMP:20260425T093020
CREATED:20220401T171805Z
LAST-MODIFIED:20220502T171931Z
UID:2636-1648974600-1648977300@superioroslc.com
SUMMARY:Choir rehearsal
DESCRIPTION:
URL:https://superioroslc.com/event/choir-rehearsal-49/
CATEGORIES:Choir
END:VEVENT
BEGIN:VEVENT
DTSTART;TZID=America/Chicago:20220406T171500
DTEND;TZID=America/Chicago:20220406T181500
DTSTAMP:20260425T093020
CREATED:20220401T172717Z
LAST-MODIFIED:20220502T172822Z
UID:2650-1649265300-1649268900@superioroslc.com
SUMMARY:Choir rehearsal
DESCRIPTION:
URL:https://superioroslc.com/event/choir-rehearsal-50/
CATEGORIES:Choir
END:VEVENT
BEGIN:VEVENT
DTSTART;TZID=America/Chicago:20220410T083000
DTEND;TZID=America/Chicago:20220410T091500
DTSTAMP:20260425T093020
CREATED:20220401T172926Z
LAST-MODIFIED:20220502T173030Z
UID:2654-1649579400-1649582100@superioroslc.com
SUMMARY:Choir rehearsal
DESCRIPTION:
URL:https://superioroslc.com/event/choir-rehearsal-51/
CATEGORIES:Choir
END:VEVENT
BEGIN:VEVENT
DTSTART;TZID=America/Chicago:20220413T163000
DTEND;TZID=America/Chicago:20220413T173000
DTSTAMP:20260425T093020
CREATED:20220401T174013Z
LAST-MODIFIED:20220502T174147Z
UID:2670-1649867400-1649871000@superioroslc.com
SUMMARY:Choir rehearsal
DESCRIPTION:
URL:https://superioroslc.com/event/choir-rehearsal-52/
CATEGORIES:Choir
END:VEVENT
BEGIN:VEVENT
DTSTART;TZID=America/Chicago:20220414T171500
DTEND;TZID=America/Chicago:20220414T181500
DTSTAMP:20260425T093020
CREATED:20220401T174224Z
LAST-MODIFIED:20220502T174411Z
UID:2672-1649956500-1649960100@superioroslc.com
SUMMARY:Choir rehearsal
DESCRIPTION:
URL:https://superioroslc.com/event/choir-rehearsal-53/
CATEGORIES:Choir
END:VEVENT
BEGIN:VEVENT
DTSTART;VALUE=DATE:20220420
DTEND;VALUE=DATE:20220421
DTSTAMP:20260425T093020
CREATED:20220401T175433Z
LAST-MODIFIED:20220502T175513Z
UID:2688-1650412800-1650499199@superioroslc.com
SUMMARY:No choir
DESCRIPTION:
URL:https://superioroslc.com/event/no-choir-4/
CATEGORIES:Choir
END:VEVENT
BEGIN:VEVENT
DTSTART;VALUE=DATE:20220424
DTEND;VALUE=DATE:20220425
DTSTAMP:20260425T093020
CREATED:20220401T175522Z
LAST-MODIFIED:20220502T175604Z
UID:2690-1650758400-1650844799@superioroslc.com
SUMMARY:No choir
DESCRIPTION:
URL:https://superioroslc.com/event/no-choir-5/
CATEGORIES:Choir
END:VEVENT
BEGIN:VEVENT
DTSTART;TZID=America/Chicago:20220427T163000
DTEND;TZID=America/Chicago:20220427T173000
DTSTAMP:20260425T093020
CREATED:20220401T180348Z
LAST-MODIFIED:20220502T180432Z
UID:2706-1651077000-1651080600@superioroslc.com
SUMMARY:Choir rehearsal
DESCRIPTION:
URL:https://superioroslc.com/event/choir-rehearsal-54/
CATEGORIES:Choir
END:VEVENT
BEGIN:VEVENT
DTSTART;TZID=America/Chicago:20220501T083000
DTEND;TZID=America/Chicago:20220501T091500
DTSTAMP:20260425T093020
CREATED:20220501T182224Z
LAST-MODIFIED:20220502T182307Z
UID:2711-1651393800-1651396500@superioroslc.com
SUMMARY:Choir rehearsal
DESCRIPTION:
URL:https://superioroslc.com/event/choir-rehearsal-55/
CATEGORIES:Choir
END:VEVENT
BEGIN:VEVENT
DTSTART;TZID=America/Chicago:20220504T163000
DTEND;TZID=America/Chicago:20220504T173000
DTSTAMP:20260425T093020
CREATED:20220501T182750Z
LAST-MODIFIED:20220502T182823Z
UID:2725-1651681800-1651685400@superioroslc.com
SUMMARY:Choir rehearsal
DESCRIPTION:
URL:https://superioroslc.com/event/choir-rehearsal-56/
CATEGORIES:Choir
END:VEVENT
BEGIN:VEVENT
DTSTART;TZID=America/Chicago:20220508T083000
DTEND;TZID=America/Chicago:20220508T091500
DTSTAMP:20260425T093020
CREATED:20220501T183049Z
LAST-MODIFIED:20220502T183133Z
UID:2730-1651998600-1652001300@superioroslc.com
SUMMARY:Choir rehearsal
DESCRIPTION:
URL:https://superioroslc.com/event/choir-rehearsal-57/
CATEGORIES:Choir
END:VEVENT
END:VCALENDAR