BEGIN:VCALENDAR
VERSION:2.0
PRODID:-//Our Savior&#039;s Lutheran Church - ECPv6.15.16//NONSGML v1.0//EN
CALSCALE:GREGORIAN
METHOD:PUBLISH
X-WR-CALNAME:Our Savior&#039;s Lutheran Church
X-ORIGINAL-URL:https://superioroslc.com
X-WR-CALDESC:Events for Our Savior&#039;s Lutheran Church
REFRESH-INTERVAL;VALUE=DURATION:PT1H
X-Robots-Tag:noindex
X-PUBLISHED-TTL:PT1H
BEGIN:VTIMEZONE
TZID:America/Chicago
BEGIN:DAYLIGHT
TZOFFSETFROM:-0600
TZOFFSETTO:-0500
TZNAME:CDT
DTSTART:20250309T080000
END:DAYLIGHT
BEGIN:STANDARD
TZOFFSETFROM:-0500
TZOFFSETTO:-0600
TZNAME:CST
DTSTART:20251102T070000
END:STANDARD
BEGIN:DAYLIGHT
TZOFFSETFROM:-0600
TZOFFSETTO:-0500
TZNAME:CDT
DTSTART:20260308T080000
END:DAYLIGHT
BEGIN:STANDARD
TZOFFSETFROM:-0500
TZOFFSETTO:-0600
TZNAME:CST
DTSTART:20261101T070000
END:STANDARD
BEGIN:DAYLIGHT
TZOFFSETFROM:-0600
TZOFFSETTO:-0500
TZNAME:CDT
DTSTART:20270314T080000
END:DAYLIGHT
BEGIN:STANDARD
TZOFFSETFROM:-0500
TZOFFSETTO:-0600
TZNAME:CST
DTSTART:20271107T070000
END:STANDARD
END:VTIMEZONE
BEGIN:VEVENT
DTSTART;TZID=America/Chicago:20260107T163000
DTEND;TZID=America/Chicago:20260107T173000
DTSTAMP:20260414T200830
CREATED:20260101T201439Z
LAST-MODIFIED:20260106T201511Z
UID:7601-1767803400-1767807000@superioroslc.com
SUMMARY:Choir rehearsal
DESCRIPTION:
URL:https://superioroslc.com/event/choir-rehearsal-294/
CATEGORIES:Choir
END:VEVENT
BEGIN:VEVENT
DTSTART;TZID=America/Chicago:20260111T084500
DTEND;TZID=America/Chicago:20260111T091500
DTSTAMP:20260414T200830
CREATED:20260101T201610Z
LAST-MODIFIED:20260106T201648Z
UID:7605-1768121100-1768122900@superioroslc.com
SUMMARY:Choir rehearsal
DESCRIPTION:
URL:https://superioroslc.com/event/choir-rehearsal-295/
CATEGORIES:Choir
END:VEVENT
BEGIN:VEVENT
DTSTART;TZID=America/Chicago:20260114T163000
DTEND;TZID=America/Chicago:20260114T173000
DTSTAMP:20260414T200830
CREATED:20260101T202709Z
LAST-MODIFIED:20260106T202750Z
UID:7629-1768408200-1768411800@superioroslc.com
SUMMARY:Choir rehearsal
DESCRIPTION:
URL:https://superioroslc.com/event/choir-rehearsal-297/
CATEGORIES:Choir
END:VEVENT
BEGIN:VEVENT
DTSTART;TZID=America/Chicago:20260118T084500
DTEND;TZID=America/Chicago:20260118T091500
DTSTAMP:20260414T200830
CREATED:20260101T202537Z
LAST-MODIFIED:20260106T202658Z
UID:7627-1768725900-1768727700@superioroslc.com
SUMMARY:Choir rehearsal
DESCRIPTION:
URL:https://superioroslc.com/event/choir-rehearsal-296/
CATEGORIES:Choir
END:VEVENT
BEGIN:VEVENT
DTSTART;TZID=America/Chicago:20260121T163000
DTEND;TZID=America/Chicago:20260121T173000
DTSTAMP:20260414T200830
CREATED:20260101T203452Z
LAST-MODIFIED:20260106T203530Z
UID:7646-1769013000-1769016600@superioroslc.com
SUMMARY:Choir rehearsal
DESCRIPTION:
URL:https://superioroslc.com/event/choir-rehearsal-298/
CATEGORIES:Choir
END:VEVENT
BEGIN:VEVENT
DTSTART;TZID=America/Chicago:20260125T084500
DTEND;TZID=America/Chicago:20260125T091500
DTSTAMP:20260414T200830
CREATED:20260101T203544Z
LAST-MODIFIED:20260106T203623Z
UID:7648-1769330700-1769332500@superioroslc.com
SUMMARY:Choir rehearsal
DESCRIPTION:
URL:https://superioroslc.com/event/choir-rehearsal-299/
CATEGORIES:Choir
END:VEVENT
BEGIN:VEVENT
DTSTART;TZID=America/Chicago:20260128T163000
DTEND;TZID=America/Chicago:20260128T173000
DTSTAMP:20260414T200830
CREATED:20260101T204302Z
LAST-MODIFIED:20260106T204337Z
UID:7666-1769617800-1769621400@superioroslc.com
SUMMARY:Choir rehearsal
DESCRIPTION:
URL:https://superioroslc.com/event/choir-rehearsal-300/
CATEGORIES:Choir
END:VEVENT
END:VCALENDAR