BEGIN:VCALENDAR
VERSION:2.0
PRODID:-//Our Savior&#039;s Lutheran Church - ECPv6.15.16//NONSGML v1.0//EN
CALSCALE:GREGORIAN
METHOD:PUBLISH
X-WR-CALNAME:Our Savior&#039;s Lutheran Church
X-ORIGINAL-URL:https://superioroslc.com
X-WR-CALDESC:Events for Our Savior&#039;s Lutheran Church
REFRESH-INTERVAL;VALUE=DURATION:PT1H
X-Robots-Tag:noindex
X-PUBLISHED-TTL:PT1H
BEGIN:VTIMEZONE
TZID:America/Chicago
BEGIN:DAYLIGHT
TZOFFSETFROM:-0600
TZOFFSETTO:-0500
TZNAME:CDT
DTSTART:20240310T080000
END:DAYLIGHT
BEGIN:STANDARD
TZOFFSETFROM:-0500
TZOFFSETTO:-0600
TZNAME:CST
DTSTART:20241103T070000
END:STANDARD
BEGIN:DAYLIGHT
TZOFFSETFROM:-0600
TZOFFSETTO:-0500
TZNAME:CDT
DTSTART:20250309T080000
END:DAYLIGHT
BEGIN:STANDARD
TZOFFSETFROM:-0500
TZOFFSETTO:-0600
TZNAME:CST
DTSTART:20251102T070000
END:STANDARD
BEGIN:DAYLIGHT
TZOFFSETFROM:-0600
TZOFFSETTO:-0500
TZNAME:CDT
DTSTART:20260308T080000
END:DAYLIGHT
BEGIN:STANDARD
TZOFFSETFROM:-0500
TZOFFSETTO:-0600
TZNAME:CST
DTSTART:20261101T070000
END:STANDARD
END:VTIMEZONE
BEGIN:VEVENT
DTSTART;TZID=America/Chicago:20250108T163000
DTEND;TZID=America/Chicago:20250108T173000
DTSTAMP:20260424T014923
CREATED:20250101T220313Z
LAST-MODIFIED:20250107T223333Z
UID:6321-1736353800-1736357400@superioroslc.com
SUMMARY:Choir rehearsal
DESCRIPTION:
URL:https://superioroslc.com/event/choir-rehearsal-218/
CATEGORIES:Choir
END:VEVENT
BEGIN:VEVENT
DTSTART;TZID=America/Chicago:20250112T084500
DTEND;TZID=America/Chicago:20250112T091500
DTSTAMP:20260424T014923
CREATED:20250101T220445Z
LAST-MODIFIED:20250107T220528Z
UID:6325-1736671500-1736673300@superioroslc.com
SUMMARY:Choir rehearsal
DESCRIPTION:
URL:https://superioroslc.com/event/choir-rehearsal-219/
CATEGORIES:Choir
END:VEVENT
BEGIN:VEVENT
DTSTART;TZID=America/Chicago:20250115T163000
DTEND;TZID=America/Chicago:20250115T173000
DTSTAMP:20260424T014923
CREATED:20250101T221130Z
LAST-MODIFIED:20250107T221203Z
UID:6341-1736958600-1736962200@superioroslc.com
SUMMARY:Choir rehearsal
DESCRIPTION:
URL:https://superioroslc.com/event/choir-rehearsal-220/
CATEGORIES:Choir
END:VEVENT
BEGIN:VEVENT
DTSTART;TZID=America/Chicago:20250119T084500
DTEND;TZID=America/Chicago:20250119T091500
DTSTAMP:20260424T014923
CREATED:20250101T221211Z
LAST-MODIFIED:20250107T221251Z
UID:6343-1737276300-1737278100@superioroslc.com
SUMMARY:Choir rehearsal
DESCRIPTION:
URL:https://superioroslc.com/event/choir-rehearsal-221/
CATEGORIES:Choir
END:VEVENT
BEGIN:VEVENT
DTSTART;TZID=America/Chicago:20250122T163000
DTEND;TZID=America/Chicago:20250122T173000
DTSTAMP:20260424T014923
CREATED:20250101T222057Z
LAST-MODIFIED:20250107T222129Z
UID:6361-1737563400-1737567000@superioroslc.com
SUMMARY:Choir rehearsal
DESCRIPTION:
URL:https://superioroslc.com/event/choir-rehearsal-222/
CATEGORIES:Choir
END:VEVENT
BEGIN:VEVENT
DTSTART;TZID=America/Chicago:20250126T084500
DTEND;TZID=America/Chicago:20250126T091500
DTSTAMP:20260424T014923
CREATED:20250101T222215Z
LAST-MODIFIED:20250107T222252Z
UID:6365-1737881100-1737882900@superioroslc.com
SUMMARY:Choir rehearsal
DESCRIPTION:
URL:https://superioroslc.com/event/choir-rehearsal-223/
CATEGORIES:Choir
END:VEVENT
BEGIN:VEVENT
DTSTART;TZID=America/Chicago:20250129T163000
DTEND;TZID=America/Chicago:20250129T173000
DTSTAMP:20260424T014923
CREATED:20250101T223022Z
LAST-MODIFIED:20250107T223055Z
UID:6385-1738168200-1738171800@superioroslc.com
SUMMARY:Choir rehearsal
DESCRIPTION:
URL:https://superioroslc.com/event/choir-rehearsal-224/
CATEGORIES:Choir
END:VEVENT
END:VCALENDAR