BEGIN:VCALENDAR
VERSION:2.0
PRODID:-//Our Savior&#039;s Lutheran Church - ECPv6.15.16//NONSGML v1.0//EN
CALSCALE:GREGORIAN
METHOD:PUBLISH
X-WR-CALNAME:Our Savior&#039;s Lutheran Church
X-ORIGINAL-URL:https://superioroslc.com
X-WR-CALDESC:Events for Our Savior&#039;s Lutheran Church
REFRESH-INTERVAL;VALUE=DURATION:PT1H
X-Robots-Tag:noindex
X-PUBLISHED-TTL:PT1H
BEGIN:VTIMEZONE
TZID:UTC
BEGIN:STANDARD
TZOFFSETFROM:+0000
TZOFFSETTO:+0000
TZNAME:UTC
DTSTART:20210101T000000
END:STANDARD
END:VTIMEZONE
BEGIN:VEVENT
DTSTART;TZID=UTC:20221002T083000
DTEND;TZID=UTC:20221002T091500
DTSTAMP:20260416T024339
CREATED:20221001T161622Z
LAST-MODIFIED:20221002T162003Z
UID:3117-1664699400-1664702100@superioroslc.com
SUMMARY:Choir rehearsal
DESCRIPTION:
URL:https://superioroslc.com/event/choir-rehearsal-66/
CATEGORIES:Choir
END:VEVENT
BEGIN:VEVENT
DTSTART;TZID=UTC:20221005T163000
DTEND;TZID=UTC:20221005T173000
DTSTAMP:20260416T024339
CREATED:20221001T162810Z
LAST-MODIFIED:20221002T162850Z
UID:3136-1664987400-1664991000@superioroslc.com
SUMMARY:Choir rehearsal
DESCRIPTION:
URL:https://superioroslc.com/event/choir-rehearsal-67/
CATEGORIES:Choir
END:VEVENT
BEGIN:VEVENT
DTSTART;TZID=UTC:20221006T180000
DTEND;TZID=UTC:20221006T200000
DTSTAMP:20260416T024339
CREATED:20221001T162908Z
LAST-MODIFIED:20221002T163010Z
UID:3138-1665079200-1665086400@superioroslc.com
SUMMARY:Superior Singers rehearsal
DESCRIPTION:
URL:https://superioroslc.com/event/superior-singers-rehearsal-3/
CATEGORIES:Choir
END:VEVENT
BEGIN:VEVENT
DTSTART;TZID=UTC:20221009T083000
DTEND;TZID=UTC:20221009T091500
DTSTAMP:20260416T024339
CREATED:20221001T163020Z
LAST-MODIFIED:20221002T163102Z
UID:3140-1665304200-1665306900@superioroslc.com
SUMMARY:Choir rehearsal
DESCRIPTION:
URL:https://superioroslc.com/event/choir-rehearsal-68/
CATEGORIES:Choir
END:VEVENT
BEGIN:VEVENT
DTSTART;TZID=UTC:20221012T163000
DTEND;TZID=UTC:20221012T173000
DTSTAMP:20260416T024339
CREATED:20221001T163802Z
LAST-MODIFIED:20221002T163836Z
UID:3158-1665592200-1665595800@superioroslc.com
SUMMARY:Choir rehearsal
DESCRIPTION:
URL:https://superioroslc.com/event/choir-rehearsal-69/
CATEGORIES:Choir
END:VEVENT
BEGIN:VEVENT
DTSTART;TZID=UTC:20221013T180000
DTEND;TZID=UTC:20221013T200000
DTSTAMP:20260416T024339
CREATED:20221001T163847Z
LAST-MODIFIED:20221002T163927Z
UID:3160-1665684000-1665691200@superioroslc.com
SUMMARY:Superior Singers rehearsal
DESCRIPTION:
URL:https://superioroslc.com/event/superior-singers-rehearsal-4/
CATEGORIES:Choir
END:VEVENT
BEGIN:VEVENT
DTSTART;TZID=UTC:20221016T083000
DTEND;TZID=UTC:20221016T091500
DTSTAMP:20260416T024339
CREATED:20221001T163938Z
LAST-MODIFIED:20221002T164020Z
UID:3162-1665909000-1665911700@superioroslc.com
SUMMARY:Choir rehearsal
DESCRIPTION:
URL:https://superioroslc.com/event/choir-rehearsal-70/
CATEGORIES:Choir
END:VEVENT
BEGIN:VEVENT
DTSTART;TZID=UTC:20221019T163000
DTEND;TZID=UTC:20221019T173000
DTSTAMP:20260416T024339
CREATED:20221001T164629Z
LAST-MODIFIED:20221002T164711Z
UID:3178-1666197000-1666200600@superioroslc.com
SUMMARY:Choir rehearsal
DESCRIPTION:
URL:https://superioroslc.com/event/choir-rehearsal-71/
CATEGORIES:Choir
END:VEVENT
BEGIN:VEVENT
DTSTART;TZID=UTC:20221020T180000
DTEND;TZID=UTC:20221020T200000
DTSTAMP:20260416T024339
CREATED:20221001T164721Z
LAST-MODIFIED:20221002T164801Z
UID:3180-1666288800-1666296000@superioroslc.com
SUMMARY:Superior Singers rehearsal
DESCRIPTION:
URL:https://superioroslc.com/event/superior-singers-rehearsal-5/
CATEGORIES:Choir
END:VEVENT
BEGIN:VEVENT
DTSTART;TZID=UTC:20221023T083000
DTEND;TZID=UTC:20221023T091500
DTSTAMP:20260416T024339
CREATED:20221001T165439Z
LAST-MODIFIED:20221002T165525Z
UID:3185-1666513800-1666516500@superioroslc.com
SUMMARY:Choir rehearsal
DESCRIPTION:
URL:https://superioroslc.com/event/choir-rehearsal-72/
CATEGORIES:Choir
END:VEVENT
BEGIN:VEVENT
DTSTART;TZID=UTC:20221026T163000
DTEND;TZID=UTC:20221026T173000
DTSTAMP:20260416T024339
CREATED:20221001T170222Z
LAST-MODIFIED:20221002T170256Z
UID:3203-1666801800-1666805400@superioroslc.com
SUMMARY:Choir rehearsal
DESCRIPTION:
URL:https://superioroslc.com/event/choir-rehearsal-73/
CATEGORIES:Choir
END:VEVENT
BEGIN:VEVENT
DTSTART;TZID=UTC:20221027T180000
DTEND;TZID=UTC:20221027T200000
DTSTAMP:20260416T024339
CREATED:20221001T170346Z
LAST-MODIFIED:20221002T170421Z
UID:3207-1666893600-1666900800@superioroslc.com
SUMMARY:Superior Singers rehearsal
DESCRIPTION:
URL:https://superioroslc.com/event/superior-singers-rehearsal-6/
CATEGORIES:Choir
END:VEVENT
BEGIN:VEVENT
DTSTART;TZID=UTC:20221030T083000
DTEND;TZID=UTC:20221030T091500
DTSTAMP:20260416T024339
CREATED:20221001T170429Z
LAST-MODIFIED:20221002T170509Z
UID:3209-1667118600-1667121300@superioroslc.com
SUMMARY:Choir rehearsal
DESCRIPTION:
URL:https://superioroslc.com/event/choir-rehearsal-74/
CATEGORIES:Choir
END:VEVENT
END:VCALENDAR