BEGIN:VCALENDAR
VERSION:2.0
PRODID:-//Our Savior&#039;s Lutheran Church - ECPv6.15.16//NONSGML v1.0//EN
CALSCALE:GREGORIAN
METHOD:PUBLISH
X-ORIGINAL-URL:https://superioroslc.com
X-WR-CALDESC:Events for Our Savior&#039;s Lutheran Church
REFRESH-INTERVAL;VALUE=DURATION:PT1H
X-Robots-Tag:noindex
X-PUBLISHED-TTL:PT1H
BEGIN:VTIMEZONE
TZID:America/Chicago
BEGIN:DAYLIGHT
TZOFFSETFROM:-0600
TZOFFSETTO:-0500
TZNAME:CDT
DTSTART:20210314T080000
END:DAYLIGHT
BEGIN:STANDARD
TZOFFSETFROM:-0500
TZOFFSETTO:-0600
TZNAME:CST
DTSTART:20211107T070000
END:STANDARD
BEGIN:DAYLIGHT
TZOFFSETFROM:-0600
TZOFFSETTO:-0500
TZNAME:CDT
DTSTART:20220313T080000
END:DAYLIGHT
BEGIN:STANDARD
TZOFFSETFROM:-0500
TZOFFSETTO:-0600
TZNAME:CST
DTSTART:20221106T070000
END:STANDARD
BEGIN:DAYLIGHT
TZOFFSETFROM:-0600
TZOFFSETTO:-0500
TZNAME:CDT
DTSTART:20230312T080000
END:DAYLIGHT
BEGIN:STANDARD
TZOFFSETFROM:-0500
TZOFFSETTO:-0600
TZNAME:CST
DTSTART:20231105T070000
END:STANDARD
END:VTIMEZONE
BEGIN:VEVENT
DTSTART;VALUE=DATE:20220102
DTEND;VALUE=DATE:20220103
DTSTAMP:20260424T140329
CREATED:20220101T155622Z
LAST-MODIFIED:20220103T155655Z
UID:2236-1641081600-1641167999@superioroslc.com
SUMMARY:NO CHOIR REHEARSAL
DESCRIPTION:
URL:https://superioroslc.com/event/no-choir-rehearsal-3/
CATEGORIES:Choir
END:VEVENT
BEGIN:VEVENT
DTSTART;TZID=America/Chicago:20220105T163000
DTEND;TZID=America/Chicago:20220105T173000
DTSTAMP:20260424T140329
CREATED:20220101T160249Z
LAST-MODIFIED:20220103T160319Z
UID:2250-1641400200-1641403800@superioroslc.com
SUMMARY:Choir rehearsal
DESCRIPTION:
URL:https://superioroslc.com/event/choir-rehearsal-26/
CATEGORIES:Choir
END:VEVENT
BEGIN:VEVENT
DTSTART;TZID=America/Chicago:20220109T084500
DTEND;TZID=America/Chicago:20220109T091500
DTSTAMP:20260424T140329
CREATED:20220101T160328Z
LAST-MODIFIED:20220103T160414Z
UID:2252-1641717900-1641719700@superioroslc.com
SUMMARY:Choir rehearsal
DESCRIPTION:
URL:https://superioroslc.com/event/choir-rehearsal-27/
CATEGORIES:Choir
END:VEVENT
BEGIN:VEVENT
DTSTART;TZID=America/Chicago:20220112T163000
DTEND;TZID=America/Chicago:20220112T173000
DTSTAMP:20260424T140329
CREATED:20220101T161701Z
LAST-MODIFIED:20220103T161732Z
UID:2268-1642005000-1642008600@superioroslc.com
SUMMARY:Choir rehearsal
DESCRIPTION:
URL:https://superioroslc.com/event/choir-rehearsal-28/
CATEGORIES:Choir
END:VEVENT
BEGIN:VEVENT
DTSTART;TZID=America/Chicago:20220116T084500
DTEND;TZID=America/Chicago:20220116T091500
DTSTAMP:20260424T140329
CREATED:20220101T162003Z
LAST-MODIFIED:20220103T162052Z
UID:2272-1642322700-1642324500@superioroslc.com
SUMMARY:Choir rehearsal
DESCRIPTION:
URL:https://superioroslc.com/event/choir-rehearsal-29/
CATEGORIES:Choir
END:VEVENT
BEGIN:VEVENT
DTSTART;TZID=America/Chicago:20220119T163000
DTEND;TZID=America/Chicago:20220119T173000
DTSTAMP:20260424T140329
CREATED:20220101T162647Z
LAST-MODIFIED:20220103T162722Z
UID:2286-1642609800-1642613400@superioroslc.com
SUMMARY:Choir rehearsal
DESCRIPTION:
URL:https://superioroslc.com/event/choir-rehearsal-30/
CATEGORIES:Choir
END:VEVENT
BEGIN:VEVENT
DTSTART;TZID=America/Chicago:20220123T084500
DTEND;TZID=America/Chicago:20220123T091500
DTSTAMP:20260424T140329
CREATED:20220101T162736Z
LAST-MODIFIED:20220103T162822Z
UID:2288-1642927500-1642929300@superioroslc.com
SUMMARY:Choir rehearsal
DESCRIPTION:
URL:https://superioroslc.com/event/choir-rehearsal-31/
CATEGORIES:Choir
END:VEVENT
BEGIN:VEVENT
DTSTART;TZID=America/Chicago:20220126T163000
DTEND;TZID=America/Chicago:20220126T173000
DTSTAMP:20260424T140329
CREATED:20220101T163314Z
LAST-MODIFIED:20220103T163345Z
UID:2302-1643214600-1643218200@superioroslc.com
SUMMARY:Choir rehearsal
DESCRIPTION:
URL:https://superioroslc.com/event/choir-rehearsal-32/
CATEGORIES:Choir
END:VEVENT
BEGIN:VEVENT
DTSTART;TZID=America/Chicago:20220130T084500
DTEND;TZID=America/Chicago:20220130T091500
DTSTAMP:20260424T140329
CREATED:20220101T163353Z
LAST-MODIFIED:20220103T163438Z
UID:2304-1643532300-1643534100@superioroslc.com
SUMMARY:Choir rehearsal
DESCRIPTION:
URL:https://superioroslc.com/event/choir-rehearsal-33/
CATEGORIES:Choir
END:VEVENT
END:VCALENDAR